BEGIN:VCALENDAR
VERSION:2.0
PRODID:-//Things To Lou - ECPv6.15.20//NONSGML v1.0//EN
CALSCALE:GREGORIAN
METHOD:PUBLISH
X-ORIGINAL-URL:https://things-to-lou.com
X-WR-CALDESC:Events for Things To Lou
REFRESH-INTERVAL;VALUE=DURATION:PT1H
X-Robots-Tag:noindex
X-PUBLISHED-TTL:PT1H
BEGIN:VTIMEZONE
TZID:America/New_York
BEGIN:DAYLIGHT
TZOFFSETFROM:-0500
TZOFFSETTO:-0400
TZNAME:EDT
DTSTART:20240310T070000
END:DAYLIGHT
BEGIN:STANDARD
TZOFFSETFROM:-0400
TZOFFSETTO:-0500
TZNAME:EST
DTSTART:20241103T060000
END:STANDARD
BEGIN:DAYLIGHT
TZOFFSETFROM:-0500
TZOFFSETTO:-0400
TZNAME:EDT
DTSTART:20250309T070000
END:DAYLIGHT
BEGIN:STANDARD
TZOFFSETFROM:-0400
TZOFFSETTO:-0500
TZNAME:EST
DTSTART:20251102T060000
END:STANDARD
BEGIN:DAYLIGHT
TZOFFSETFROM:-0500
TZOFFSETTO:-0400
TZNAME:EDT
DTSTART:20260308T070000
END:DAYLIGHT
BEGIN:STANDARD
TZOFFSETFROM:-0400
TZOFFSETTO:-0500
TZNAME:EST
DTSTART:20261101T060000
END:STANDARD
END:VTIMEZONE
BEGIN:VEVENT
DTSTART;TZID=America/New_York:20250708T180000
DTEND;TZID=America/New_York:20250708T210000
DTSTAMP:20260424T082952
CREATED:20250618T033558Z
LAST-MODIFIED:20250618T033558Z
UID:10002585-1751997600-1752008400@things-to-lou.com
SUMMARY:Nulu Clash of the Cocktails
DESCRIPTION:Event Description \nClash of the Cocktails returns Tuesday July 8th from 6-9pm at Lou Lou on Market with Bacardi 8 for a night of mixology madness. \nWatch as bartenders battle it out to create the most delicious and unique cocktails you’ve ever tasted. Sip on your favorite drinks and enjoy small bites while listening to the smooth sounds of Small Batch Brass Band from the balcony and enjoying the Lou Lou vibe on the patio. \nCome and cheer on your favorite contenders. It’s a showdown you won’t want to miss! Get ready to experience the ultimate cocktail competition in person at Lou Lou on Market. \nEvent is 21+ only. Each ticket includes samples from our competitors as well as small bites from Lou Lou on Market. Additional beverages are available for purchase at Lou Lou. \n  \nTue July 8\, 2025\nLou Lou on Market\nLouisville\, KY 40205 US
URL:https://things-to-lou.com/events/nulu-clash-of-the-cocktails-2/
LOCATION:Lou Lou on Market\, 812 E Market St\, Louisville\, KY\, 40206\, United States
CATEGORIES:Contest,Food & Drink,Mixology
END:VEVENT
END:VCALENDAR