BEGIN:VCALENDAR
VERSION:2.0
PRODID:-//Things To Lou - ECPv6.15.20//NONSGML v1.0//EN
CALSCALE:GREGORIAN
METHOD:PUBLISH
X-ORIGINAL-URL:https://things-to-lou.com
X-WR-CALDESC:Events for Things To Lou
REFRESH-INTERVAL;VALUE=DURATION:PT1H
X-Robots-Tag:noindex
X-PUBLISHED-TTL:PT1H
BEGIN:VTIMEZONE
TZID:America/New_York
BEGIN:DAYLIGHT
TZOFFSETFROM:-0500
TZOFFSETTO:-0400
TZNAME:EDT
DTSTART:20240310T070000
END:DAYLIGHT
BEGIN:STANDARD
TZOFFSETFROM:-0400
TZOFFSETTO:-0500
TZNAME:EST
DTSTART:20241103T060000
END:STANDARD
BEGIN:DAYLIGHT
TZOFFSETFROM:-0500
TZOFFSETTO:-0400
TZNAME:EDT
DTSTART:20250309T070000
END:DAYLIGHT
BEGIN:STANDARD
TZOFFSETFROM:-0400
TZOFFSETTO:-0500
TZNAME:EST
DTSTART:20251102T060000
END:STANDARD
BEGIN:DAYLIGHT
TZOFFSETFROM:-0500
TZOFFSETTO:-0400
TZNAME:EDT
DTSTART:20260308T070000
END:DAYLIGHT
BEGIN:STANDARD
TZOFFSETFROM:-0400
TZOFFSETTO:-0500
TZNAME:EST
DTSTART:20261101T060000
END:STANDARD
END:VTIMEZONE
BEGIN:VEVENT
DTSTART;TZID=America/New_York:20250709T000000
DTEND;TZID=America/New_York:20250711T235959
DTSTAMP:20260424T031530
CREATED:20250523T225422Z
LAST-MODIFIED:20250523T225422Z
UID:10002413-1752019200-1752278399@things-to-lou.com
SUMMARY:Pride Plates: A Taste of Kentucky’s Queer History | Food Tour | promo code! (multiple dates)
DESCRIPTION:Come out with us and explore the queer stories of Louisville’s past and present as you eat and drink your way down Bardstown Road\, Louisville’s gay epicenter! \n  \nBook your tour here!\n\nUse code “thingstolou10” to save 10%!\nAs you stroll through the lush avenues of historic Cherokee Triangle\, you’ll taste classic Kentucky bites such as fried chicken\, spoonbread\, and a Louisville Hot Brown paired with refreshing cocktails (or mocktails). Along the way\, you’ll uncover the diverse history of Kentucky’s Queer folx\, from a Black Prohibition-era drag queen to the poets\, authors\, and activists that paved the way for Kentucky’s Queer community. You’ll end your tour where the rest of your night begins\, at the city’s best gay bars. \n\nSUMMARY: \nDistance: 1.5 miles\, flat\nDuration: 3 hours\nFood Stops: 4 stops for local dishes & drinks\nCapacity: 12 per tour\nTime: 5-8 PM\nAccessibility: Wheelchair and stroller friendly \n\nExplore the Highlands\nThe Highlands is one of Louisville’s oldest neighborhoods – and its most quirky. As the gay epicenter of Louisville\, it’s also home to the annual Louisville Pride Festival\, and several of Louisville’s best gay bars – in fact\, your tour will leave you right by them to continue your evening! \nWhere\nMeet outside of 1321 Bardstown Rd\, Louisville\, KY 40204 \nWhen​\nWeds – Friday\, 5-8 PM \n\nWhat’s This Tour All About?\nIs it a food tour or a queer history tour? The answer\, of course\, is both! This tour is the perfect blend of tastes and tales\, exploring Louisville and Kentucky’s LBTQ+ history and queer community along with a taste of its culinary heritage. \nOver the 3 hours you’ll spend with us\, you’ll get … \n\n4 Delicious dishes representing Louisville & Kentucky\n5 Refreshing bourbon cocktails\nFascinating stories of Kentucky’s queer history and its home-grown artists\, authors\, and activists\nAudio headset (to help you hear your guide)\n\n 
URL:https://things-to-lou.com/events/pride-plates-a-taste-of-kentuckys-queer-history-food-tour-promo-code-multiple-dates-14/
LOCATION:KY
CATEGORIES:LGBTQIA+,PROMO CODE,Walking Tour / Food Tour
END:VEVENT
BEGIN:VEVENT
DTSTART;TZID=America/New_York:20250709T000000
DTEND;TZID=America/New_York:20250712T235959
DTSTAMP:20260424T031530
CREATED:20250524T000021Z
LAST-MODIFIED:20250524T000021Z
UID:10002461-1752019200-1752364799@things-to-lou.com
SUMMARY:Downtown Derby City Food & History Tour | multiple dates | *promo code!*
DESCRIPTION:Take a delicious stroll through the heart of downtown Louisville. As you walk along iconic Whiskey Row and Museum Row\, you’ll enjoy classic dishes and drinks that define Louisville’s flavor\, all while learning about the city’s fascinating past. \nWe took this tour! Here is a preview! \n  \nBook your tour here!\n\nUse code “thingstolou10” to save 10%!\n  \n\nTaste quintessential Kentucky dishes and desserts including the Hot Brown\, Derby Pie\, and Modjeskas\nSip on iconic Louisville drinks\, including bourbon cocktails and barrel-aged beer.\nExplore historic Whiskey Row and Museum Row with an expert guide.\nLearn the stories behind Louisville’s fascinating history and the legends who shaped it.\n\n  \nQUICK DETAILS \n\nDistance: 1.5 miles\nDuration: 3 hours\nFood Stops: 5 stops\nCapacity: 12\nTime: 11:30 AM\, Wed-Sat\nAccessibility: All ages\, wheelchair & stroller friendly\n\n  \nWhat to Expect\nThis tour includes 5 stops for food & drinks. Here’s what else to expect: \nPhotos\nThink of our guides as your personal photographers. \nFood & Drinks\nAll included with your ticket – so come hungry & thirsty! (Mocktails also available) \nSmall Group\nOur public tours max out at 12 people for a more personalized experience. \nAudio Headset​\nTo help hear your expert guide\, even from a distance. \nWalking\n1.5 Miles. Wear comfy shoes!
URL:https://things-to-lou.com/events/downtown-derby-city-food-history-tour-multiple-dates-promo-code-24/
LOCATION:KY
CATEGORIES:Walking Tour / Food Tour
ATTACH;FMTTYPE=image/jpeg:https://things-to-lou.com/wp-content/uploads/2025/05/FULL-SIZE-Downtown-64.jpg
END:VEVENT
END:VCALENDAR