BEGIN:VCALENDAR
VERSION:2.0
PRODID:-//Things To Lou - ECPv6.15.20//NONSGML v1.0//EN
CALSCALE:GREGORIAN
METHOD:PUBLISH
X-WR-CALNAME:Things To Lou
X-ORIGINAL-URL:https://things-to-lou.com
X-WR-CALDESC:Events for Things To Lou
REFRESH-INTERVAL;VALUE=DURATION:PT1H
X-Robots-Tag:noindex
X-PUBLISHED-TTL:PT1H
BEGIN:VTIMEZONE
TZID:America/New_York
BEGIN:DAYLIGHT
TZOFFSETFROM:-0500
TZOFFSETTO:-0400
TZNAME:EDT
DTSTART:20240310T070000
END:DAYLIGHT
BEGIN:STANDARD
TZOFFSETFROM:-0400
TZOFFSETTO:-0500
TZNAME:EST
DTSTART:20241103T060000
END:STANDARD
BEGIN:DAYLIGHT
TZOFFSETFROM:-0500
TZOFFSETTO:-0400
TZNAME:EDT
DTSTART:20250309T070000
END:DAYLIGHT
BEGIN:STANDARD
TZOFFSETFROM:-0400
TZOFFSETTO:-0500
TZNAME:EST
DTSTART:20251102T060000
END:STANDARD
BEGIN:DAYLIGHT
TZOFFSETFROM:-0500
TZOFFSETTO:-0400
TZNAME:EDT
DTSTART:20260308T070000
END:DAYLIGHT
BEGIN:STANDARD
TZOFFSETFROM:-0400
TZOFFSETTO:-0500
TZNAME:EST
DTSTART:20261101T060000
END:STANDARD
END:VTIMEZONE
BEGIN:VEVENT
DTSTART;TZID=America/New_York:20250927T000000
DTEND;TZID=America/New_York:20251030T235959
DTSTAMP:20260422T150848
CREATED:20251014T165706Z
LAST-MODIFIED:20251014T165706Z
UID:10003102-1758931200-1761868799@things-to-lou.com
SUMMARY:Boo at the Zoo 2025 (multiple dates) (family-friendly)
DESCRIPTION:Join us for the sweetest party in town! \nBoo at the Zoo features trick-or-treating for kids 11-and-under\, rides\, and special attractions all for one great price. \nLouisville tradition for over 40 years\, this party experience is designed to give you all the merry you love with none of the scary. \nSept. 27–28 &\nOct. 2–5\, 9–12\, 16–19\, 23–26 & 30 \nNightly 5–9 p.m. Exit by 10 p.m.\n*** Allergy Friendly Night – Oct. 22 (details below) *** (limited tickets)\n*** Sensory Friendly Night – Oct. 29 (details below) *** (limited tickets) \n\n\nAllergy Friendly Night  – Wednesday\, Oct. 22\, 2025 (entry 5 – 7:30 p.m.\, exit by 8:30 p.m.)\n\nThis special night features peanut-free treat booths and added non-food treats like stickers\, tattoos\, pencils and more.\n\n\nSensory Friendly Night – Wednesday\, Oct. 29\, 2025 (entry 5 – 6:30 p.m.\, lasts until 8 p.m.)\n\nJoin us for a sensory-friendly trick-or-treating experience with fewer lights\, lower music and smaller crowds. Tickets are very limited\, be sure to purchase early to reserve your spot.\n\n\n\n\nTickets Required \nLouisville Zoo Members – $7.25\nNon-members – $13.75\nAge 2 and Under  -FREE\nMeijer Anytime Tickets- $11.75 AVAILABLE AT PARTICIPATING LOCATIONS \n  \n***description from website
URL:https://things-to-lou.com/events/boo-at-the-zoo-2025-multiple-dates-family-friendly/
LOCATION:Louisville Zoo\, 1100 Trevilian Way\, Louisville\, KY\, 40213\, United States
CATEGORIES:Family & Children
END:VEVENT
BEGIN:VEVENT
DTSTART;TZID=America/New_York:20251002T000000
DTEND;TZID=America/New_York:20251102T235959
DTSTAMP:20260422T150848
CREATED:20250912T204521Z
LAST-MODIFIED:20250912T204521Z
UID:10003035-1759363200-1762127999@things-to-lou.com
SUMMARY:Jack O Lantern Spectacular
DESCRIPTION:The 2025 Louisville Jack O’Lantern Spectacular returns for its 13th season at Iroquois Park\, lighting up the night with thousands of intricately carved pumpkins. \nVisitors will journey along an illuminated path filled with themed displays all set to a captivating soundtrack. With family-friendly activities\, seasonal treats\, and plenty of photo opportunities\, it’s the perfect fall tradition for all ages. \nAs the Park Alliance of Louisville’s annual fundraising event\, the Spectacular helps support the city’s public parks and park projects. \nGET TICKETS
URL:https://things-to-lou.com/events/jack-o-lantern-spectacular/
LOCATION:Iroquois Park\, 1080 Amphitheater Rd\, Louisville\, KY\, 40214\, United States
CATEGORIES:Family & Children
END:VEVENT
BEGIN:VEVENT
DTSTART;TZID=America/New_York:20251020T000000
DTEND;TZID=America/New_York:20251026T235959
DTSTAMP:20260422T150848
CREATED:20251018T023348Z
LAST-MODIFIED:20251018T023348Z
UID:10003115-1760918400-1761523199@things-to-lou.com
SUMMARY:Hot Brown Week
DESCRIPTION:Louisville Hot Brown Week offers a unique celebration of a Louisville staple – The Kentucky Hot Brown. \nBrought to you in partnership with Louisville Tourism and LEO Weekly\, you can spend seven days paying homage to a Louisville classic\, the Hot Brown! Each participating restaurant will serve up their own spin on hot browns – from signature hot browns to secret menu specialties and more – all at $10-$12 deals. \nSpend the week embracing the food\, culture and enjoying the hometown love while trying new places or returning to your favorites. \nLouisville Hot Brown Week\nOctober 20-26\, 2025 \n***description from website
URL:https://things-to-lou.com/events/hot-brown-week-2/
LOCATION:Various
CATEGORIES:Food & Drink,Local Culture
END:VEVENT
BEGIN:VEVENT
DTSTART;TZID=America/New_York:20251023T000000
DTEND;TZID=America/New_York:20251031T235959
DTSTAMP:20260422T150848
CREATED:20251015T050142Z
LAST-MODIFIED:20251015T051817Z
UID:10003108-1761177600-1761955199@things-to-lou.com
SUMMARY:Nightmare on Liberty St (Halloween Pop-Up) (multiple dates)
DESCRIPTION:Event Name:\nNightmare on Liberty St \nEvent Date:\nOct 23-31\, 2025 \nWebsite / Ticket Link:\nprovaspirits.com \nLocation:\n917 E Liberty St Louisville KY 40204 \nEvent Host:\nProva Spirits \nEvent Description / Other Info:\nHalloween Pop-Up at Prova Spirits \nJoin us at Prova Spirits for a festive Halloween pop-up filled with spooky charm and seasonal spirit. \nEnjoy our Halloween-themed cocktails\, hauntingly fun décor\, and a few special treats for our furry friends\, including pup cups for your costumed companions. Runs from Oct 23rd to Oct 31st. \nBring your friends—two- or four-legged—and raise a glass to a spirited night of Halloween fun at Prova. 🎃✨
URL:https://things-to-lou.com/events/nightmare-on-liberty-st-halloween-pop-up-multiple-dates/
LOCATION:Prova Spirits\, 917 E Liberty St\, Louisville\, KY\, 40204\, United States
CATEGORIES:Food & Drink,Mixology,Pets
ATTACH;FMTTYPE=image/jpeg:https://things-to-lou.com/wp-content/uploads/2025/10/7cbcd422-ebae-4c09-9bf1-dcf5064ddc44-e1760504531556.jpeg
ORGANIZER;CN="Prova Spirits":MAILTO:sales@provaspirits.com
END:VEVENT
BEGIN:VEVENT
DTSTART;TZID=America/New_York:20251025T000000
DTEND;TZID=America/New_York:20251026T235959
DTSTAMP:20260422T150848
CREATED:20251014T162610Z
LAST-MODIFIED:20251014T162610Z
UID:10003101-1761350400-1761523199@things-to-lou.com
SUMMARY:Meet Your Maker | arts & crafts festival
DESCRIPTION:Spend a fall weekend celebrating Kentucky’s makers at Meet Your Maker 2025—Hermitage Farm’s annual arts & crafts fair in Goshen\, KY. \nStroll our historic grounds and shop from 100+ artists and craftsmen working in ceramics\, wood\, fiber\, jewelry\, printmaking\, fine art\, and more. \nMeet the people behind the work\, watch process demos\, and discover one-of-a-kind pieces you won’t find anywhere else. \n\nDates & Time: Saturday–Sunday\, October 25–26\, 2025 • 11:00 AM–5:00 PM\nLocation: Hermitage Farm\, Goshen\, Kentucky\nAdmission: Free & family-friendly\n\nWho’s it for: art lovers\, gift hunters\, design fans\, and anyone who loves supporting independent makers \nCome for the craft; stay for the fall atmosphere\, great conversation\, and a chance to support regional creativity directly. Follow @MeetYourMakerKY for previews\, vendor spotlights\, and day-of updates. \nQuestions? MeetYourMaker@HermitageFarm.com \n***description from Facebook event
URL:https://things-to-lou.com/events/meet-your-maker-arts-crafts-festival/
LOCATION:Hermitage Farm\, 10500 US-42\, Goshen\, KY\, 40026\, United States
CATEGORIES:Art,Family & Children,Market,Shopping
END:VEVENT
BEGIN:VEVENT
DTSTART;TZID=America/New_York:20251026T120000
DTEND;TZID=America/New_York:20251026T150000
DTSTAMP:20260422T150848
CREATED:20251024T183614Z
LAST-MODIFIED:20251024T184106Z
UID:10003145-1761480000-1761490800@things-to-lou.com
SUMMARY:Salsarita’s Hosts Día de la Disco | A Family-Friendly Silent Disco Supporting the Kentucky Humane Society!
DESCRIPTION:Get ready to dance\, dine\, and celebrate life at Salsarita’s Día de la Disco! Join us for a vibrant\, family-friendly free Silent Disco filled with color\, culture\, and community spirit at our St. Matthews location on N. Hubbards Lane. \nThis festive event invites families and friends to come together for an unforgettable afternoon of music\, fun\, and giving back. \nGuests can enjoy Salsarita’s signature tacos\, burritos\, chips\, and queso (available for purchase)\, all while knowing 15% of proceeds are benefiting our furry friends at the KY Humane Society! \nCheck out the Facebook event here! \n\nWhat to Expect:\n👻 Costume fun- kids and families are encouraged to dress up! \n🌮 Delicious eats and fall favorites from Salsarita’s Fresh Mexican Grill for purchase \n🐾 15% of proceeds donated to the Kentucky Humane Society \n🎶 A Silent Disco with a DJ playing 3 different music channels: \n\nDisney’s Coco vibes + Halloween favorites\nPop hits\nThrowbacks for the parents\n\n🎉 Kids Eat Free every Sunday with adult purchase in the Salsarita’s app \n✨ Free & open to the public! \n\n“Día de la Disco is our way of mixing a little Halloween spirit with a lot of heart\,” said Aubrey Bourgeois\, Marketing Director at Salsarita’s.\n“It’s a chance to dance in costume\, snack on tacos\, and support our furry friends\, all in true Salsarita’s style. We’re turning up the music\, turning on the fun\, and inviting everyone to join the fiesta!”\n\nEvent Details:\n📍 Salsarita’s Fresh Mexican Grill – St. Matthews (N. Hubbards Ln.) \n📅 Sunday\, October 26th from 12 PM – 3 PM \n💵 Free Admission | Family-Friendly | Costumes Encouraged \n  \nFor more information\, visit Dia De La Disco! A Silent Disco Benefiting the KY Humane Society!  on Facebook for event details! \nFollow @LouisvilleSalsaritas on social media! \n  \n***description from press release
URL:https://things-to-lou.com/events/salsaritas-hosts-dia-de-la-disco-a-family-friendly-silent-disco-supporting-the-kentucky-humane-society/
LOCATION:alsarita’s Fresh Mexican Grill – St. Matthews\, 285 N Hubbards Lane\, Louisville\, KY\, 40207\, United States
CATEGORIES:Family & Children,Food & Drink,Pets,Silent DIsco
END:VEVENT
BEGIN:VEVENT
DTSTART;TZID=America/New_York:20251026T130000
DTEND;TZID=America/New_York:20251026T200000
DTSTAMP:20260422T150848
CREATED:20251010T165725Z
LAST-MODIFIED:20251010T165800Z
UID:10003083-1761483600-1761508800@things-to-lou.com
SUMMARY:Pumpkins at Kentucky Kingdom *promo code!*
DESCRIPTION:Pumpkins at Kentucky Kingdom is a family-friendly fall festival open Thursday-Sunday through October 26. \nUse the link: https://bit.ly/KentuckyKingdomPumpkins_thingstolou \nand use promo code “THINGSTOLOU35” for admission and unlimited soft drinks – for only 34.99! 🥤 \n\nWe recently visited Pumpkins at Kentucky Kingdom presented by Humana!\nCheck out our video here!\n\nPlay MORE Days & Glow MORE Nights \nDon’t miss out on the annual family friendly fall festival\, Pumpkins at Kentucky Kingdom! Our festival is growing\, with even MORE days to play! Over 1\,000 bright orange pumpkins will appear all over the park\, inviting you to play all day on world-class rides and explore fall-themed fun like games\, street performances\, and colorful characters. Stay after sundown to watch the park transform into a whimsical wonderland of glow featuring larger-than-life pumpkin sculptures! \nDiscover play days and glow nights during Pumpkins at Kentucky Kingdom\, glowing Thursday through Sunday\, October 3 – 26! \nWater rides and select other attractions may be closed during Pumpkins at Kentucky Kingdom. \n  \n***Description from website
URL:https://things-to-lou.com/events/pumpkins-at-kentucky-kingdom-promo-code-6/
LOCATION:Kentucky Kingdom and Hurricane Bay\, 937 Phillips Lane\, Louisville\, KY\, 40209\, United States
CATEGORIES:Family & Children,PROMO CODE
ATTACH;FMTTYPE=image/jpeg:https://things-to-lou.com/wp-content/uploads/2025/10/IMG_2652-e1759878246846.jpg
END:VEVENT
BEGIN:VEVENT
DTSTART;TZID=America/New_York:20251026T160000
DTEND;TZID=America/New_York:20251026T180000
DTSTAMP:20260422T150848
CREATED:20251023T023926Z
LAST-MODIFIED:20251023T023938Z
UID:10003141-1761494400-1761501600@things-to-lou.com
SUMMARY:Jubilee Hoedown with Yelp Louisville
DESCRIPTION:Event Name:\nJubilee Hoedown \nEvent Date:\n2025-10-26 \nWebsite / Ticket Link:\nhttps://www.yelp.com/events/louisville-jubilee-hoedown \nLocation:\nJubilee Field 529 E Burnett Ave\, Louisville\, KY 40217 \nEvent Host:\nYelp Louisville + Jubilee Field \nEvent Description / Other Info:\nReady for a good ol’ time? Join us for a free event at Jubilee Field for the Jubilee Hoedown! \nStart the evening with an upbeat hour of a contra dance lesson and social (all skill levels welcome)\, then discover delicious complimentary sips at their gorgeous bar and yummy eats from the My Three Sons food truck out on their lawn. \nAll guests must RSVP and be confirmed through the event page or via the link in @YelpLouisville Instagram bio.
URL:https://things-to-lou.com/events/jubilee-hoedown-with-yelp-louisville/
LOCATION:Jubilee Field\, 529 E Burnett Ave\, Louisville\, KY\, 40217\, United States
CATEGORIES:Dance,Food & Drink
ATTACH;FMTTYPE=image/png:https://things-to-lou.com/wp-content/uploads/2025/10/jubilee-hoedown-ig-square-1-e1761186524203.png
END:VEVENT
BEGIN:VEVENT
DTSTART;TZID=America/New_York:20251026T170000
DTEND;TZID=America/New_York:20251026T190000
DTSTAMP:20260422T150848
CREATED:20250912T032143Z
LAST-MODIFIED:20250912T032143Z
UID:10003008-1761498000-1761505200@things-to-lou.com
SUMMARY:Haunted Happy Hour
DESCRIPTION:Event Name:\nHaunted Happy Hour \nEvent Date:\n2025-10-26 \nWebsite / Ticket Link:\nhttps://petersondumesnil.ludus.com/index.php \nLocation:\nPeterson Dumesnil House\, 301 S Peterson Ave Louisville \nEvent Host:\nSteve Wiser \nEvent Description / Other Info:\nThe Peterson Dumesnil House\, 301 S. Peterson Avenue\, is teaming up with local author\, historian\, and preservation leader Steve Wiser to host three special events this fall. Attendees at each event will receive a complimentary copy of a local history book. \nOn Sunday\, October 26 at 5:00pm\, a Haunted Happy Hour will be held at the PD House. Attendees will enjoy wine and snacks while hearing ghostly stories about the resident spirt\, “the lady in white”\, and others from around the area. \nTickets are $30 per person also include a copy of Wiser’s “Haunted Houses of Louisville” book. \nTo purchase tickets or RSVP\, click here. All proceeds from ticket sales will support the PD House Foundation and historic preservation.
URL:https://things-to-lou.com/events/haunted-happy-hour/
LOCATION:Peterson Dumesnil House\, 301 S Peterson Ave\, Louisville\, KY\, 40206\, United States
CATEGORIES:Educational,Literary Event / Book-Signing,Walking Tour / Food Tour
ATTACH;FMTTYPE=image/jpeg:https://things-to-lou.com/wp-content/uploads/2025/09/beautiful-crescent-hill-e1757647109679.jpg
END:VEVENT
END:VCALENDAR