BEGIN:VCALENDAR
VERSION:2.0
PRODID:-//Things To Lou - ECPv6.15.20//NONSGML v1.0//EN
CALSCALE:GREGORIAN
METHOD:PUBLISH
X-WR-CALNAME:Things To Lou
X-ORIGINAL-URL:https://things-to-lou.com
X-WR-CALDESC:Events for Things To Lou
REFRESH-INTERVAL;VALUE=DURATION:PT1H
X-Robots-Tag:noindex
X-PUBLISHED-TTL:PT1H
BEGIN:VTIMEZONE
TZID:America/New_York
BEGIN:DAYLIGHT
TZOFFSETFROM:-0500
TZOFFSETTO:-0400
TZNAME:EDT
DTSTART:20240310T070000
END:DAYLIGHT
BEGIN:STANDARD
TZOFFSETFROM:-0400
TZOFFSETTO:-0500
TZNAME:EST
DTSTART:20241103T060000
END:STANDARD
BEGIN:DAYLIGHT
TZOFFSETFROM:-0500
TZOFFSETTO:-0400
TZNAME:EDT
DTSTART:20250309T070000
END:DAYLIGHT
BEGIN:STANDARD
TZOFFSETFROM:-0400
TZOFFSETTO:-0500
TZNAME:EST
DTSTART:20251102T060000
END:STANDARD
BEGIN:DAYLIGHT
TZOFFSETFROM:-0500
TZOFFSETTO:-0400
TZNAME:EDT
DTSTART:20260308T070000
END:DAYLIGHT
BEGIN:STANDARD
TZOFFSETFROM:-0400
TZOFFSETTO:-0500
TZNAME:EST
DTSTART:20261101T060000
END:STANDARD
END:VTIMEZONE
BEGIN:VEVENT
DTSTART;TZID=America/New_York:20251002T000000
DTEND;TZID=America/New_York:20251102T235959
DTSTAMP:20260422T150853
CREATED:20250912T204521Z
LAST-MODIFIED:20250912T204521Z
UID:10003035-1759363200-1762127999@things-to-lou.com
SUMMARY:Jack O Lantern Spectacular
DESCRIPTION:The 2025 Louisville Jack O’Lantern Spectacular returns for its 13th season at Iroquois Park\, lighting up the night with thousands of intricately carved pumpkins. \nVisitors will journey along an illuminated path filled with themed displays all set to a captivating soundtrack. With family-friendly activities\, seasonal treats\, and plenty of photo opportunities\, it’s the perfect fall tradition for all ages. \nAs the Park Alliance of Louisville’s annual fundraising event\, the Spectacular helps support the city’s public parks and park projects. \nGET TICKETS
URL:https://things-to-lou.com/events/jack-o-lantern-spectacular/
LOCATION:Iroquois Park\, 1080 Amphitheater Rd\, Louisville\, KY\, 40214\, United States
CATEGORIES:Family & Children
END:VEVENT
BEGIN:VEVENT
DTSTART;TZID=America/New_York:20251023T000000
DTEND;TZID=America/New_York:20251031T235959
DTSTAMP:20260422T150853
CREATED:20251015T050142Z
LAST-MODIFIED:20251015T051817Z
UID:10003108-1761177600-1761955199@things-to-lou.com
SUMMARY:Nightmare on Liberty St (Halloween Pop-Up) (multiple dates)
DESCRIPTION:Event Name:\nNightmare on Liberty St \nEvent Date:\nOct 23-31\, 2025 \nWebsite / Ticket Link:\nprovaspirits.com \nLocation:\n917 E Liberty St Louisville KY 40204 \nEvent Host:\nProva Spirits \nEvent Description / Other Info:\nHalloween Pop-Up at Prova Spirits \nJoin us at Prova Spirits for a festive Halloween pop-up filled with spooky charm and seasonal spirit. \nEnjoy our Halloween-themed cocktails\, hauntingly fun décor\, and a few special treats for our furry friends\, including pup cups for your costumed companions. Runs from Oct 23rd to Oct 31st. \nBring your friends—two- or four-legged—and raise a glass to a spirited night of Halloween fun at Prova. 🎃✨
URL:https://things-to-lou.com/events/nightmare-on-liberty-st-halloween-pop-up-multiple-dates/
LOCATION:Prova Spirits\, 917 E Liberty St\, Louisville\, KY\, 40204\, United States
CATEGORIES:Food & Drink,Mixology,Pets
ATTACH;FMTTYPE=image/jpeg:https://things-to-lou.com/wp-content/uploads/2025/10/7cbcd422-ebae-4c09-9bf1-dcf5064ddc44-e1760504531556.jpeg
ORGANIZER;CN="Prova Spirits":MAILTO:sales@provaspirits.com
END:VEVENT
BEGIN:VEVENT
DTSTART;TZID=America/New_York:20251029T000000
DTEND;TZID=America/New_York:20251031T235959
DTSTAMP:20260422T150853
CREATED:20250718T210602Z
LAST-MODIFIED:20250718T210602Z
UID:10002812-1761696000-1761955199@things-to-lou.com
SUMMARY:Beyond the Barrel: Walking Bourbon Tour with Food Pairings | promo code! | multiple dates
DESCRIPTION:Book your tour here!\n\nUse code “thingstolou10” to save 10%!\n  \nUncover the secrets of Kentucky bourbon. \nDuration\n3 Hours \nAbout\nThis guided walking tour offers an experience that you won’t find at any bourbon distillery in Kentucky: a culinary journey through the story of Kentucky bourbon. \nExplore the unique flavors\, storied history\, and lasting impact of Kentucky’s beloved amber spirit\, paired with delicious bites\, pours\, and cocktails. You’ll trace the origins of bourbon whiskey from its roots in the Appalachian foothills to today’s thriving bourbon scene\, gaining a profound understanding of its cultural importance in Louisville\, Kentucky and beyond. \nAs the sun sets over the bustling NuLu district\, you’ll be guided through award-winning restaurants\, hidden speakeasies\, rooftop terraces\, and cozy tasting rooms. You’ll taste a wide variety of bourbons\, cocktails\, and bites that pair with bourbon in surprising and delicious ways. And you’ll even land a few coveted tables at some of the most hard-to-book restaurants in town. \nThis tour is a fantastic introduction to bourbon for the uninitiated\, and a master class in bourbon pairing for aficionados. Reserve your spot today and uncover the secrets of Kentucky bourbon! \nWhat’s Included \n\n3 Bourbon cocktails showcasing bourbon’s versatility\n2 Guided tastings of rare bourbons\n8-10 Delicious paired bites curated to unlock bourbon’s depth of flavor and versatility\nThe unfiltered history of bourbon in Kentucky\n\nWhat’s Not Included \n\nTransportation\nGuide gratuity\n\nAccessibility \n\n1 mile of flat walking\nWheelchair friendly (including 1 elevator)\nThis tour is 21+\nDue to our set menu and our restaurant partner’s policies\, we are unable to accommodate some food preferences and allergies – please let us know when booking if you have an allergy.
URL:https://things-to-lou.com/events/beyond-the-barrel-walking-bourbon-tour-with-food-pairings-promo-code-multiple-dates-15/
LOCATION:KY
CATEGORIES:Walking Tour / Food Tour
ATTACH;FMTTYPE=image/jpeg:https://things-to-lou.com/wp-content/uploads/2025/07/FULL-SIZE-Beyond-the-Barrel-Bourbon-Food-Tour-43-e1752872388722.jpg
END:VEVENT
BEGIN:VEVENT
DTSTART;TZID=America/New_York:20251031T190000
DTEND;TZID=America/New_York:20251031T220000
DTSTAMP:20260422T150853
CREATED:20251009T032059Z
LAST-MODIFIED:20251009T032059Z
UID:10003073-1761937200-1761948000@things-to-lou.com
SUMMARY:Time Slip Theatre's "THE ROCKY HORROR SHOW"
DESCRIPTION:Event Name:\nTime Slip Theatre’s THE ROCKY HORROR SHOW \nEvent Date:\n2025-10-17 \nWebsite / Ticket Link:\nhttps://events.humanitix.com/rockyhorrorlouisville \nLocation:\nPlay Louisville \nEvent Host:\nTime Slip Theatre \nEvent Description / Other Info:\nABOUT THE SHOW\nJump to the left\, step to the right and join Time Slip Theatre for Richard O’Brien’s “The Rocky Horror Show” at PLAY Louisville for the 12th year of the show! \nTime Slip Theatre’s production of this timeless cult classic will be a full-scale performance of live actors (no movie screening) and include all the hits and one-liners “Rocky” fans know and love! \nJoin us as the naive Brad and Janet descend on a journey of exploration and liberation at the castle of Dr. Frank ‘n’ Furter in this irreverent show known for its hysterical send-up of 1950s sci-fi B-movies as well as its unapologetic celebration of individuality and being true to yourself. \nDATES & TIMES & TICKETS\nThe show will run for three weekends in October (including Halloween night)\, with ever show at 8 p.m. and doors at 7 p.m. \n\nFriday\, October 17\nSaturday\, October 18\nFriday\, October 24\nSaturday\, October 25\nFriday\, October 31\nSaturday\, November 1\n\nAdmission is available in advance as well as at the door and gets you into PLAY for the whole night! Single tickets are available for $15\, and tables of four are $75! Purchasing a table includes four tickets and guaranteed seating for four people at a table for Rocky Horror ONLY. \nFor VIP booth reservations\, visit playdancebarboothrental.com (if you do rent a booth\, be sure to put ROCKY in your reservation name – i.e. Brad Majors ROCKY). \nYour table is ONLY reserved for Rocky Horror and will need to be vacated following the show. Please note: If you do not book a table via Time Slip or a booth via PLAY\, seating is not guaranteed. It is standing room otherwise.
URL:https://things-to-lou.com/events/time-slip-theatres-the-rocky-horror-show-3/
LOCATION:Play Louisville\, 1101 E Washington St\, Louisville\, KY\, 40206\, United States
CATEGORIES:Theatre
ATTACH;FMTTYPE=image/jpeg:https://things-to-lou.com/wp-content/uploads/2025/10/image-14-e1760148869850.jpg
END:VEVENT
BEGIN:VEVENT
DTSTART;TZID=America/New_York:20251031T190000
DTEND;TZID=America/New_York:20251031T233000
DTSTAMP:20260422T150853
CREATED:20251018T031124Z
LAST-MODIFIED:20251018T031231Z
UID:10003118-1761937200-1761953400@things-to-lou.com
SUMMARY:Louisville Gore Club's Halloween Special
DESCRIPTION:It’s been 16 years of Gore Club Halloween events. We celebrate our 16 year BARFDAY with this one. No one throws a Halloween Party like the Louisville Gore Club! Don’t Miss It! \nFeaturing music by Isolation Tank Ensemble and Mommy’s Cigarettes \nBurlesque performances by Venus Pearle and Rue Nocturna \nDon your scariest attire for the costume contest! \n\nDoors at 7pm\nShow at 8pm\n\nTickets $15 and available at door \nAll events are 21+ and IDs required for entry. \nThere is NO item minimum for attending shows\, however we do offer a full bar selection\, mocktails and other non-alcoholic options\, as well a a rotating selection of snacks. \nBe kind\, \nUnwind \n  \n***description from website
URL:https://things-to-lou.com/events/louisville-gore-clubs-halloween-special/
LOCATION:Planet Of The Tapes\, 640 Barret Ave\, Louisville\, KY\, 40204\, United States
CATEGORIES:Burlesque,Nightlife,Variety Show
END:VEVENT
BEGIN:VEVENT
DTSTART;TZID=America/New_York:20251031T200000
DTEND;TZID=America/New_York:20251031T230000
DTSTAMP:20260422T150853
CREATED:20251023T024441Z
LAST-MODIFIED:20251023T024441Z
UID:10003142-1761940800-1761951600@things-to-lou.com
SUMMARY:"NOSFERATU" with LIVE SCORE
DESCRIPTION:Event Name:\nNOSFERATU with LIVE SCORE \nEvent Date:\n2020-10-31 \nWebsite / Ticket Link:\nCirca 1856 Louisville \n \nLocation:\nCirca 1856 Louisville \nEvent Host:\nChicken Cock Whiskey \nEvent Description / Other Info:\nJoin us for a Halloween Spook-tacle at NULU’S newest haunt! \nCirca 1856 & Chicken Cock Whiskey presents a film screening of the 1922 classic \, NOSFERATU with live accompaniment by Todd Hildreth. \n8pm Showtime \nFACEBOOK EVENT
URL:https://things-to-lou.com/events/nosferatu-with-live-score/
LOCATION:Circa 1856 Louisville\, Louisville\, KY\, 40202\, United States
CATEGORIES:Bourbon,Film / Movies
ATTACH;FMTTYPE=image/png:https://things-to-lou.com/wp-content/uploads/2025/10/10.31-nosferatu-square-e1761186534392.png
END:VEVENT
BEGIN:VEVENT
DTSTART;TZID=America/New_York:20251031T200000
DTEND;TZID=America/New_York:20251101T020000
DTSTAMP:20260422T150853
CREATED:20251027T192709Z
LAST-MODIFIED:20251027T192709Z
UID:10003147-1761940800-1761962400@things-to-lou.com
SUMMARY:The Bizarre Bazaar presents "A Saucy Halloween"
DESCRIPTION:Event Name:\nThe Bizarre Bazaar presents A Saucy Halloween \nEvent Date:\n2025-10-31 \nWebsite / Ticket Link:\nhttps://www.curtaincalltickets.com/events/buy-tickets/0jsacgO4gWJhctjLPbuQ \nLocation:\nZanzabar 2100 S Preston \nEvent Host:\nThe Bizarre Bazaar \nEvent Description / Other Info:\nThe Bizarre Bazaar presents the ninth annual drag\, burlesque and sideshow Halloween night production\, A Saucy Halloween on Friday October 31. \nJoin us at Zanzabar for a Halloween night like no other!
URL:https://things-to-lou.com/events/the-bizarre-bazaar-presents-a-saucy-halloween/
LOCATION:Zanzabar\, 2100 S Preston St\, Louisville\, KY\, 40217\, United States
CATEGORIES:Burlesque,Drag Show / Drag Brunch,Variety Show
ATTACH;FMTTYPE=image/jpeg:https://things-to-lou.com/wp-content/uploads/2025/10/df1f8ee4-f06a-4462-a026-d777a21bb4ae-e1761593010209.jpg
ORGANIZER;CN="The Bizarre Bazaar":MAILTO:Artemisiadelamiel@gmail.com
END:VEVENT
BEGIN:VEVENT
DTSTART;TZID=America/New_York:20251031T210000
DTEND;TZID=America/New_York:20251101T040000
DTSTAMP:20260422T150853
CREATED:20251018T012733Z
LAST-MODIFIED:20251028T192041Z
UID:10003110-1761944400-1761969600@things-to-lou.com
SUMMARY:Green Matter: Halloween Night w/ Chuck Diesel & Tether
DESCRIPTION:Kentucky EDM Family Presents: \nGreen Matter on Halloween Night(Oct 31st) at Galaxie – Louisville \nGET TICKETS HERE \nSupport from Chuck Diesel & Tether \n$15 ADV / $20 DOS (+Taxes & Fees) \n21+ w/ Valid ID – Doors 9PM \n***description from website
URL:https://things-to-lou.com/events/green-matter-halloween-night-w-chuck-diesel-tether/
LOCATION:Galaxie\, 732 E Market St\, Louisville\, KY\, 40202\, United States
CATEGORIES:Music,Nightlife
END:VEVENT
END:VCALENDAR