BEGIN:VCALENDAR
VERSION:2.0
PRODID:-//Things To Lou - ECPv6.15.20//NONSGML v1.0//EN
CALSCALE:GREGORIAN
METHOD:PUBLISH
X-WR-CALNAME:Things To Lou
X-ORIGINAL-URL:https://things-to-lou.com
X-WR-CALDESC:Events for Things To Lou
REFRESH-INTERVAL;VALUE=DURATION:PT1H
X-Robots-Tag:noindex
X-PUBLISHED-TTL:PT1H
BEGIN:VTIMEZONE
TZID:America/New_York
BEGIN:DAYLIGHT
TZOFFSETFROM:-0500
TZOFFSETTO:-0400
TZNAME:EDT
DTSTART:20250309T070000
END:DAYLIGHT
BEGIN:STANDARD
TZOFFSETFROM:-0400
TZOFFSETTO:-0500
TZNAME:EST
DTSTART:20251102T060000
END:STANDARD
BEGIN:DAYLIGHT
TZOFFSETFROM:-0500
TZOFFSETTO:-0400
TZNAME:EDT
DTSTART:20260308T070000
END:DAYLIGHT
BEGIN:STANDARD
TZOFFSETFROM:-0400
TZOFFSETTO:-0500
TZNAME:EST
DTSTART:20261101T060000
END:STANDARD
BEGIN:DAYLIGHT
TZOFFSETFROM:-0500
TZOFFSETTO:-0400
TZNAME:EDT
DTSTART:20270314T070000
END:DAYLIGHT
BEGIN:STANDARD
TZOFFSETFROM:-0400
TZOFFSETTO:-0500
TZNAME:EST
DTSTART:20271107T060000
END:STANDARD
END:VTIMEZONE
BEGIN:VEVENT
DTSTART;TZID=America/New_York:20260111T200000
DTEND;TZID=America/New_York:20260112T020000
DTSTAMP:20260419T133603
CREATED:20260105T073821Z
LAST-MODIFIED:20260105T073947Z
UID:10003710-1768161600-1768183200@things-to-lou.com
SUMMARY:The Louisville Gore Club
DESCRIPTION:FOR 13 YEARS every Sunday night at 8pm the ghoulish and the grave turn up to enjoy the best and worst in horror/sci-fi/ fantasy cinema! \n8pm-2am every Sunday night. \nThey created Louisville Krampus\, Gore Club Podcast and Louisville Gore Club Presents. \n\nAll Events are 21+ and IDs required for entry. \nEvery Sunday for 15 years! Starts at 8pm \nFree Admission\, Free Popcorn! \n***description from website \n  \nWeekly movie info on Instagram
URL:https://things-to-lou.com/events/the-louisville-gore-club/2026-01-11/
LOCATION:Planet Of The Tapes\, 640 Barret Ave\, Louisville\, KY\, 40204\, United States
CATEGORIES:Fandom,Film / Movies
END:VEVENT
BEGIN:VEVENT
DTSTART;TZID=America/New_York:20260112T180000
DTEND;TZID=America/New_York:20260112T190000
DTSTAMP:20260419T133603
CREATED:20251231T070129Z
LAST-MODIFIED:20251231T070129Z
UID:10003477-1768240800-1768244400@things-to-lou.com
SUMMARY:Marketplace Hall Yoga (all levels)
DESCRIPTION:Yoga at West Sixth NuLu \n6 – 7pm \nEvent occurs weekly on Monday \nMarketplace Hall Yoga with Harley Gilman. Donation-based\, beginner friendly flow — just come with a mat and any props you’d like to have \nNo registration required \nAll levels are welcome
URL:https://things-to-lou.com/events/marketplace-hall-yoga-all-levels/2026-01-12/
LOCATION:West 6th Nulu\, 817 E Market St\, Suite 101\, Louisville\, KY\, 40206\, United States
CATEGORIES:Beer / Brewery,Exercise
END:VEVENT
BEGIN:VEVENT
DTSTART;TZID=America/New_York:20260112T190000
DTEND;TZID=America/New_York:20260112T210000
DTSTAMP:20260419T133603
CREATED:20260108T181641Z
LAST-MODIFIED:20260108T181641Z
UID:10003862-1768244400-1768251600@things-to-lou.com
SUMMARY:Pre-Dating: Speed Dating for Singles Ages 23 - 38
DESCRIPTION:Looking to meet quality singles in Louisville ages 23 to 38? \nJoin us on Monday\, January 12 at Trellis Brewing for Speed Dating by Pre-Dating\, a fun and relaxed way to make genuine connections. \nSkip the apps and meet 5 to 14 local singles face to face in quick\, easy conversations that help you discover real chemistry without the pressure. After each chat\, simply let us know who you would like to see again and we will take care of the rest. \nEnjoy great company\, fantastic craft brews\, and a warm\, welcoming atmosphere that makes it easy to settle in and be yourself. Grab your ticket today and experience a better way to date. You might just meet someone special. ♥ \n  \n***description from website
URL:https://things-to-lou.com/events/pre-dating-speed-dating-for-singles-ages-23-38/
LOCATION:Trellis Brewing\, 827 Logan Street\, Louisville\, KY\, 40204\, United States
CATEGORIES:Beer / Brewery,Dating Event
END:VEVENT
BEGIN:VEVENT
DTSTART;TZID=America/New_York:20260112T200000
DTEND;TZID=America/New_York:20260112T220000
DTSTAMP:20260419T133603
CREATED:20260105T074633Z
LAST-MODIFIED:20260105T074633Z
UID:10003777-1768248000-1768255200@things-to-lou.com
SUMMARY:Mag Bar Metal Monday w/ Ohlm & Year of October
DESCRIPTION:Prepare yourselves! Ohlm and Year of October take over Mag Bar Metal Monday on January 12th! You know what to do \nFree as Always – Spooner’s Late Night Karaoke immediately follows! \nhttps://www.facebook.com/events/2607006386340396 \n08:00 PM – 10:00 PM \n21+ \n***description from website
URL:https://things-to-lou.com/events/mag-bar-metal-monday-w-ohlm-year-of-october/
LOCATION:Mag Bar\, 1398 S 2nd St\, Louisville\, KY\, 40208\, United States
CATEGORIES:Music
END:VEVENT
END:VCALENDAR