BEGIN:VCALENDAR
VERSION:2.0
PRODID:-//Things To Lou - ECPv6.15.20//NONSGML v1.0//EN
CALSCALE:GREGORIAN
METHOD:PUBLISH
X-ORIGINAL-URL:https://things-to-lou.com
X-WR-CALDESC:Events for Things To Lou
REFRESH-INTERVAL;VALUE=DURATION:PT1H
X-Robots-Tag:noindex
X-PUBLISHED-TTL:PT1H
BEGIN:VTIMEZONE
TZID:America/New_York
BEGIN:DAYLIGHT
TZOFFSETFROM:-0500
TZOFFSETTO:-0400
TZNAME:EDT
DTSTART:20250309T070000
END:DAYLIGHT
BEGIN:STANDARD
TZOFFSETFROM:-0400
TZOFFSETTO:-0500
TZNAME:EST
DTSTART:20251102T060000
END:STANDARD
BEGIN:DAYLIGHT
TZOFFSETFROM:-0500
TZOFFSETTO:-0400
TZNAME:EDT
DTSTART:20260308T070000
END:DAYLIGHT
BEGIN:STANDARD
TZOFFSETFROM:-0400
TZOFFSETTO:-0500
TZNAME:EST
DTSTART:20261101T060000
END:STANDARD
BEGIN:DAYLIGHT
TZOFFSETFROM:-0500
TZOFFSETTO:-0400
TZNAME:EDT
DTSTART:20270314T070000
END:DAYLIGHT
BEGIN:STANDARD
TZOFFSETFROM:-0400
TZOFFSETTO:-0500
TZNAME:EST
DTSTART:20271107T060000
END:STANDARD
END:VTIMEZONE
BEGIN:VEVENT
DTSTART;TZID=America/New_York:20260123T000000
DTEND;TZID=America/New_York:20260208T235959
DTSTAMP:20260419T155930
CREATED:20260122T033100Z
LAST-MODIFIED:20260206T154351Z
UID:10004069-1769126400-1770595199@things-to-lou.com
SUMMARY:Downtown Hometown Tourist Celebration
DESCRIPTION:Residents of Greater Louisville and Southern Indiana are invited to celebrate their city and visit local tourist spots in their Downtown. \nThe Downtown Hometown Tourist Celebration offers half-off admission at participating Downtown attractions to individuals with a valid Kentucky or Indiana ID\, local college ID\, or military ID. Other venues are offering other discounts during this promotional period. \nWhether it’s visiting a favorite museum\, stopping by one of our local bourbon experiences\, or celebrating what makes our community unique\, our Downtown is packed with experiences that benefit both residents and visitors alike. \n\nCheck out all of the attractions here!
URL:https://things-to-lou.com/events/downtown-hometown-tourist-celebration/
LOCATION:Downtown Louisville
CATEGORIES:Block Party / Community Festival,Bourbon,Entertainment,Experiences,Family & Children,Food & Drink
END:VEVENT
BEGIN:VEVENT
DTSTART;TZID=America/New_York:20260204T000000
DTEND;TZID=America/New_York:20260206T235959
DTSTAMP:20260419T155930
CREATED:20251212T224018Z
LAST-MODIFIED:20251212T224018Z
UID:10003349-1770163200-1770422399@things-to-lou.com
SUMMARY:Beyond the Barrel: Walking Bourbon Tour with Food Pairings | promo code! | multiple dates
DESCRIPTION:Go beyond the barrel to dive into bourbon’s storied history and learn all the stories they won’t tell you on a Kentucky Bourbon Trail distillery tour! \nAs the sun sets over the vibrant NuLu neighborhood\, you’ll visit award-winning restaurants\, hidden speakeasies\, rooftop terraces\, and cozy tasting rooms. \n\nBook your tour here!\nUse code “thingstolou10” to save 10%!\n\nUncover the secrets of Kentucky bourbon.\n  \n\nTrace the origins of bourbon whiskey from its roots in the Appalachian foothills to today’s thriving bourbon scene\nUnlock bourbon’s versatility and depth through paired bites\, pours\, and cocktails\nTry modern re-interpretations of classic Louisville bourbon cocktails such as the Old Fashioned and the Mint Julep\nSample bourbon’s full range of versatility\, including clarified\, fat-washed\, river-aged\, wheated\, infused\, and finished bourbons\nLand a few coveted tables at some of the most celebrated eateries in town\, including restaurants by Michelin Star and James Beard winning Chefs\n\n\nDETAILS\nDistance: 1 mile \nDuration: 3 hours \nFood: 5 stops\, 8 tastings \nDrinks: 2 bourbon pours\, 4 cocktails \nCapacity: 12 \nTime: 5 & 5:30 PM\, Wed-Fri \nAccessibility: 21+\, wheelchair friendly \n\nBook your tour here!\nUse code “thingstolou10” to save 10%!
URL:https://things-to-lou.com/events/beyond-the-barrel-walking-bourbon-tour-with-food-pairings-promo-code-multiple-dates-24/
LOCATION:KY
CATEGORIES:Walking Tour / Food Tour
ATTACH;FMTTYPE=image/jpeg:https://things-to-lou.com/wp-content/uploads/2025/12/FULL-SIZE-Bourbon-Food-Tour-22-e1765577825386.jpg
END:VEVENT
BEGIN:VEVENT
DTSTART;TZID=America/New_York:20260204T170000
DTEND;TZID=America/New_York:20260204T200000
DTSTAMP:20260419T155930
CREATED:20251213T015756Z
LAST-MODIFIED:20251213T032511Z
UID:10003421-1770224400-1770235200@things-to-lou.com
SUMMARY:Phantoms of Prohibition: Ghosts\, Cocktails\, & Bites Tour | promo code!
DESCRIPTION:Discover Louisville’s Prohibition past on a haunted cocktail & food tour down Whiskey Row. \nBook your tour here!\nUse code “thingstolou10” to save 10%!\n\nVenture out with us and explore the hidden stories of Louisville’s haunted past. \nAs you eat and drink your way down Whiskey Row\, you’ll meet the resident ghosts of Louisville’s historic downtown\, trace the footsteps of bourbon magnates and mobsters\, see Al Capone’s secret getaway\, discover hidden speakeasies\, and learn the shocking truth about Prohibition. \n\nWhat to Expect\nThis tour includes 4 stops for libations\, as well as an assortment of small bites. Here’s what else to expect: \nBourbon & Cocktails\nThis is a boozy\, 21+ tour\, y’all. \nAudio Headset​\nTo help you hear us from a distance. \nSmall Group\nOur tours max out at 12 people. \nWalking\n1-1.5 Miles. Wear comfy shoes! \n\nExplore Whiskey Row:\nDistilleries. Speakeasies. Saloons. In the mid-1800’s\, this stretch of Main Street was filled to the brim with bourbon barrels – which would soon be considered contraband. \nWhile this area nearly crumbled to disrepair\, today the historic facades house bourbon distilleries\, bars\, restaurants and hotels. \nWhere\nMeet at 101 E Washington St\, Louisville\, KY \nWhen​\nTuesdays – Fridays\, 5:00 and 5:30 PM \n\nExplore the hidden stories of Louisville’s Prohibition past on Whiskey Row\nLike the combination of rye\, corn\, wheat\, and malted barley\, this tour is the perfect blend of cocktails\, food\, ghosts\, and Prohibition history. Over the 3 hours you’ll spend with us\, you’ll enjoy … \nDelicious Prohibition-era cocktails \nSpine-chilling true tales of the resident ghosts of Whiskey Row \nDelicious small bites \nThe surprising true story of Prohibition \nFun & knowledgeable guides
URL:https://things-to-lou.com/events/phantoms-of-prohibition-ghosts-cocktails-bites-tour-promo-code/2026-02-04/
LOCATION:KY
CATEGORIES:Walking Tour / Food Tour
ATTACH;FMTTYPE=image/jpeg:https://things-to-lou.com/wp-content/uploads/2025/12/Prohibition-Tour-7910-e1765591150807.jpg
END:VEVENT
BEGIN:VEVENT
DTSTART;TZID=America/New_York:20260204T180000
DTEND;TZID=America/New_York:20260204T230000
DTSTAMP:20260419T155930
CREATED:20260122T032509Z
LAST-MODIFIED:20260122T032509Z
UID:10004068-1770228000-1770246000@things-to-lou.com
SUMMARY:Speed Dating for Singles | Hetero Ages 25-45
DESCRIPTION:Find love with in-person singles and matchmaking events curated by locals. \nGo on a guaranteed 8 dates for 5 minutes per round in one night\, matched with the most compatible people in the room using our matchmaking tech to navigate tables\, send likes\, and get mutual match emails after the event. \nAGENDA: \n\n6:00 PM – 6:15 PM Check-in\, socialize\, grab a drink\n6:15 PM – 7:15 PM Speed dating rounds\n7:15 PM – 7:30 PM Break for drinks and open socializing\n7:30 PM – 8:00 PM Final speed dating rounds\n8:00 PM Hangout and socialize\n11:00 PM Mutual Match emails sent\n\nHOW IT WORKS: \nSecure your spot at the event by selecting the gender and age you are\, not who you want to match with. \nCheck your confirmation email for a link to set up your FIND dating account. On this account\, you will answer a few simple questions to ensure we find you the most compatible people in the room. \nShow up to the event and let the matchmaking magic happen. Drinks are available for purchase. \nWe hope to match you with at least 7 people during each event but exact matches will determine by attendance and compatibility. \nAfter each 5 min round\, make notes\, and make your decision using your phone. \nAfter the event\, look for an email that night with your mutual matches. \nTHINGS TO BRING: \nCharged cell phone – yes yes we do use a web based app to run speed dating. No need to download an app \nID – Most events include alcohol so bring your ID to grab a drink \nAn open mind – Have fun\, be open minded\, and be yourself! \nLooking for some dating tips? View our resources here.
URL:https://things-to-lou.com/events/speed-dating-for-singles-hetero-ages-25-45/
LOCATION:Logan Street Market\, 1001 Logan Street\, Louisivlle\, KY\, 40204\, United States
CATEGORIES:Dating Event
ATTACH;FMTTYPE=image/png:https://things-to-lou.com/wp-content/uploads/2026/01/14-e1769052320746.png
END:VEVENT
BEGIN:VEVENT
DTSTART;TZID=America/New_York:20260204T190000
DTEND;TZID=America/New_York:20260204T210000
DTSTAMP:20260419T155930
CREATED:20260109T232342Z
LAST-MODIFIED:20260109T232342Z
UID:10003959-1770231600-1770238800@things-to-lou.com
SUMMARY:Louisville Men's Basketball vs. Notre Dame (Honoring Black Excellence theme) / (Season Ticket Member Appreciation)
DESCRIPTION:Join us for the University of Louisville Men’s Basketball team as they take on Notre Dame on February 4th at 7 PM! \nHonoring Black Excellence | In recognition of Black History Month\, we will honor influential figures in the community throughout the game. \nSeason Ticket Member Appreciation | We will thank our most loyal supporters with exclusive prizes\, experiences\, and recognitions.
URL:https://things-to-lou.com/events/louisville-mens-basketball-vs-notre-dame-honoring-black-excellence-theme-season-ticket-member-appreciation/
LOCATION:KFC Yum! Center\, 1 Arena Plaza\, Louisville\, KY\, 40202\, United States
CATEGORIES:Sports
END:VEVENT
END:VCALENDAR