BEGIN:VCALENDAR
VERSION:2.0
PRODID:-//Things To Lou - ECPv6.15.20//NONSGML v1.0//EN
CALSCALE:GREGORIAN
METHOD:PUBLISH
X-WR-CALNAME:Things To Lou
X-ORIGINAL-URL:https://things-to-lou.com
X-WR-CALDESC:Events for Things To Lou
REFRESH-INTERVAL;VALUE=DURATION:PT1H
X-Robots-Tag:noindex
X-PUBLISHED-TTL:PT1H
BEGIN:VTIMEZONE
TZID:America/New_York
BEGIN:DAYLIGHT
TZOFFSETFROM:-0500
TZOFFSETTO:-0400
TZNAME:EDT
DTSTART:20250309T070000
END:DAYLIGHT
BEGIN:STANDARD
TZOFFSETFROM:-0400
TZOFFSETTO:-0500
TZNAME:EST
DTSTART:20251102T060000
END:STANDARD
BEGIN:DAYLIGHT
TZOFFSETFROM:-0500
TZOFFSETTO:-0400
TZNAME:EDT
DTSTART:20260308T070000
END:DAYLIGHT
BEGIN:STANDARD
TZOFFSETFROM:-0400
TZOFFSETTO:-0500
TZNAME:EST
DTSTART:20261101T060000
END:STANDARD
BEGIN:DAYLIGHT
TZOFFSETFROM:-0500
TZOFFSETTO:-0400
TZNAME:EDT
DTSTART:20270314T070000
END:DAYLIGHT
BEGIN:STANDARD
TZOFFSETFROM:-0400
TZOFFSETTO:-0500
TZNAME:EST
DTSTART:20271107T060000
END:STANDARD
END:VTIMEZONE
BEGIN:VEVENT
DTSTART;TZID=America/New_York:20260208T200000
DTEND;TZID=America/New_York:20260209T020000
DTSTAMP:20260423T120456
CREATED:20260105T073821Z
LAST-MODIFIED:20260105T073947Z
UID:10003714-1770580800-1770602400@things-to-lou.com
SUMMARY:The Louisville Gore Club
DESCRIPTION:FOR 13 YEARS every Sunday night at 8pm the ghoulish and the grave turn up to enjoy the best and worst in horror/sci-fi/ fantasy cinema! \n8pm-2am every Sunday night. \nThey created Louisville Krampus\, Gore Club Podcast and Louisville Gore Club Presents. \n\nAll Events are 21+ and IDs required for entry. \nEvery Sunday for 15 years! Starts at 8pm \nFree Admission\, Free Popcorn! \n***description from website \n  \nWeekly movie info on Instagram
URL:https://things-to-lou.com/events/the-louisville-gore-club/2026-02-08/
LOCATION:Planet Of The Tapes\, 640 Barret Ave\, Louisville\, KY\, 40204\, United States
CATEGORIES:Fandom,Film / Movies
END:VEVENT
BEGIN:VEVENT
DTSTART;TZID=America/New_York:20260209T180000
DTEND;TZID=America/New_York:20260209T190000
DTSTAMP:20260423T120456
CREATED:20251231T070129Z
LAST-MODIFIED:20251231T070129Z
UID:10003481-1770660000-1770663600@things-to-lou.com
SUMMARY:Marketplace Hall Yoga (all levels)
DESCRIPTION:Yoga at West Sixth NuLu \n6 – 7pm \nEvent occurs weekly on Monday \nMarketplace Hall Yoga with Harley Gilman. Donation-based\, beginner friendly flow — just come with a mat and any props you’d like to have \nNo registration required \nAll levels are welcome
URL:https://things-to-lou.com/events/marketplace-hall-yoga-all-levels/2026-02-09/
LOCATION:West 6th Nulu\, 817 E Market St\, Suite 101\, Louisville\, KY\, 40206\, United States
CATEGORIES:Beer / Brewery,Exercise
END:VEVENT
BEGIN:VEVENT
DTSTART;TZID=America/New_York:20260209T190000
DTEND;TZID=America/New_York:20260209T210000
DTSTAMP:20260423T120456
CREATED:20260108T181917Z
LAST-MODIFIED:20260108T181917Z
UID:10003863-1770663600-1770670800@things-to-lou.com
SUMMARY:Pre-Dating: FIND YOUR VALENTINE Speed Dating for Singles Ages 37 - 52
DESCRIPTION:Looking to meet fellow Louisville singles ages 37 to 52 at our special FIND YOUR VALENTINE Speed Dating event? \nJoin us for a fun and engaging evening at Trellis Brewing. Enjoy relaxed 6 minute conversations with up to 14 potential matches in a warm\, welcoming atmosphere. \nWhether you are seeking friendship\, romance\, or something more meaningful\, this is a great way to connect in person with no apps and no pressure\, just real conversation. \nMark your calendar for Monday\, February 9 and get ready for an evening filled with laughs\, great company\, and the chance to meet someone special. \nWith more than 38\,000 events hosted\, we know how to create the perfect setting for genuine connections. \nYou never really know where cupids arrow is going to strike next so why not give this a try? Do not miss out on a night that could lead to something great. ♥
URL:https://things-to-lou.com/events/pre-dating-find-your-valentine-speed-dating-for-singles-ages-37-52/
LOCATION:Trellis Brewing\, 827 Logan Street\, Louisville\, KY\, 40204\, United States
CATEGORIES:Beer / Brewery,Dating Event
END:VEVENT
BEGIN:VEVENT
DTSTART;TZID=America/New_York:20260209T190000
DTEND;TZID=America/New_York:20260209T210000
DTSTAMP:20260423T120456
CREATED:20260109T231843Z
LAST-MODIFIED:20260109T231843Z
UID:10003955-1770663600-1770670800@things-to-lou.com
SUMMARY:Louisville Men's Basketball vs. NC State (White Out theme)
DESCRIPTION:Join us for the University of Louisville Men’s Basketball team as they take on NC State on February 9th at 7 PM! \n  \nWhite Out | Be loud\, wear white\, and pack the KFC Yum! Center
URL:https://things-to-lou.com/events/louisville-mens-basketball-vs-nc-state-white-out-theme/
LOCATION:KFC Yum! Center\, 1 Arena Plaza\, Louisville\, KY\, 40202\, United States
CATEGORIES:Sports
END:VEVENT
BEGIN:VEVENT
DTSTART;TZID=America/New_York:20260209T190000
DTEND;TZID=America/New_York:20260209T210000
DTSTAMP:20260423T120456
CREATED:20260116T233738Z
LAST-MODIFIED:20260116T233738Z
UID:10004012-1770663600-1770670800@things-to-lou.com
SUMMARY:FIND YOUR VALENTINE SPEED DATING: Singles Age 37-52
DESCRIPTION:Meet up to 12 potential matches. Join the thousands of people that have found LOVE at PRE-DATING events. Will you be our next success story? \nSPECIAL EVENT: FIND YOUR VALENTINE SPEED DATING FOR LOUISVILLE KY SINGLES AGES 37-52\nPRE-DATING The World’s Oldest\, Largest\, & Best Speed Dating Company\, Since 2001! Are you ready to make something happen? \nTry the modern\, civilized way to meet someone wonderful. Singles across the country know the best way to meet – our IRL speed dating events. Simple\, easy\, effective. Don’t waste time swiping left and right hoping for love to find you\, the person you’re looking for may be at our PRE-DATING event. Get a ticket and find out! \nHOW IT WORKS\nPRE-DATING introduces you to at least 5 and up to 12 potential matches\, all local\, quality people. You’ll talk to each one during 6-minute “pre-dates” – just enough time to find out if you want to talk more and see if there’s a spark. Tell us which person gave you those excited butterflies in your stomach\, and we do the rest! You’ll love the exciting energy and friendly vibe at a PRE-DATING singles event. \nTrust the experts at PRE-DATING to host a wonderful evening full of excitement and brewing romance — a fun night out in a safe environment. You’ll love this very efficient and fast way to date. No pressure\, no games\, just a great time. \nPRE-DATING has hosted +38\,000 speed dating events! Join the thousands of people that have found their person at our events. Will you be our next success story? \nPRE-DATING events have been featured on CNN\, BBC\, The Wall Street Journal\, CBS\, Axios\, Bravo\, TLC’s 90 Day Finace The Single Life\, Miami New Times\, Tampa Bay Times\, Southbend Times\, Citylink Magazine\, Essence\, Best of Baltimore\, AM New York\, Chicago Tribune\, WINK FM\, Woman’s World Magazine\, and 100s more! \n  \nMore Louisville Kentucky PRE-DATING Singles Events
URL:https://things-to-lou.com/events/find-your-valentine-speed-dating-singles-age-37-52/
LOCATION:Trellis Brewing\, 827 Logan Street\, Louisville\, KY\, 40204\, United States
CATEGORIES:Beer / Brewery,Dating Event
END:VEVENT
END:VCALENDAR