BEGIN:VCALENDAR
VERSION:2.0
PRODID:-//Things To Lou - ECPv6.15.20//NONSGML v1.0//EN
CALSCALE:GREGORIAN
METHOD:PUBLISH
X-WR-CALNAME:Things To Lou
X-ORIGINAL-URL:https://things-to-lou.com
X-WR-CALDESC:Events for Things To Lou
REFRESH-INTERVAL;VALUE=DURATION:PT1H
X-Robots-Tag:noindex
X-PUBLISHED-TTL:PT1H
BEGIN:VTIMEZONE
TZID:America/New_York
BEGIN:DAYLIGHT
TZOFFSETFROM:-0500
TZOFFSETTO:-0400
TZNAME:EDT
DTSTART:20250309T070000
END:DAYLIGHT
BEGIN:STANDARD
TZOFFSETFROM:-0400
TZOFFSETTO:-0500
TZNAME:EST
DTSTART:20251102T060000
END:STANDARD
BEGIN:DAYLIGHT
TZOFFSETFROM:-0500
TZOFFSETTO:-0400
TZNAME:EDT
DTSTART:20260308T070000
END:DAYLIGHT
BEGIN:STANDARD
TZOFFSETFROM:-0400
TZOFFSETTO:-0500
TZNAME:EST
DTSTART:20261101T060000
END:STANDARD
BEGIN:DAYLIGHT
TZOFFSETFROM:-0500
TZOFFSETTO:-0400
TZNAME:EDT
DTSTART:20270314T070000
END:DAYLIGHT
BEGIN:STANDARD
TZOFFSETFROM:-0400
TZOFFSETTO:-0500
TZNAME:EST
DTSTART:20271107T060000
END:STANDARD
END:VTIMEZONE
BEGIN:VEVENT
DTSTART;TZID=America/New_York:20260210T000000
DTEND;TZID=America/New_York:20260210T235959
DTSTAMP:20260419T234354
CREATED:20260210T061511Z
LAST-MODIFIED:20260210T061608Z
UID:10004695-1770681600-1770767999@things-to-lou.com
SUMMARY:AudaTours Louisville Audio Tour: Whiskey\, Wonders\, and Timeless Towers
DESCRIPTION:Louisville’s story is carved in bat-swing echoes and whispered through cathedral stained glass. Beneath its vibrant streets\, legends of secret rivalries\, unsolved mysteries\, and bold ambition wait to be unearthed. \nSet your pace on this self-guided audio tour and uncover the city’s hidden side. Each step leads to tales most visitors never hear\, from the swing of baseball history at the Louisville Slugger Museum to the silent prayers and political intrigue woven into the Cathedral of the Assumption. \nWhat forced a congregation to stand defiant as riots threatened their sanctuary? Which bat carved in the last century may be linked to a sporting scandal still whispered about today? Why do some believe a single painting inside the Frazier History Museum holds the key to a decades-old feud? \nMove through Louisville’s pulse where heroes rose\, mysteries linger\, and every street reveals another untold chapter. \nPress play and let Louisville’s secrets find you. \nMORE INFO
URL:https://things-to-lou.com/events/audatours-louisville-audio-tour-whiskey-wonders-and-timeless-towers/2026-02-10/
LOCATION:Various
CATEGORIES:Walking Tour / Food Tour
ATTACH;FMTTYPE=image/jpeg:https://things-to-lou.com/wp-content/uploads/2026/02/tours_1522b50d-2a3a-4ceb-8626-4cf81b2877f6_actionshot_image_1536-e1770704647960.jpeg
END:VEVENT
BEGIN:VEVENT
DTSTART;TZID=America/New_York:20260210T160000
DTEND;TZID=America/New_York:20260210T190000
DTSTAMP:20260419T234354
CREATED:20260105T070238Z
LAST-MODIFIED:20260105T070848Z
UID:10003595-1770739200-1770750000@things-to-lou.com
SUMMARY:Paws on the Patio | drink specials & a free pup cup
DESCRIPTION:Bring your furry friend to Moonsong on from 4 to 7 p.m. for drink specials and a free pup cup with purchase. \n$1 from every Tito’s purchase is donated to the Kentucky Humane Society. \n\nEvent Date:\nTuesdays \nLocation:\n710 E Jefferson St\, Louisville\, KY 40202 \nEvent Host:\nMoonsong Bar & Cafe \n\nINSTAGRAM post about this event! \n 
URL:https://things-to-lou.com/events/paws-on-the-patio-drink-specials-a-free-pup-cup/2026-02-10/
LOCATION:Moonsong Bar & Cafe\, 710 E Jefferson St\, Louisville\, KY\, 40202\, United States
CATEGORIES:Food & Drink,Pets
ATTACH;FMTTYPE=image/png:https://things-to-lou.com/wp-content/uploads/2026/01/screenshot-2025-11-03-at-11.13.33-am-e1767596635714.png
END:VEVENT
BEGIN:VEVENT
DTSTART;TZID=America/New_York:20260210T180000
DTEND;TZID=America/New_York:20260210T200000
DTSTAMP:20260419T234354
CREATED:20260116T234316Z
LAST-MODIFIED:20260116T234316Z
UID:10004014-1770746400-1770753600@things-to-lou.com
SUMMARY:Galentine's Evening at Bloom
DESCRIPTION:A thoughtfully curated\, after-hours evening featuring hands-on experiences\, festive mocktails\, grazing bites\, and private shopping. \nGrab your favorite Galentines and join us at Bloom Market and Refillery for a night celebrating friendship\, laughter\, and time together. This gathering is meant to be fun\, relaxed\, and easy to enjoy whether you come with friends or arrive solo. \n\nYour ticket includes a hands on make your own tallow experience with Bare Skincare\, where you will create a custom large four ounce tallow whip to take home. You will also enjoy a make your own bouquet at the Bloom Bar and receive a custom magnesium rich foot soak from Bloom. \nGrazing bites\, festive mocktails\, and oatmeal cream pies from Daily Bread Homestead will be available throughout the night\, along with exclusive after hours shopping at Bloom Market and Refillery. Guests will receive an event only fifteen percent off storewide discount. \nThis is a come and go style event\, so feel free to arrive anytime between six and eight and move through the experience at your own pace. \nOptional add ons will be available\, including permanent jewelry by Macklin Made and a curated slow fashion clothing rack by Sunday Silke. \nExpect a night that feels joyful\, welcoming\, and thoughtfully put together. A simple way to celebrate Galentine’s and leave with meaningful take homes and memories. \nTickets are limited.
URL:https://things-to-lou.com/events/galentines-evening-at-bloom/
LOCATION:Bloom Market & Refillery\, 12003 Shelbyville Road\, #104\, Louisville\, KY\, 40243\, United States
CATEGORIES:Shopping
END:VEVENT
BEGIN:VEVENT
DTSTART;TZID=America/New_York:20260210T180000
DTEND;TZID=America/New_York:20260210T210000
DTSTAMP:20260419T234354
CREATED:20251216T155255Z
LAST-MODIFIED:20251216T155255Z
UID:10003456-1770746400-1770757200@things-to-lou.com
SUMMARY:Nulu "Clash of the Cocktails"
DESCRIPTION:Get ready to turn up the volume. Clash of the Cocktails returns in 2026 on Tuesday\, February 10th from 6–9pm at Galaxie with Ilegal Mezcal\, where every pour is an encore. \nWe’re bringing Louisville’s boldest bartenders to the main stage. Watch as they shake\, stir\, and shred their way through a rock-inspired cocktail battle. \nExpect wild pours\, signature riffs\, and drinks worthy of a stadium tour. \nGrab your backstage pass and join us for big flavors\, fierce competition\, and a night of unforgettable energy. \n\nYour ticket includes a complimentary Galaxie Margarita\, delicious small bites\, and the chance to sample every competitor’s cocktail. \nAdditional food and drinks will be available for purchase\, and don’t miss our on-site tattoo artists offering live tattoos throughout the event. \nWe’ll be naming both a Judge’s Choice and a People’s Choice winner\, each taking home $500. \nGuests get to cast their votes for the top cocktail\, and we’ll also award prizes for Second Place and Best Table Decorations. \nLet the cocktail battle begin. \n  \n***description from website \nGET TICKETS
URL:https://things-to-lou.com/events/nulu-clash-of-the-cocktails-3/
LOCATION:Galaxie\, 732 E Market St\, Louisville\, KY\, 40202\, United States
CATEGORIES:Food & Drink,Mixology
END:VEVENT
BEGIN:VEVENT
DTSTART;TZID=America/New_York:20260210T190000
DTEND;TZID=America/New_York:20260210T210000
DTSTAMP:20260419T234354
CREATED:20260116T234027Z
LAST-MODIFIED:20260116T234027Z
UID:10004013-1770750000-1770757200@things-to-lou.com
SUMMARY:FIND YOUR VALENTINE SPEED DATING: Singles 50s/60s
DESCRIPTION:Meet up to 12 potential matches. Join the thousands of people that have found LOVE at PRE-DATING events. Will you be our next success story? \nSPECIAL EVENT: FIND YOUR VALENTINE SPEED DATING FOR LOUISVILLE KY SINGLES AGES 50s/60s\nPRE-DATING The World’s Oldest\, Largest\, & Best Speed Dating Company\, Since 2001! Are you ready to make something happen? Try the modern\, civilized way to meet someone wonderful. Singles across the country know the best way to meet – our IRL speed dating events. Simple\, easy\, effective. Don’t waste time swiping left and right hoping for love to find you\, the person you’re looking for may be at our PRE-DATING event. Get a ticket and find out! \nHOW IT WORKS\nPRE-DATING introduces you to at least 5 and up to 12 potential matches\, all local\, quality people. You’ll talk to each one during 6-minute “pre-dates” – just enough time to find out if you want to talk more and see if there’s a spark. Tell us which person gave you those excited butterflies in your stomach\, and we do the rest! You’ll love the exciting energy and friendly vibe at a PRE-DATING singles event. \nTrust the experts at PRE-DATING to host a wonderful evening full of excitement and brewing romance — a fun night out in a safe environment. You’ll love this very efficient and fast way to date. No pressure\, no games\, just a great time. \nPRE-DATING has hosted +38\,000 speed dating events! Join the thousands of people that have found their person at our events. Will you be our next success story? \nPRE-DATING events have been featured on CNN\, BBC\, The Wall Street Journal\, CBS\, Axios\, Bravo\, TLC’s 90 Day Finace The Single Life\, Miami New Times\, Tampa Bay Times\, Southbend Times\, Citylink Magazine\, Essence\, Best of Baltimore\, AM New York\, Chicago Tribune\, WINK FM\, Woman’s World Magazine\, and 100s more! \n 
URL:https://things-to-lou.com/events/find-your-valentine-speed-dating-singles-50s-60s/
LOCATION:The Belknap Event Center\, 12414 W Hwy 42\, Prospect\, KY\, 40059\, United States
CATEGORIES:Dating Event
END:VEVENT
BEGIN:VEVENT
DTSTART;TZID=America/New_York:20260210T190000
DTEND;TZID=America/New_York:20260210T213000
DTSTAMP:20260419T234354
CREATED:20260109T223616Z
LAST-MODIFIED:20260109T223616Z
UID:10003923-1770750000-1770759000@things-to-lou.com
SUMMARY:PNC Broadway in Louisville: "The Great Gatsby"
DESCRIPTION:The Great Gatsby is a “Broadway extravaganza that explodes with life and energy” (Entertainment Weekly). \nBased on the classic American novel by F. Scott Fitzgerald\, the Tony Award®-winning new musical is an unforgettable journey of love\, wealth and tragedy that brings the Roaring Twenties to life on stage. \nDirected by Marc Bruni (Beautiful: The Carole King Musical)\, this story of extravagance and longing features choreography by Dominique Kelley (So You Think You Can Dance)\, a book by Kait Kerrigan (The Mad Ones) and a jazz- and pop-influenced original score by Jason Howland (Little Women) and Nathan Tysen (Paradise Square). \nAges: Recommended 10+ \n**Please note infants are not allowed in the theater for this performance.** \nRunning Time: Approximately 2 hours 30 minutes (includes intermission) \nSHOW TIMES:\nTuesday\, Feb 10\, 2026 7:00 PM\nWednesday\, Feb 11\, 2026 7:00 PM\nThursday\, Feb 12\, 2026 7:00 PM\nFriday\, Feb 13\, 2026 7:00 PM\nSaturday\, Feb 14\, 2026 2:00 PM\nSaturday\, Feb 14\, 2026 7:30 PM\nSunday\, Feb 15\, 2026 1:00 PM\nSunday\, Feb 15\, 2026 6:30 PM
URL:https://things-to-lou.com/events/pnc-broadway-in-louisville-the-great-gatsby/2026-02-10/
LOCATION:Kentucky Performing Arts\, 501 W Main St\, Louisville\, KY\, 40202\, United States
CATEGORIES:Theatre
END:VEVENT
END:VCALENDAR