BEGIN:VCALENDAR
VERSION:2.0
PRODID:-//Things To Lou - ECPv6.15.20//NONSGML v1.0//EN
CALSCALE:GREGORIAN
METHOD:PUBLISH
X-WR-CALNAME:Things To Lou
X-ORIGINAL-URL:https://things-to-lou.com
X-WR-CALDESC:Events for Things To Lou
REFRESH-INTERVAL;VALUE=DURATION:PT1H
X-Robots-Tag:noindex
X-PUBLISHED-TTL:PT1H
BEGIN:VTIMEZONE
TZID:America/New_York
BEGIN:DAYLIGHT
TZOFFSETFROM:-0500
TZOFFSETTO:-0400
TZNAME:EDT
DTSTART:20250309T070000
END:DAYLIGHT
BEGIN:STANDARD
TZOFFSETFROM:-0400
TZOFFSETTO:-0500
TZNAME:EST
DTSTART:20251102T060000
END:STANDARD
BEGIN:DAYLIGHT
TZOFFSETFROM:-0500
TZOFFSETTO:-0400
TZNAME:EDT
DTSTART:20260308T070000
END:DAYLIGHT
BEGIN:STANDARD
TZOFFSETFROM:-0400
TZOFFSETTO:-0500
TZNAME:EST
DTSTART:20261101T060000
END:STANDARD
BEGIN:DAYLIGHT
TZOFFSETFROM:-0500
TZOFFSETTO:-0400
TZNAME:EDT
DTSTART:20270314T070000
END:DAYLIGHT
BEGIN:STANDARD
TZOFFSETFROM:-0400
TZOFFSETTO:-0500
TZNAME:EST
DTSTART:20271107T060000
END:STANDARD
END:VTIMEZONE
BEGIN:VEVENT
DTSTART;TZID=America/New_York:20260211T000000
DTEND;TZID=America/New_York:20260213T235959
DTSTAMP:20260419T155714
CREATED:20251212T224027Z
LAST-MODIFIED:20251212T224027Z
UID:10003350-1770768000-1771027199@things-to-lou.com
SUMMARY:Beyond the Barrel: Walking Bourbon Tour with Food Pairings | promo code! | multiple dates
DESCRIPTION:Go beyond the barrel to dive into bourbon’s storied history and learn all the stories they won’t tell you on a Kentucky Bourbon Trail distillery tour! \nAs the sun sets over the vibrant NuLu neighborhood\, you’ll visit award-winning restaurants\, hidden speakeasies\, rooftop terraces\, and cozy tasting rooms. \n\nBook your tour here!\nUse code “thingstolou10” to save 10%!\n\nUncover the secrets of Kentucky bourbon.\n  \n\nTrace the origins of bourbon whiskey from its roots in the Appalachian foothills to today’s thriving bourbon scene\nUnlock bourbon’s versatility and depth through paired bites\, pours\, and cocktails\nTry modern re-interpretations of classic Louisville bourbon cocktails such as the Old Fashioned and the Mint Julep\nSample bourbon’s full range of versatility\, including clarified\, fat-washed\, river-aged\, wheated\, infused\, and finished bourbons\nLand a few coveted tables at some of the most celebrated eateries in town\, including restaurants by Michelin Star and James Beard winning Chefs\n\n\nDETAILS\nDistance: 1 mile \nDuration: 3 hours \nFood: 5 stops\, 8 tastings \nDrinks: 2 bourbon pours\, 4 cocktails \nCapacity: 12 \nTime: 5 & 5:30 PM\, Wed-Fri \nAccessibility: 21+\, wheelchair friendly \n\nBook your tour here!\nUse code “thingstolou10” to save 10%!
URL:https://things-to-lou.com/events/beyond-the-barrel-walking-bourbon-tour-with-food-pairings-promo-code-multiple-dates-25/
LOCATION:KY
CATEGORIES:Walking Tour / Food Tour
ATTACH;FMTTYPE=image/jpeg:https://things-to-lou.com/wp-content/uploads/2025/12/FULL-SIZE-Beyond-the-Barrel-Bourbon-Food-Tour-28-e1765577819714.jpg
END:VEVENT
BEGIN:VEVENT
DTSTART;TZID=America/New_York:20260211T000000
DTEND;TZID=America/New_York:20260214T235959
DTSTAMP:20260419T155714
CREATED:20260127T054529Z
LAST-MODIFIED:20260127T054734Z
UID:10004188-1770768000-1771113599@things-to-lou.com
SUMMARY:Valentines Week at Hop Atomica
DESCRIPTION:It’s officially time to start planning for Valentine’s Week at Hop Atomica! ⁠\n⁠\nWe’ve got something for everyone:⁠\n⁠\n❤️ Wednesday: Taylor Swift Trivia + Valentine’s cocktails 🎤⁠ \n❤️ Thursday: Galentine’s Girls Night – girls’ dinner specials\, female owned vendors\, and late night karaoke ⁠ \n❤️ Friday & Saturday: Prix Fixe Menu for Two – pizza\, salad\, app\, dessert\, and 2 glasses of champagne 🥂 (reservations encouraged!)⁠ ($70 per couple)\n⁠\nAll week long you’ll find special Valentine’s cocktails\, dessert\, and pizza to keep things extra sweet. 🍕 \n***description from IG post
URL:https://things-to-lou.com/events/valentines-week-at-hop-atomica/
LOCATION:Hop Atomica\, 1318 McHenry St\, Louisville\, KY\, 40217\, United States
CATEGORIES:Food & Drink
END:VEVENT
BEGIN:VEVENT
DTSTART;TZID=America/New_York:20260211T170000
DTEND;TZID=America/New_York:20260211T200000
DTSTAMP:20260419T155714
CREATED:20251213T015756Z
LAST-MODIFIED:20251213T032511Z
UID:10003424-1770829200-1770840000@things-to-lou.com
SUMMARY:Phantoms of Prohibition: Ghosts\, Cocktails\, & Bites Tour | promo code!
DESCRIPTION:Discover Louisville’s Prohibition past on a haunted cocktail & food tour down Whiskey Row. \nBook your tour here!\nUse code “thingstolou10” to save 10%!\n\nVenture out with us and explore the hidden stories of Louisville’s haunted past. \nAs you eat and drink your way down Whiskey Row\, you’ll meet the resident ghosts of Louisville’s historic downtown\, trace the footsteps of bourbon magnates and mobsters\, see Al Capone’s secret getaway\, discover hidden speakeasies\, and learn the shocking truth about Prohibition. \n\nWhat to Expect\nThis tour includes 4 stops for libations\, as well as an assortment of small bites. Here’s what else to expect: \nBourbon & Cocktails\nThis is a boozy\, 21+ tour\, y’all. \nAudio Headset​\nTo help you hear us from a distance. \nSmall Group\nOur tours max out at 12 people. \nWalking\n1-1.5 Miles. Wear comfy shoes! \n\nExplore Whiskey Row:\nDistilleries. Speakeasies. Saloons. In the mid-1800’s\, this stretch of Main Street was filled to the brim with bourbon barrels – which would soon be considered contraband. \nWhile this area nearly crumbled to disrepair\, today the historic facades house bourbon distilleries\, bars\, restaurants and hotels. \nWhere\nMeet at 101 E Washington St\, Louisville\, KY \nWhen​\nTuesdays – Fridays\, 5:00 and 5:30 PM \n\nExplore the hidden stories of Louisville’s Prohibition past on Whiskey Row\nLike the combination of rye\, corn\, wheat\, and malted barley\, this tour is the perfect blend of cocktails\, food\, ghosts\, and Prohibition history. Over the 3 hours you’ll spend with us\, you’ll enjoy … \nDelicious Prohibition-era cocktails \nSpine-chilling true tales of the resident ghosts of Whiskey Row \nDelicious small bites \nThe surprising true story of Prohibition \nFun & knowledgeable guides
URL:https://things-to-lou.com/events/phantoms-of-prohibition-ghosts-cocktails-bites-tour-promo-code/2026-02-11/
LOCATION:KY
CATEGORIES:Walking Tour / Food Tour
ATTACH;FMTTYPE=image/jpeg:https://things-to-lou.com/wp-content/uploads/2025/12/Prohibition-Tour-7910-e1765591150807.jpg
END:VEVENT
BEGIN:VEVENT
DTSTART;TZID=America/New_York:20260211T180000
DTEND;TZID=America/New_York:20260211T200000
DTSTAMP:20260419T155714
CREATED:20260122T040518Z
LAST-MODIFIED:20260122T040518Z
UID:10004102-1770832800-1770840000@things-to-lou.com
SUMMARY:Hearts in Bloom: A Romantic Evening at Waterfront Botanical Gardens
DESCRIPTION:Wednesday\, February 11th | 6:00 – 8pm \n\nMusic by Addie and Cole\nDinner from The Black Italian\n\nCash/Card bar featuring wine\, champagne\, and non-alcoholic options. \nTickets: \n\n$60 non-members\n$50 WBG members\n\nThis is a 21+ event. \n***description from website
URL:https://things-to-lou.com/events/hearts-in-bloom-a-romantic-evening-at-waterfront-botanical-gardens-2/
LOCATION:Waterfront Botanical Gardens\, 1435 Frankfort Ave\, Louisville\, KY\, 40206\, United States
CATEGORIES:Food & Drink
END:VEVENT
BEGIN:VEVENT
DTSTART;TZID=America/New_York:20260211T190000
DTEND;TZID=America/New_York:20260211T213000
DTSTAMP:20260419T155714
CREATED:20260109T223616Z
LAST-MODIFIED:20260109T223616Z
UID:10003924-1770836400-1770845400@things-to-lou.com
SUMMARY:PNC Broadway in Louisville: "The Great Gatsby"
DESCRIPTION:The Great Gatsby is a “Broadway extravaganza that explodes with life and energy” (Entertainment Weekly). \nBased on the classic American novel by F. Scott Fitzgerald\, the Tony Award®-winning new musical is an unforgettable journey of love\, wealth and tragedy that brings the Roaring Twenties to life on stage. \nDirected by Marc Bruni (Beautiful: The Carole King Musical)\, this story of extravagance and longing features choreography by Dominique Kelley (So You Think You Can Dance)\, a book by Kait Kerrigan (The Mad Ones) and a jazz- and pop-influenced original score by Jason Howland (Little Women) and Nathan Tysen (Paradise Square). \nAges: Recommended 10+ \n**Please note infants are not allowed in the theater for this performance.** \nRunning Time: Approximately 2 hours 30 minutes (includes intermission) \nSHOW TIMES:\nTuesday\, Feb 10\, 2026 7:00 PM\nWednesday\, Feb 11\, 2026 7:00 PM\nThursday\, Feb 12\, 2026 7:00 PM\nFriday\, Feb 13\, 2026 7:00 PM\nSaturday\, Feb 14\, 2026 2:00 PM\nSaturday\, Feb 14\, 2026 7:30 PM\nSunday\, Feb 15\, 2026 1:00 PM\nSunday\, Feb 15\, 2026 6:30 PM
URL:https://things-to-lou.com/events/pnc-broadway-in-louisville-the-great-gatsby/2026-02-11/
LOCATION:Kentucky Performing Arts\, 501 W Main St\, Louisville\, KY\, 40202\, United States
CATEGORIES:Theatre
END:VEVENT
END:VCALENDAR