BEGIN:VCALENDAR
VERSION:2.0
PRODID:-//Things To Lou - ECPv6.15.20//NONSGML v1.0//EN
CALSCALE:GREGORIAN
METHOD:PUBLISH
X-WR-CALNAME:Things To Lou
X-ORIGINAL-URL:https://things-to-lou.com
X-WR-CALDESC:Events for Things To Lou
REFRESH-INTERVAL;VALUE=DURATION:PT1H
X-Robots-Tag:noindex
X-PUBLISHED-TTL:PT1H
BEGIN:VTIMEZONE
TZID:America/New_York
BEGIN:DAYLIGHT
TZOFFSETFROM:-0500
TZOFFSETTO:-0400
TZNAME:EDT
DTSTART:20250309T070000
END:DAYLIGHT
BEGIN:STANDARD
TZOFFSETFROM:-0400
TZOFFSETTO:-0500
TZNAME:EST
DTSTART:20251102T060000
END:STANDARD
BEGIN:DAYLIGHT
TZOFFSETFROM:-0500
TZOFFSETTO:-0400
TZNAME:EDT
DTSTART:20260308T070000
END:DAYLIGHT
BEGIN:STANDARD
TZOFFSETFROM:-0400
TZOFFSETTO:-0500
TZNAME:EST
DTSTART:20261101T060000
END:STANDARD
BEGIN:DAYLIGHT
TZOFFSETFROM:-0500
TZOFFSETTO:-0400
TZNAME:EDT
DTSTART:20270314T070000
END:DAYLIGHT
BEGIN:STANDARD
TZOFFSETFROM:-0400
TZOFFSETTO:-0500
TZNAME:EST
DTSTART:20271107T060000
END:STANDARD
END:VTIMEZONE
BEGIN:VEVENT
DTSTART;TZID=America/New_York:20260218T000000
DTEND;TZID=America/New_York:20260220T235959
DTSTAMP:20260423T114729
CREATED:20251212T224033Z
LAST-MODIFIED:20251212T224410Z
UID:10003351-1771372800-1771631999@things-to-lou.com
SUMMARY:Beyond the Barrel: Walking Bourbon Tour with Food Pairings | promo code! | multiple dates
DESCRIPTION:Go beyond the barrel to dive into bourbon’s storied history and learn all the stories they won’t tell you on a Kentucky Bourbon Trail distillery tour! \nAs the sun sets over the vibrant NuLu neighborhood\, you’ll visit award-winning restaurants\, hidden speakeasies\, rooftop terraces\, and cozy tasting rooms. \n\nBook your tour here!\nUse code “thingstolou10” to save 10%!\n\nUncover the secrets of Kentucky bourbon.\n  \n\nTrace the origins of bourbon whiskey from its roots in the Appalachian foothills to today’s thriving bourbon scene\nUnlock bourbon’s versatility and depth through paired bites\, pours\, and cocktails\nTry modern re-interpretations of classic Louisville bourbon cocktails such as the Old Fashioned and the Mint Julep\nSample bourbon’s full range of versatility\, including clarified\, fat-washed\, river-aged\, wheated\, infused\, and finished bourbons\nLand a few coveted tables at some of the most celebrated eateries in town\, including restaurants by Michelin Star and James Beard winning Chefs\n\n\nDETAILS\nDistance: 1 mile \nDuration: 3 hours \nFood: 5 stops\, 8 tastings \nDrinks: 2 bourbon pours\, 4 cocktails \nCapacity: 12 \nTime: 5 & 5:30 PM\, Wed-Fri \nAccessibility: 21+\, wheelchair friendly \n\nBook your tour here!\nUse code “thingstolou10” to save 10%!
URL:https://things-to-lou.com/events/beyond-the-barrel-walking-bourbon-tour-with-food-pairings-promo-code-multiple-dates-26/
LOCATION:KY
CATEGORIES:Walking Tour / Food Tour
ATTACH;FMTTYPE=image/jpeg:https://things-to-lou.com/wp-content/uploads/2025/12/FULL-SIZE-Beyond-the-Barrel-Tour-5-e1765577928790.jpg
END:VEVENT
BEGIN:VEVENT
DTSTART;TZID=America/New_York:20260219T000000
DTEND;TZID=America/New_York:20260220T235959
DTSTAMP:20260423T114729
CREATED:20251212T213253Z
LAST-MODIFIED:20251212T213253Z
UID:10003308-1771459200-1771631999@things-to-lou.com
SUMMARY:The Bourbon Trolley: Distillery Tour\, Tasting Rooms & Bourbon Experiences | promo code! (multiple tour times)
DESCRIPTION:Use code “thingstolou10” to save 10%!\nBook your tour here!\n\nStep aboard Louisville’s historic trolley to explore distilleries\, tasting rooms\, & bourbon-infused bites! \nAs you roll through downtown\, NuLu\, and Butchertown\, you’ll get exclusive access to tasting rooms\, tour a bourbon distillery\, and sample treats with a bourbon twist. \nEach stop features pours\, tours\, cocktails\, stories\, and plenty of Bourbon City surprises. \nDETAILS\n🥃 Duration: 3 hours\n🥃 Distance: 0.25 miles of walking\n🥃 Trolley: 24-hour LouHop pass included\n🥃 Bourbon Experiences: 5 stops\, including a distillery tour & tasting rooms\n🥃 Tastings: 9 bourbon pours\, 2 cocktails and 9 small food samples\n🥃 Capacity: 12\n🥃 Time: 1:30-4:30 PM\, Thursdays & Fridays\n🥃 Accessibility: 21+. Wheelchair accessible with advanced notice. \nWHAT TO EXPECT\n\nStep inside a bourbon distillery (that’s almost always sold out) for a customized tour and guided tasting\nSip bourbon flights and exclusive cocktails in hidden speakeasies and tasting rooms at some of America’s oldest bourbon brands\nGo beyond the glass with tastings of barrel-aged sauces\, spices\, and treats that showcase bourbon’s influence on Kentucky cuisine.\nExplore Downtown\, NuLu\, and Butchertown in comfort aboard a climate-controlled historic trolley. Plus\, continue exploring with a 24-hour LouHop pass after your tour.\n\n\nLouisville’s Most Unique Bourbon Tour\nPerfect for both bourbon newcomers and seasoned enthusiasts\, this guided trolley tour through Downtown\, NuLu\, and Butchertown offers exclusive access to tasting rooms\, speakeasies\, artisans\, and a distillery you won’t find on any other Kentucky bourbon experience. \nOver the 3 hours you’ll spend with us\, you’ll enjoy …\n\nExclusive bourbon tastings & cocktails\nDistillery tour & guided tasting\nHistoric trolley ride with expert guides\n24-hour LouHop hop-on\, hop-off pass to use after your tour\n\n\nAn UNFORGETTABLE trolley tour!\n5-Star Experience \nExclusive access\, custom crafted cocktails\, and experiences. \nHistoric Trolley \nTake in the views as you roll through town in climate-controlled comfort. \nBourbon \nEnjoy bourbon flights\, a distillery tour\, craft cocktails\, and bourbon-infused samples. \nSmall Group \nCapped at 12 people for a more personalized experience. \nBook your tour here!
URL:https://things-to-lou.com/events/the-bourbon-trolley-distillery-tour-tasting-rooms-bourbon-experiences-promo-code-multiple-tour-times-10/
LOCATION:KY
CATEGORIES:Walking Tour / Food Tour
ATTACH;FMTTYPE=image/jpeg:https://things-to-lou.com/wp-content/uploads/2025/12/FULL-SIZE-Bourbon-Trolley-21-e1765572460116.jpg
END:VEVENT
BEGIN:VEVENT
DTSTART;TZID=America/New_York:20260220T000000
DTEND;TZID=America/New_York:20260222T235959
DTSTAMP:20260423T114729
CREATED:20251212T220345Z
LAST-MODIFIED:20251212T220345Z
UID:10003327-1771545600-1771804799@things-to-lou.com
SUMMARY:SECRETS OF LOUISVILLE Food & History Tour in Nulu | promo code! (multiple times)
DESCRIPTION:Experience Louisville’s story one bite at a time.\nThis tour offers a delicious introduction to the quintessential foods and drinks that define both Louisville and Kentucky. \nStroll through the trendy NuLu and historic Butchertown neighborhoods while sampling famous dishes that originated right here in Louisville— from the foothills of Appalachia to the glitz and glamour of Prohibition-era Louisville. \nEnjoy tastings from six unique stops and how Louisville’s heritage and history have shaped these iconic foods. \n\n  \nBook your tour here!\nUse promo code “thingstolou10” and save 10% on your tickets!\nThe best way to discover Louisville’s essential flavors – without the hassle of driving around – even if you’re short on time! This tour frequently sells out\, so reserve your spot early. \n  \n\nQUICK DETAILS\n\nDistance: 1.5 miles\, flat\nDuration: 3 hours\nFood Stops: 6 stops for local dishes & drinks\nCapacity: 12 per tour\nTime: 1 PM\, Fridays-Sundays\nAccessibility: Wheelchair and stroller friendly. All ages welcome. Ages 2 and under are free.\n\n\nWhere\nMeet at 636 E Main St\, Louisville\, KY 40202 \nWhen​\nFridays\, Saturdays\, and Sundays at 1 PM \n\nWhat’s This Tour All About?\nIs it a food tour or a history tour? The answer\, of course\, is both! This tour is the perfect blend of tastes and tales. \nOver the 3 hours you’ll spend with us\, you’ll enjoy … \n\n8 Delicious dishes representing Kentucky’s heritage (come hungry)\nBarrel-aged craft beer tasting and 2 refreshing alcoholic slushies\nThe unfiltered history of two of Louisville’s most historic neighborhoods\nJokes that we proof-tested on other people first\, probably\nAudio headset (the better to hear your guide – and those jokes)\n\n\nWhat to Expect \nWe’ll be making 6 delicious stops! You can also expect… \nFood & Drinks\nCome hungry & thirsty! (Mocktails also available) \nAudio Headset​\nThe lightweight headset helps you hear us from a distance. \nSmall Group\nOur tours max out at 12 people. \nWalking\n1-1.5 Miles. Wear comfy shoes!
URL:https://things-to-lou.com/events/secrets-of-louisville-food-history-tour-in-nulu-promo-code-multiple-times-43/
LOCATION:KY
CATEGORIES:Walking Tour / Food Tour
ATTACH;FMTTYPE=image/jpeg:https://things-to-lou.com/wp-content/uploads/2025/12/IMG_1316-e1765576295555.jpg
END:VEVENT
BEGIN:VEVENT
DTSTART;TZID=America/New_York:20260220T110000
DTEND;TZID=America/New_York:20260220T150000
DTSTAMP:20260423T114729
CREATED:20251213T013720Z
LAST-MODIFIED:20251213T014634Z
UID:10003395-1771585200-1771599600@things-to-lou.com
SUMMARY:Louisville Legends: Downtown Derby City Food & History Tour | promo code!
DESCRIPTION:Take a delicious stroll through the heart of downtown Louisville. \nAs you walk along iconic Whiskey Row and Museum Row\, you’ll enjoy classic dishes and drinks that define Louisville’s flavor\, all while learning about the city’s fascinating past. \nWe took this tour! Here is a preview! \n\nBook your tour here!\nUse code “thingstolou10” to save 10%!\n\n \n\nTaste quintessential Kentucky dishes and desserts including the Hot Brown\, Derby Pie\, and Modjeskas\nSip on iconic Louisville drinks\, including bourbon cocktails and barrel-aged beer.\nExplore historic Whiskey Row and Museum Row with an expert guide.\nLearn the stories behind Louisville’s fascinating history and the legends who shaped it.\n\nQUICK DETAILS\n\nDistance: 1.5 miles\nDuration: 3 hours\nFood Stops: 6 tastings at 4 stops\nCapacity: 12\nTime: 11 & 11:30 AM\, Wed-Sat\nAccessibility: All ages\, wheelchair & stroller friendly\n\n \n\nWhat to Expect\nThis tour includes 4 stops for food & drinks. Here’s what else to expect: \nPhotos\nThink of our guides as your personal photographers. \nFood & Drinks\nAll included with your ticket – so come hungry & thirsty! (Mocktails also available) \nSmall Group\nOur public tours max out at 12 people for a more personalized experience. \nAudio Headset​\nTo help hear your expert guide\, even from a distance. \nWalking\n1.5 Miles. Wear comfy shoes!
URL:https://things-to-lou.com/events/louisville-legends-downtown-derby-city-food-history-tour-promo-code/2026-02-20/
LOCATION:KY
CATEGORIES:Walking Tour / Food Tour
ATTACH;FMTTYPE=image/jpeg:https://things-to-lou.com/wp-content/uploads/2025/12/FULL-SIZE-Downtown-66-e1765589319880.jpg
END:VEVENT
BEGIN:VEVENT
DTSTART;TZID=America/New_York:20260220T170000
DTEND;TZID=America/New_York:20260220T200000
DTSTAMP:20260423T114729
CREATED:20251213T015756Z
LAST-MODIFIED:20251213T032511Z
UID:10003429-1771606800-1771617600@things-to-lou.com
SUMMARY:Phantoms of Prohibition: Ghosts\, Cocktails\, & Bites Tour | promo code!
DESCRIPTION:Discover Louisville’s Prohibition past on a haunted cocktail & food tour down Whiskey Row. \nBook your tour here!\nUse code “thingstolou10” to save 10%!\n\nVenture out with us and explore the hidden stories of Louisville’s haunted past. \nAs you eat and drink your way down Whiskey Row\, you’ll meet the resident ghosts of Louisville’s historic downtown\, trace the footsteps of bourbon magnates and mobsters\, see Al Capone’s secret getaway\, discover hidden speakeasies\, and learn the shocking truth about Prohibition. \n\nWhat to Expect\nThis tour includes 4 stops for libations\, as well as an assortment of small bites. Here’s what else to expect: \nBourbon & Cocktails\nThis is a boozy\, 21+ tour\, y’all. \nAudio Headset​\nTo help you hear us from a distance. \nSmall Group\nOur tours max out at 12 people. \nWalking\n1-1.5 Miles. Wear comfy shoes! \n\nExplore Whiskey Row:\nDistilleries. Speakeasies. Saloons. In the mid-1800’s\, this stretch of Main Street was filled to the brim with bourbon barrels – which would soon be considered contraband. \nWhile this area nearly crumbled to disrepair\, today the historic facades house bourbon distilleries\, bars\, restaurants and hotels. \nWhere\nMeet at 101 E Washington St\, Louisville\, KY \nWhen​\nTuesdays – Fridays\, 5:00 and 5:30 PM \n\nExplore the hidden stories of Louisville’s Prohibition past on Whiskey Row\nLike the combination of rye\, corn\, wheat\, and malted barley\, this tour is the perfect blend of cocktails\, food\, ghosts\, and Prohibition history. Over the 3 hours you’ll spend with us\, you’ll enjoy … \nDelicious Prohibition-era cocktails \nSpine-chilling true tales of the resident ghosts of Whiskey Row \nDelicious small bites \nThe surprising true story of Prohibition \nFun & knowledgeable guides
URL:https://things-to-lou.com/events/phantoms-of-prohibition-ghosts-cocktails-bites-tour-promo-code/2026-02-20/
LOCATION:KY
CATEGORIES:Walking Tour / Food Tour
ATTACH;FMTTYPE=image/jpeg:https://things-to-lou.com/wp-content/uploads/2025/12/Prohibition-Tour-7910-e1765591150807.jpg
END:VEVENT
BEGIN:VEVENT
DTSTART;TZID=America/New_York:20260220T190000
DTEND;TZID=America/New_York:20260220T210000
DTSTAMP:20260423T114729
CREATED:20260109T213929Z
LAST-MODIFIED:20260109T213929Z
UID:10003888-1771614000-1771621200@things-to-lou.com
SUMMARY:Rude Weirdo with Decline Effect & Devils
DESCRIPTION:Ages 18 and up\nFriday\, February 20\nDoors: 7 pm // Show: 8 pm\n$15.40
URL:https://things-to-lou.com/events/rude-weirdo-with-decline-effect-devils/
LOCATION:The Whirling Tiger\, 1335 Story Ave \, KY 40206\, Louisville\, KY\, 40206\, United States
CATEGORIES:Music
END:VEVENT
BEGIN:VEVENT
DTSTART;TZID=America/New_York:20260220T190000
DTEND;TZID=America/New_York:20260220T210000
DTSTAMP:20260423T114729
CREATED:20260121T041647Z
LAST-MODIFIED:20260121T041647Z
UID:10004052-1771614000-1771621200@things-to-lou.com
SUMMARY:"Singles Slideshow" Dating Event
DESCRIPTION:Swipe in person and find your special somebody in the season of *love* ! \nIts Back!\nThe Somebody Society is hosting a Singles slideshow event at Aloft Hotel’s Corner Bar on February 20th from 7pm-9pm. \nCome and present yourself or a friend or just enjoy learning about your potential match! \nThose wanting to participate in presentations should send one slide including some interesting facts about themselves or their friend to louisville@thesomebodysociety.com. \nPlease remember\, these slides will be shown to a crowd of singles! \nPresentations to go along with the slides should be kept between 3 and 5 minutes at the most – we have lots of amazing folks to meet! The cutoff for all presentations to be accepted into the slideshow event is 1 hour before the event starts (6pm 2/20). \n\nHow it works?\nShow up ready to watch a quick presentation of 20 local singles given by their friends! Afterwards\, mingle with all the local singles and see what the slideshow was all about! \nThere will be a limited number of presentations for this event\, but please come ready to mingle even if you or your friend doesn’t make the slideshow! The slideshow serves to help break the ice and get people talking. \nEach person gets one slide frame to present. Please include the persons name\, age\, and photo\, along with any fun facts. ( Any presentations that are inappropriate will not be allowed in the slide show. We have the right to dismiss your slide.) \n\nWhat is The Somebody Society?\nWe are a social club made to make friends and become the somebody you have always wanted to be! We often host fun events to gather the community \, promote local businesses\, mingle with new people \, and of course dress up ! Check us out on INSTAGRAM and lets be friends! \nBy registering for the event\, you are aware that photos and videos might be taken of you at the event and can be used on our social media pages or other marketing materials. You are agreeing for The Somebody society or any host associated with the event to use your image for these promotional materials. By registering\, you are agreeing for The Somebody Society to send you emails in regards to this event or future events\, along with newsletters to keep up with the club. Attendees acknowledge and voluntarily assume all risks and hazards associated with the event activities and attendance before\, during or after the event.. Attendees further allow the Somebody Society \, its organizers\, hosts\, and affiliates from any and all claims\, liabilities\, or demands arising out of or in connection with their participation. Attendees agree to conduct themselves responsibly\, follow all event rules and guidelines\, and ensure their own safety and well-being during the event. Refunds are not available for this event. We reserve the right to dismiss anyone from the event. \n***description from Eventbrite \nINSTAGRAM POST
URL:https://things-to-lou.com/events/singles-slideshow-dating-event/
LOCATION:Corner\, 102 West Main Street\, Louisville\, KY\, 40202\, United States
CATEGORIES:Dating Event,Food & Drink
END:VEVENT
BEGIN:VEVENT
DTSTART;TZID=America/New_York:20260220T190000
DTEND;TZID=America/New_York:20260220T230000
DTSTAMP:20260423T114729
CREATED:20260120T030810Z
LAST-MODIFIED:20260120T031631Z
UID:10004041-1771614000-1771628400@things-to-lou.com
SUMMARY:Va Va Vixens Presents "Va Va au reVoir - Until We Meet Again"
DESCRIPTION:This Valentine Season\, Join us in celebrating all that is in your HEART! Come experience the Va Va Vixens in a truly beautiful variety show send off to what has been our HOME for more than a decade! \nThis will truly be a night you will NEVER forget! \n\nShow Dates: February 6\, 7\, 13\, 14\, 20\, 21\nVIP (Reserved Seats with Cocktail Service) $50\nGeneral Admission $35\n18+\n\n\nMore About the Show\nA luscious mix of neo-classic burlesque\, daring and dangerous circus performances\, uproarious comedy\, variety acts\, and stunningly choreographed group dance sequences\, the Va Va Vixens are an entity of experiences that is sure to have you jumping out of your seats and begging for more! We bring the mirth and merriment of good old fashioned Voix de Ville like no other! As Louisville’s acclaimed Vaudeville-style burlesque and variety show\, we feature a captivating cast of beautifully talented performers of all shimmies! The Va Va Vixens will take you on a wild and risqué ride into the magnificent world of sizzling striptease\, ethereal aerial acrobatics and contortions\, show stopping vocal stylings of our sultry songbirds\, divine dancers\, and outrageous antics! This is an ever evolving spectacle\, drafted from scratch\, so you will want to capture each tassel twirling season! Come play with us! \nBrought to you by the producers of sold out performances: “Va Va eVerlasting Darkness”\, “Va Va VIBE”\, “Va Va FeVer”\, “Va Va Vision”\, “Va Va Cotton Candy CarniVal”\, “Va Va Valentine: AnniVersary of LoVe”\, “Va Va Vampy and Campy”\, “Va Va Vittles: A Feast for the Eyes”\, “XXX OOO”\, “Va Va ExtraVaganza”\, “Tunnel of LoVe”\, “Va Va ReVerie”\, “Tapestry of Variance”\, “Va Va Vizard of Voz”\, “Va Va Views from the Vault”\, “Va Va Venus”\, “Va Va Vamp”\, “Va Va ReVolutionary”\, “Va Va InVincible”\, “Va Va FestiVus”\, “Va Va adVenture”\, “Va Va Vunderland”\, “Va Va Vortex”\, “Va Va CarniVale”\,\, “Va Va ReVue: Naughty and Nice”\, Art Sanctuary and The Va Va Vixens have returned for yet another original production with “Va Va au reVoir- Until We Meet Again!” \n*A portion of the proceeds go to non-profit arts organization\, Art Sanctuary to help local artists! \nTo any Va Va Virgins out there: Come experience what you’ve been missing! \nWhether you are looking for a friends’ night out or a romantic evening with your special someone\, this is the show for you and you and you and YOU! \n\nArt Sanctuary is a 501(c)3 non-profit status community-oriented arts collective supporting local visual\, literary\, and performing arts through events\, promotion and education. \nIf you have an idea for a creative event or even need a place for your wedding or private party\, let us know! Art Sanctuary is the place for YOU!
URL:https://things-to-lou.com/events/va-va-vixens-presents-va-va-au-revoir-until-we-meet-again/2026-02-20/
LOCATION:Art Sanctuary\, 1433 S Shelby Street\, Louisville\, KY\, 40217\, United States
CATEGORIES:Burlesque,Dance,Entertainment
END:VEVENT
BEGIN:VEVENT
DTSTART;TZID=America/New_York:20260220T200000
DTEND;TZID=America/New_York:20260220T220000
DTSTAMP:20260423T114729
CREATED:20260109T215544Z
LAST-MODIFIED:20260109T215544Z
UID:10003900-1771617600-1771624800@things-to-lou.com
SUMMARY:Saxsquatch - Party Animal 2026
DESCRIPTION:Fri Feb 20\, 2026 \n8:00PM \nSaxsquatch – Party Animal 2026
URL:https://things-to-lou.com/events/saxsquatch-party-animal-2026/
LOCATION:Mercury Ballroom\, 611 S 4th St\, Louisville\, KY\, 40202\, United States
CATEGORIES:Music
END:VEVENT
END:VCALENDAR