BEGIN:VCALENDAR
VERSION:2.0
PRODID:-//Things To Lou - ECPv6.15.20//NONSGML v1.0//EN
CALSCALE:GREGORIAN
METHOD:PUBLISH
X-WR-CALNAME:Things To Lou
X-ORIGINAL-URL:https://things-to-lou.com
X-WR-CALDESC:Events for Things To Lou
REFRESH-INTERVAL;VALUE=DURATION:PT1H
X-Robots-Tag:noindex
X-PUBLISHED-TTL:PT1H
BEGIN:VTIMEZONE
TZID:America/New_York
BEGIN:DAYLIGHT
TZOFFSETFROM:-0500
TZOFFSETTO:-0400
TZNAME:EDT
DTSTART:20250309T070000
END:DAYLIGHT
BEGIN:STANDARD
TZOFFSETFROM:-0400
TZOFFSETTO:-0500
TZNAME:EST
DTSTART:20251102T060000
END:STANDARD
BEGIN:DAYLIGHT
TZOFFSETFROM:-0500
TZOFFSETTO:-0400
TZNAME:EDT
DTSTART:20260308T070000
END:DAYLIGHT
BEGIN:STANDARD
TZOFFSETFROM:-0400
TZOFFSETTO:-0500
TZNAME:EST
DTSTART:20261101T060000
END:STANDARD
BEGIN:DAYLIGHT
TZOFFSETFROM:-0500
TZOFFSETTO:-0400
TZNAME:EDT
DTSTART:20270314T070000
END:DAYLIGHT
BEGIN:STANDARD
TZOFFSETFROM:-0400
TZOFFSETTO:-0500
TZNAME:EST
DTSTART:20271107T060000
END:STANDARD
END:VTIMEZONE
BEGIN:VEVENT
DTSTART;TZID=America/New_York:20260224T000000
DTEND;TZID=America/New_York:20260224T235959
DTSTAMP:20260423T114844
CREATED:20260210T061511Z
LAST-MODIFIED:20260210T061608Z
UID:10004697-1771891200-1771977599@things-to-lou.com
SUMMARY:AudaTours Louisville Audio Tour: Whiskey\, Wonders\, and Timeless Towers
DESCRIPTION:Louisville’s story is carved in bat-swing echoes and whispered through cathedral stained glass. Beneath its vibrant streets\, legends of secret rivalries\, unsolved mysteries\, and bold ambition wait to be unearthed. \nSet your pace on this self-guided audio tour and uncover the city’s hidden side. Each step leads to tales most visitors never hear\, from the swing of baseball history at the Louisville Slugger Museum to the silent prayers and political intrigue woven into the Cathedral of the Assumption. \nWhat forced a congregation to stand defiant as riots threatened their sanctuary? Which bat carved in the last century may be linked to a sporting scandal still whispered about today? Why do some believe a single painting inside the Frazier History Museum holds the key to a decades-old feud? \nMove through Louisville’s pulse where heroes rose\, mysteries linger\, and every street reveals another untold chapter. \nPress play and let Louisville’s secrets find you. \nMORE INFO
URL:https://things-to-lou.com/events/audatours-louisville-audio-tour-whiskey-wonders-and-timeless-towers/2026-02-24/
LOCATION:Various
CATEGORIES:Walking Tour / Food Tour
ATTACH;FMTTYPE=image/jpeg:https://things-to-lou.com/wp-content/uploads/2026/02/tours_1522b50d-2a3a-4ceb-8626-4cf81b2877f6_actionshot_image_1536-e1770704647960.jpeg
END:VEVENT
BEGIN:VEVENT
DTSTART;TZID=America/New_York:20260224T160000
DTEND;TZID=America/New_York:20260224T190000
DTSTAMP:20260423T114844
CREATED:20260105T070238Z
LAST-MODIFIED:20260105T070848Z
UID:10003597-1771948800-1771959600@things-to-lou.com
SUMMARY:Paws on the Patio | drink specials & a free pup cup
DESCRIPTION:Bring your furry friend to Moonsong on from 4 to 7 p.m. for drink specials and a free pup cup with purchase. \n$1 from every Tito’s purchase is donated to the Kentucky Humane Society. \n\nEvent Date:\nTuesdays \nLocation:\n710 E Jefferson St\, Louisville\, KY 40202 \nEvent Host:\nMoonsong Bar & Cafe \n\nINSTAGRAM post about this event! \n 
URL:https://things-to-lou.com/events/paws-on-the-patio-drink-specials-a-free-pup-cup/2026-02-24/
LOCATION:Moonsong Bar & Cafe\, 710 E Jefferson St\, Louisville\, KY\, 40202\, United States
CATEGORIES:Food & Drink,Pets
ATTACH;FMTTYPE=image/png:https://things-to-lou.com/wp-content/uploads/2026/01/screenshot-2025-11-03-at-11.13.33-am-e1767596635714.png
END:VEVENT
END:VCALENDAR