BEGIN:VCALENDAR
VERSION:2.0
PRODID:-//Things To Lou - ECPv6.15.20//NONSGML v1.0//EN
CALSCALE:GREGORIAN
METHOD:PUBLISH
X-ORIGINAL-URL:https://things-to-lou.com
X-WR-CALDESC:Events for Things To Lou
REFRESH-INTERVAL;VALUE=DURATION:PT1H
X-Robots-Tag:noindex
X-PUBLISHED-TTL:PT1H
BEGIN:VTIMEZONE
TZID:America/New_York
BEGIN:DAYLIGHT
TZOFFSETFROM:-0500
TZOFFSETTO:-0400
TZNAME:EDT
DTSTART:20250309T070000
END:DAYLIGHT
BEGIN:STANDARD
TZOFFSETFROM:-0400
TZOFFSETTO:-0500
TZNAME:EST
DTSTART:20251102T060000
END:STANDARD
BEGIN:DAYLIGHT
TZOFFSETFROM:-0500
TZOFFSETTO:-0400
TZNAME:EDT
DTSTART:20260308T070000
END:DAYLIGHT
BEGIN:STANDARD
TZOFFSETFROM:-0400
TZOFFSETTO:-0500
TZNAME:EST
DTSTART:20261101T060000
END:STANDARD
BEGIN:DAYLIGHT
TZOFFSETFROM:-0500
TZOFFSETTO:-0400
TZNAME:EDT
DTSTART:20270314T070000
END:DAYLIGHT
BEGIN:STANDARD
TZOFFSETFROM:-0400
TZOFFSETTO:-0500
TZNAME:EST
DTSTART:20271107T060000
END:STANDARD
END:VTIMEZONE
BEGIN:VEVENT
DTSTART;TZID=America/New_York:20260225T000000
DTEND;TZID=America/New_York:20260227T235959
DTSTAMP:20260419T161048
CREATED:20251212T224040Z
LAST-MODIFIED:20251212T224420Z
UID:10003352-1771977600-1772236799@things-to-lou.com
SUMMARY:Beyond the Barrel: Walking Bourbon Tour with Food Pairings | promo code! | multiple dates
DESCRIPTION:Go beyond the barrel to dive into bourbon’s storied history and learn all the stories they won’t tell you on a Kentucky Bourbon Trail distillery tour! \nAs the sun sets over the vibrant NuLu neighborhood\, you’ll visit award-winning restaurants\, hidden speakeasies\, rooftop terraces\, and cozy tasting rooms. \n\nBook your tour here!\nUse code “thingstolou10” to save 10%!\n\nUncover the secrets of Kentucky bourbon.\n  \n\nTrace the origins of bourbon whiskey from its roots in the Appalachian foothills to today’s thriving bourbon scene\nUnlock bourbon’s versatility and depth through paired bites\, pours\, and cocktails\nTry modern re-interpretations of classic Louisville bourbon cocktails such as the Old Fashioned and the Mint Julep\nSample bourbon’s full range of versatility\, including clarified\, fat-washed\, river-aged\, wheated\, infused\, and finished bourbons\nLand a few coveted tables at some of the most celebrated eateries in town\, including restaurants by Michelin Star and James Beard winning Chefs\n\n\nDETAILS\nDistance: 1 mile \nDuration: 3 hours \nFood: 5 stops\, 8 tastings \nDrinks: 2 bourbon pours\, 4 cocktails \nCapacity: 12 \nTime: 5 & 5:30 PM\, Wed-Fri \nAccessibility: 21+\, wheelchair friendly \n\nBook your tour here!\nUse code “thingstolou10” to save 10%!
URL:https://things-to-lou.com/events/beyond-the-barrel-walking-bourbon-tour-with-food-pairings-promo-code-multiple-dates-27/
LOCATION:KY
CATEGORIES:Walking Tour / Food Tour
ATTACH;FMTTYPE=image/jpeg:https://things-to-lou.com/wp-content/uploads/2025/12/FULL-SIZE-Beyond-the-Barrel-Tour-37-e1765577921595.jpg
END:VEVENT
BEGIN:VEVENT
DTSTART;TZID=America/New_York:20260225T000000
DTEND;TZID=America/New_York:20260228T235959
DTSTAMP:20260419T161048
CREATED:20250425T202328Z
LAST-MODIFIED:20250612T180214Z
UID:10002089-1771977600-1772323199@things-to-lou.com
SUMMARY:Bourbon Classic 2026 | bourbon tastings\, public speakers\, chef/mixologist pairing competition\, and more
DESCRIPTION:Bourbon Classic 2026 will take place February 25 – 28\, 2026! The main events will take place at the Kentucky International Convention Center\, located in the heart of downtown. \nHere is the videos we published on @ThingsToLou in 2025 after the festival! \n–“The Folks Fueling the Bourbon Industry” \n–“Four Distilleries to Visit in Kentucky” \nWEEKEND EVENTS:\nFriday\, February 27\nCocktail and Culinary Challenge – the Ultimate Chef & Mixologist Pairing Competition\nExperience curated pairings of exquisite cuisine and cocktails\, crafted specifically for Bourbon Classic. Watch as the region’s top bartenders and chefs battle it out for the coveted titles of “Best Cocktail” and “Best Small Plate.” \nSaturday\, February 28\nBegin with Bourbon University and close with the grand finale TASTE\nBourbon University:\nBourbon education for all: whether you’re a novice or a seasoned enthusiast\, our classes cater to your curiosity. Learn from industry legends and connect with fellow enthusiasts. \nTASTE:\nIt’s time for a Bourbon experience like no other! Immerse yourself in the world of Bourbon with tastings from our Bourbon Classic distillers\, meet the distiller representatives and enjoy delicious dishes from our featured restaurants. And don’t forget your complimentary Glencairn tasting glass! \nWHERE: Kentucky International Convention Center \n\nPress Release:\n2026 Bourbon Classic Tickets Are Now LIVE! \nLOUISVILLE\, Ky. (June 5\, 2024) – Bourbon Classic is thrilled to announce weekend tickets are now on sale for the 2026 annual celebration of the best of the best in Bourbon\, culinary and cocktails after shattering attendance records in 2025. Established 2012\, Bourbon Classic is Louisville’s Original Celebration of The Bourbon Arts & Lifestyle. \nTickets are available at BourbonClassic.com. The event will be held February 25-28\, 2026\, in Louisville\, Kentucky. \nThe 2026 Bourbon Classic weekend events will take place at the Kentucky International Convention Center\, located in the heart of downtown Louisville\, an easy walking distance to the nearby urban distilleries. \nEXPERIENCE THE BEST IN BOURBON \nThe Bourbon Classic weekend promises an unforgettable experience for Bourbon lovers. \nSignature events include: \n Cocktail and Culinary Challenge (Friday\, February 27) – Witness the masters at work as bartenders create exquisite Bourbon cocktails paired with delicious Bourbon-inspired cuisine from the region’s top chefs.\n Bourbon University (Saturday\, February 28) – Deepen your Bourbon knowledge with industry experts leading discussions\, demonstrations\, and tastings.\n TASTE (Saturday\, February 28) – The grand finale features tastings from top Bourbon brands\, delectable food pairings from featured restaurants\, and unique Bourbon-inspired products. \nENHANCING THE EXPERIENCE \n Early Entry for VIP: VIP ticket holders will enjoy early access to the Amber Lounge\, allowing them to get a head start on exploring the exclusive VIP tastings and experiences before doors open to the main event.\n Speedy Entry: All ticket holders can look for their designated ticket line to minimize wait times and get into the Bourbon fun faster.\n Bottle Sales: Attendees can look forward to bottle sales experiences with participating sponsors.\n Bourbon Craft Market: Attendees will be able to taste and explore in the Crafted Corner\, showcasing a selection of artisanal hand-crafted goods. There’s something for everyone to discover. \n“We’re thrilled to bring Bourbon Classic back to KICC and continue providing an intimate\, top- shelf experience for all. We’re proud of our partnership with the Bourbon and hospitality industries\, and excited for the future of Louisville’s Original Celebration of The Bourbon Arts & Lifestyle!”\n– Bourbon Classic co-founder Seth Thompson \nThe Bourbon Classic is operated by Tony Butler of FSA Management Group and The Bourbon Review’s Seth Thompson. \nEVENT DETAILS AND TICKETS \nTickets for the 2026 Bourbon Classic weekend events are available for purchase now at BourbonClassic.com. Information about additional events will be announced soon. \nPARTNERING HOTEL (Preferred Rate) \nA preferred rate is available at the Louisville Marriott Downtown\, 280 W. Jefferson St. The hotel is a short walk to the weekend venue\, the Kentucky International Convention Center. The terrific downtown location is in close range to Whiskey Row\, dining\, and major visitor experiences. \nCLICK HERE to access the preferred rate. \n### \nFounded in 2012 by FSA Management Group and The Bourbon Review\, Bourbon Classic brings together the best of the Bourbon and culinary worlds through a collection of rare\, interactive events. Infused with exceptional tastings\, workshops and unrivaled sips\, these events are sure to thrill any Bourbon connoisseur and enthusiast.  \nBourbon Classic events will take place February 25-28\, 2026\, in Louisville\, the gateway to all the heritage and innovation of Kentucky’s Bourbon Country. Information is available at https://www.bourbonclassic.com. \n 
URL:https://things-to-lou.com/events/bourbon-classic-2026/
LOCATION:Kentucky International Convention Center\, 221 South 4th Street\, Louisville\, KY\, 40202\, United States
CATEGORIES:Bourbon,Food & Drink
ATTACH;FMTTYPE=image/jpeg:https://things-to-lou.com/wp-content/uploads/2025/04/25_BC_036-Tickets-on-Sale-Graphics-1080-x-1080-e1749751020692.jpg
END:VEVENT
BEGIN:VEVENT
DTSTART;TZID=America/New_York:20260225T170000
DTEND;TZID=America/New_York:20260225T200000
DTSTAMP:20260419T161048
CREATED:20251213T015756Z
LAST-MODIFIED:20251213T032511Z
UID:10003430-1772038800-1772049600@things-to-lou.com
SUMMARY:Phantoms of Prohibition: Ghosts\, Cocktails\, & Bites Tour | promo code!
DESCRIPTION:Discover Louisville’s Prohibition past on a haunted cocktail & food tour down Whiskey Row. \nBook your tour here!\nUse code “thingstolou10” to save 10%!\n\nVenture out with us and explore the hidden stories of Louisville’s haunted past. \nAs you eat and drink your way down Whiskey Row\, you’ll meet the resident ghosts of Louisville’s historic downtown\, trace the footsteps of bourbon magnates and mobsters\, see Al Capone’s secret getaway\, discover hidden speakeasies\, and learn the shocking truth about Prohibition. \n\nWhat to Expect\nThis tour includes 4 stops for libations\, as well as an assortment of small bites. Here’s what else to expect: \nBourbon & Cocktails\nThis is a boozy\, 21+ tour\, y’all. \nAudio Headset​\nTo help you hear us from a distance. \nSmall Group\nOur tours max out at 12 people. \nWalking\n1-1.5 Miles. Wear comfy shoes! \n\nExplore Whiskey Row:\nDistilleries. Speakeasies. Saloons. In the mid-1800’s\, this stretch of Main Street was filled to the brim with bourbon barrels – which would soon be considered contraband. \nWhile this area nearly crumbled to disrepair\, today the historic facades house bourbon distilleries\, bars\, restaurants and hotels. \nWhere\nMeet at 101 E Washington St\, Louisville\, KY \nWhen​\nTuesdays – Fridays\, 5:00 and 5:30 PM \n\nExplore the hidden stories of Louisville’s Prohibition past on Whiskey Row\nLike the combination of rye\, corn\, wheat\, and malted barley\, this tour is the perfect blend of cocktails\, food\, ghosts\, and Prohibition history. Over the 3 hours you’ll spend with us\, you’ll enjoy … \nDelicious Prohibition-era cocktails \nSpine-chilling true tales of the resident ghosts of Whiskey Row \nDelicious small bites \nThe surprising true story of Prohibition \nFun & knowledgeable guides
URL:https://things-to-lou.com/events/phantoms-of-prohibition-ghosts-cocktails-bites-tour-promo-code/2026-02-25/
LOCATION:KY
CATEGORIES:Walking Tour / Food Tour
ATTACH;FMTTYPE=image/jpeg:https://things-to-lou.com/wp-content/uploads/2025/12/Prohibition-Tour-7910-e1765591150807.jpg
END:VEVENT
BEGIN:VEVENT
DTSTART;TZID=America/New_York:20260225T173000
DTEND;TZID=America/New_York:20260225T193000
DTSTAMP:20260419T161048
CREATED:20260205T191128Z
LAST-MODIFIED:20260206T013658Z
UID:10004643-1772040600-1772047800@things-to-lou.com
SUMMARY:Underground Whiskey Tasting - featuring George Dickel Distillery
DESCRIPTION:A tasting with Nicole Austin in the underground Mega Cavern! \nBorn 40 years after the signing of the Declaration of Independence\, George A. Dickel was an established Nashville merchant when he entered the whisky business. \nDickel grew his reputation for selling the smoothest\, most mellow spirits in the region. Thus\, Geo. A. Dickel & Co. was born and when the Cascade Hollow Distillery opened in 1878 in neighboring Coffee County\, George Dickel bought a large share. \n\nOur presenter will be General Manager and Distiller\, Nicole Austin. \nNicole earned a degree in chemical engineering\, then began her career in environmental engineering. One night\, a bartender poured her a whiskey & started talking about how it was made. She listened to the bartender talk about whiskey for the rest of the night. This led to her career in the distilling business. \nSince joining the Cascade Hollow team in 2018\, she’s been instrumental in the latest innovations – including George Dickel Bottled in Bond Distilling\, Dickel Bourbon\, the George Dickel x Leopold Bros Collaboration Rye Blend and Cascade Moon Whisky series. \nIf you ask Nicole what’s one thing she wants people to know about Tennessee whiskey\, she’ll say “It’s bourbon!” \n\nOur event will take place in an old limestone mine\, known as the Mega Cavern. \nA few interesting facts: \n\nThe cavern was mined from the 1930’s to the early 1970’s.\nThe mine extends below the Louisville Zoo\, and also goes under all 10 lanes of the Watterson Expressway (I-264).\nThe temperature in the Mega Cavern is 58 degrees year round.\n\nOf course we’ll have tasty food and awesome door prizes\, as always. \nThe Bourbon Brotherhood is a monthly gathering of men who enjoy bourbon and camaraderie. You must be 21+ to attend this event. Please drink responsibly.
URL:https://things-to-lou.com/events/underground-whiskey-tasting-featuring-george-dickel-distillery/
LOCATION:Mega Cavern\, 1841 Taylor Ave\, Louisville\, KY\, 40213\, United States
CATEGORIES:Bourbon,Food & Drink,Public Speakers
ATTACH;FMTTYPE=image/png:https://things-to-lou.com/wp-content/uploads/2026/02/Screenshot-2026-02-05-203518-e1770341757857.png
END:VEVENT
BEGIN:VEVENT
DTSTART;TZID=America/New_York:20260225T193000
DTEND;TZID=America/New_York:20260225T213000
DTSTAMP:20260419T161048
CREATED:20260105T081700Z
LAST-MODIFIED:20260105T081700Z
UID:10003790-1772047800-1772055000@things-to-lou.com
SUMMARY:The Lone Bellow | 2026 Tour
DESCRIPTION:With their upcoming sixth studio album\, “What A Time To Be Alive”\, The Lone Bellow embarks on a bold new chapter while honoring the deep bonds that have defined their journey. Written collaboratively for the first time with their full touring band—founding members Zach Williams\, Brian Elmquist\, and Kanene Pipkin joined by drummer Julian Dorio and multi-instrumentalist Tyler Geertsma—the album channels the raw\, ecstatic energy of the band’s live show into a dynamic collection of songs that pulse with warmth\, honesty\, and human connection. \nRecorded live in Muscle Shoals\, AL\, after a writing retreat in a converted Kentucky firehouse\, the album is both a celebration and a reckoning: of friendship\, loss\, love\, and resilience. From the gritty\, Stones-tinged opener “After The Rain” to the soul-stirring closer “What A Time To Be Alive\,” the record captures the joy and vulnerability that have long defined The Lone Bellow’s sound—lush harmonies\, heartfelt lyrics\, and genre-blurring arrangements steeped in folk\, rock\, and gospel. \nThe album’s creation was marked by setbacks\, including the theft of early recordings\, but the outpouring of support from their fanbase reaffirmed what the band has always known: their music is a shared experience. That spirit echoes throughout the album\, whether in anthems like “Common Folk” and “I’m Here For You\,” or in intimate reflections like “You Were Leaving” and “Night Goes Black.” \nSince their acclaimed 2013 debut\, The Lone Bellow has appeared on The Tonight Show\, Austin City Limits\, and The Late Show\, topped Americana charts\, and headlined storied venues from Carnegie Hall to the Ryman Auditorium. But with their next album\, they reaffirm their commitment not just to making music\, but to building community—on stage\, in song\, and around the table. \n***description from website
URL:https://things-to-lou.com/events/the-lone-bellow-2026-tour/
LOCATION:Kentucky Performing Arts\, 501 W Main St\, Louisville\, KY\, 40202\, United States
CATEGORIES:Music
END:VEVENT
END:VCALENDAR