BEGIN:VCALENDAR
VERSION:2.0
PRODID:-//Things To Lou - ECPv6.15.20//NONSGML v1.0//EN
CALSCALE:GREGORIAN
METHOD:PUBLISH
X-ORIGINAL-URL:https://things-to-lou.com
X-WR-CALDESC:Events for Things To Lou
REFRESH-INTERVAL;VALUE=DURATION:PT1H
X-Robots-Tag:noindex
X-PUBLISHED-TTL:PT1H
BEGIN:VTIMEZONE
TZID:America/New_York
BEGIN:DAYLIGHT
TZOFFSETFROM:-0500
TZOFFSETTO:-0400
TZNAME:EDT
DTSTART:20250309T070000
END:DAYLIGHT
BEGIN:STANDARD
TZOFFSETFROM:-0400
TZOFFSETTO:-0500
TZNAME:EST
DTSTART:20251102T060000
END:STANDARD
BEGIN:DAYLIGHT
TZOFFSETFROM:-0500
TZOFFSETTO:-0400
TZNAME:EDT
DTSTART:20260308T070000
END:DAYLIGHT
BEGIN:STANDARD
TZOFFSETFROM:-0400
TZOFFSETTO:-0500
TZNAME:EST
DTSTART:20261101T060000
END:STANDARD
BEGIN:DAYLIGHT
TZOFFSETFROM:-0500
TZOFFSETTO:-0400
TZNAME:EDT
DTSTART:20270314T070000
END:DAYLIGHT
BEGIN:STANDARD
TZOFFSETFROM:-0400
TZOFFSETTO:-0500
TZNAME:EST
DTSTART:20271107T060000
END:STANDARD
END:VTIMEZONE
BEGIN:VEVENT
DTSTART;TZID=America/New_York:20260225T000000
DTEND;TZID=America/New_York:20260227T235959
DTSTAMP:20260420T005853
CREATED:20251212T224040Z
LAST-MODIFIED:20251212T224420Z
UID:10003352-1771977600-1772236799@things-to-lou.com
SUMMARY:Beyond the Barrel: Walking Bourbon Tour with Food Pairings | promo code! | multiple dates
DESCRIPTION:Go beyond the barrel to dive into bourbon’s storied history and learn all the stories they won’t tell you on a Kentucky Bourbon Trail distillery tour! \nAs the sun sets over the vibrant NuLu neighborhood\, you’ll visit award-winning restaurants\, hidden speakeasies\, rooftop terraces\, and cozy tasting rooms. \n\nBook your tour here!\nUse code “thingstolou10” to save 10%!\n\nUncover the secrets of Kentucky bourbon.\n  \n\nTrace the origins of bourbon whiskey from its roots in the Appalachian foothills to today’s thriving bourbon scene\nUnlock bourbon’s versatility and depth through paired bites\, pours\, and cocktails\nTry modern re-interpretations of classic Louisville bourbon cocktails such as the Old Fashioned and the Mint Julep\nSample bourbon’s full range of versatility\, including clarified\, fat-washed\, river-aged\, wheated\, infused\, and finished bourbons\nLand a few coveted tables at some of the most celebrated eateries in town\, including restaurants by Michelin Star and James Beard winning Chefs\n\n\nDETAILS\nDistance: 1 mile \nDuration: 3 hours \nFood: 5 stops\, 8 tastings \nDrinks: 2 bourbon pours\, 4 cocktails \nCapacity: 12 \nTime: 5 & 5:30 PM\, Wed-Fri \nAccessibility: 21+\, wheelchair friendly \n\nBook your tour here!\nUse code “thingstolou10” to save 10%!
URL:https://things-to-lou.com/events/beyond-the-barrel-walking-bourbon-tour-with-food-pairings-promo-code-multiple-dates-27/
LOCATION:KY
CATEGORIES:Walking Tour / Food Tour
ATTACH;FMTTYPE=image/jpeg:https://things-to-lou.com/wp-content/uploads/2025/12/FULL-SIZE-Beyond-the-Barrel-Tour-37-e1765577921595.jpg
END:VEVENT
BEGIN:VEVENT
DTSTART;TZID=America/New_York:20260225T000000
DTEND;TZID=America/New_York:20260228T235959
DTSTAMP:20260420T005853
CREATED:20250425T202328Z
LAST-MODIFIED:20250612T180214Z
UID:10002089-1771977600-1772323199@things-to-lou.com
SUMMARY:Bourbon Classic 2026 | bourbon tastings\, public speakers\, chef/mixologist pairing competition\, and more
DESCRIPTION:Bourbon Classic 2026 will take place February 25 – 28\, 2026! The main events will take place at the Kentucky International Convention Center\, located in the heart of downtown. \nHere is the videos we published on @ThingsToLou in 2025 after the festival! \n–“The Folks Fueling the Bourbon Industry” \n–“Four Distilleries to Visit in Kentucky” \nWEEKEND EVENTS:\nFriday\, February 27\nCocktail and Culinary Challenge – the Ultimate Chef & Mixologist Pairing Competition\nExperience curated pairings of exquisite cuisine and cocktails\, crafted specifically for Bourbon Classic. Watch as the region’s top bartenders and chefs battle it out for the coveted titles of “Best Cocktail” and “Best Small Plate.” \nSaturday\, February 28\nBegin with Bourbon University and close with the grand finale TASTE\nBourbon University:\nBourbon education for all: whether you’re a novice or a seasoned enthusiast\, our classes cater to your curiosity. Learn from industry legends and connect with fellow enthusiasts. \nTASTE:\nIt’s time for a Bourbon experience like no other! Immerse yourself in the world of Bourbon with tastings from our Bourbon Classic distillers\, meet the distiller representatives and enjoy delicious dishes from our featured restaurants. And don’t forget your complimentary Glencairn tasting glass! \nWHERE: Kentucky International Convention Center \n\nPress Release:\n2026 Bourbon Classic Tickets Are Now LIVE! \nLOUISVILLE\, Ky. (June 5\, 2024) – Bourbon Classic is thrilled to announce weekend tickets are now on sale for the 2026 annual celebration of the best of the best in Bourbon\, culinary and cocktails after shattering attendance records in 2025. Established 2012\, Bourbon Classic is Louisville’s Original Celebration of The Bourbon Arts & Lifestyle. \nTickets are available at BourbonClassic.com. The event will be held February 25-28\, 2026\, in Louisville\, Kentucky. \nThe 2026 Bourbon Classic weekend events will take place at the Kentucky International Convention Center\, located in the heart of downtown Louisville\, an easy walking distance to the nearby urban distilleries. \nEXPERIENCE THE BEST IN BOURBON \nThe Bourbon Classic weekend promises an unforgettable experience for Bourbon lovers. \nSignature events include: \n Cocktail and Culinary Challenge (Friday\, February 27) – Witness the masters at work as bartenders create exquisite Bourbon cocktails paired with delicious Bourbon-inspired cuisine from the region’s top chefs.\n Bourbon University (Saturday\, February 28) – Deepen your Bourbon knowledge with industry experts leading discussions\, demonstrations\, and tastings.\n TASTE (Saturday\, February 28) – The grand finale features tastings from top Bourbon brands\, delectable food pairings from featured restaurants\, and unique Bourbon-inspired products. \nENHANCING THE EXPERIENCE \n Early Entry for VIP: VIP ticket holders will enjoy early access to the Amber Lounge\, allowing them to get a head start on exploring the exclusive VIP tastings and experiences before doors open to the main event.\n Speedy Entry: All ticket holders can look for their designated ticket line to minimize wait times and get into the Bourbon fun faster.\n Bottle Sales: Attendees can look forward to bottle sales experiences with participating sponsors.\n Bourbon Craft Market: Attendees will be able to taste and explore in the Crafted Corner\, showcasing a selection of artisanal hand-crafted goods. There’s something for everyone to discover. \n“We’re thrilled to bring Bourbon Classic back to KICC and continue providing an intimate\, top- shelf experience for all. We’re proud of our partnership with the Bourbon and hospitality industries\, and excited for the future of Louisville’s Original Celebration of The Bourbon Arts & Lifestyle!”\n– Bourbon Classic co-founder Seth Thompson \nThe Bourbon Classic is operated by Tony Butler of FSA Management Group and The Bourbon Review’s Seth Thompson. \nEVENT DETAILS AND TICKETS \nTickets for the 2026 Bourbon Classic weekend events are available for purchase now at BourbonClassic.com. Information about additional events will be announced soon. \nPARTNERING HOTEL (Preferred Rate) \nA preferred rate is available at the Louisville Marriott Downtown\, 280 W. Jefferson St. The hotel is a short walk to the weekend venue\, the Kentucky International Convention Center. The terrific downtown location is in close range to Whiskey Row\, dining\, and major visitor experiences. \nCLICK HERE to access the preferred rate. \n### \nFounded in 2012 by FSA Management Group and The Bourbon Review\, Bourbon Classic brings together the best of the Bourbon and culinary worlds through a collection of rare\, interactive events. Infused with exceptional tastings\, workshops and unrivaled sips\, these events are sure to thrill any Bourbon connoisseur and enthusiast.  \nBourbon Classic events will take place February 25-28\, 2026\, in Louisville\, the gateway to all the heritage and innovation of Kentucky’s Bourbon Country. Information is available at https://www.bourbonclassic.com. \n 
URL:https://things-to-lou.com/events/bourbon-classic-2026/
LOCATION:Kentucky International Convention Center\, 221 South 4th Street\, Louisville\, KY\, 40202\, United States
CATEGORIES:Bourbon,Food & Drink
ATTACH;FMTTYPE=image/jpeg:https://things-to-lou.com/wp-content/uploads/2025/04/25_BC_036-Tickets-on-Sale-Graphics-1080-x-1080-e1749751020692.jpg
END:VEVENT
BEGIN:VEVENT
DTSTART;TZID=America/New_York:20260226T000000
DTEND;TZID=America/New_York:20260227T235959
DTSTAMP:20260420T005853
CREATED:20251212T213209Z
LAST-MODIFIED:20251212T213209Z
UID:10003305-1772064000-1772236799@things-to-lou.com
SUMMARY:The Bourbon Trolley: Distillery Tour\, Tasting Rooms & Bourbon Experiences | promo code! (multiple tour times)
DESCRIPTION:Use code “thingstolou10” to save 10%!\nBook your tour here!\n\nStep aboard Louisville’s historic trolley to explore distilleries\, tasting rooms\, & bourbon-infused bites! \nAs you roll through downtown\, NuLu\, and Butchertown\, you’ll get exclusive access to tasting rooms\, tour a bourbon distillery\, and sample treats with a bourbon twist. \nEach stop features pours\, tours\, cocktails\, stories\, and plenty of Bourbon City surprises. \nDETAILS\n🥃 Duration: 3 hours\n🥃 Distance: 0.25 miles of walking\n🥃 Trolley: 24-hour LouHop pass included\n🥃 Bourbon Experiences: 5 stops\, including a distillery tour & tasting rooms\n🥃 Tastings: 9 bourbon pours\, 2 cocktails and 9 small food samples\n🥃 Capacity: 12\n🥃 Time: 1:30-4:30 PM\, Thursdays & Fridays\n🥃 Accessibility: 21+. Wheelchair accessible with advanced notice. \nWHAT TO EXPECT\n\nStep inside a bourbon distillery (that’s almost always sold out) for a customized tour and guided tasting\nSip bourbon flights and exclusive cocktails in hidden speakeasies and tasting rooms at some of America’s oldest bourbon brands\nGo beyond the glass with tastings of barrel-aged sauces\, spices\, and treats that showcase bourbon’s influence on Kentucky cuisine.\nExplore Downtown\, NuLu\, and Butchertown in comfort aboard a climate-controlled historic trolley. Plus\, continue exploring with a 24-hour LouHop pass after your tour.\n\n\nLouisville’s Most Unique Bourbon Tour\nPerfect for both bourbon newcomers and seasoned enthusiasts\, this guided trolley tour through Downtown\, NuLu\, and Butchertown offers exclusive access to tasting rooms\, speakeasies\, artisans\, and a distillery you won’t find on any other Kentucky bourbon experience. \nOver the 3 hours you’ll spend with us\, you’ll enjoy …\n\nExclusive bourbon tastings & cocktails\nDistillery tour & guided tasting\nHistoric trolley ride with expert guides\n24-hour LouHop hop-on\, hop-off pass to use after your tour\n\n\nAn UNFORGETTABLE trolley tour!\n5-Star Experience \nExclusive access\, custom crafted cocktails\, and experiences. \nHistoric Trolley \nTake in the views as you roll through town in climate-controlled comfort. \nBourbon \nEnjoy bourbon flights\, a distillery tour\, craft cocktails\, and bourbon-infused samples. \nSmall Group \nCapped at 12 people for a more personalized experience. \nBook your tour here!
URL:https://things-to-lou.com/events/the-bourbon-trolley-distillery-tour-tasting-rooms-bourbon-experiences-promo-code-multiple-tour-times-7/
LOCATION:KY
CATEGORIES:Walking Tour / Food Tour
ATTACH;FMTTYPE=image/jpeg:https://things-to-lou.com/wp-content/uploads/2025/12/FULL-SIZE-Bourbon-Trolley-45-e1765572475950.jpg
END:VEVENT
BEGIN:VEVENT
DTSTART;TZID=America/New_York:20260226T110000
DTEND;TZID=America/New_York:20260226T150000
DTSTAMP:20260420T005853
CREATED:20251213T013720Z
LAST-MODIFIED:20251213T014634Z
UID:10003397-1772103600-1772118000@things-to-lou.com
SUMMARY:Louisville Legends: Downtown Derby City Food & History Tour | promo code!
DESCRIPTION:Take a delicious stroll through the heart of downtown Louisville. \nAs you walk along iconic Whiskey Row and Museum Row\, you’ll enjoy classic dishes and drinks that define Louisville’s flavor\, all while learning about the city’s fascinating past. \nWe took this tour! Here is a preview! \n\nBook your tour here!\nUse code “thingstolou10” to save 10%!\n\n \n\nTaste quintessential Kentucky dishes and desserts including the Hot Brown\, Derby Pie\, and Modjeskas\nSip on iconic Louisville drinks\, including bourbon cocktails and barrel-aged beer.\nExplore historic Whiskey Row and Museum Row with an expert guide.\nLearn the stories behind Louisville’s fascinating history and the legends who shaped it.\n\nQUICK DETAILS\n\nDistance: 1.5 miles\nDuration: 3 hours\nFood Stops: 6 tastings at 4 stops\nCapacity: 12\nTime: 11 & 11:30 AM\, Wed-Sat\nAccessibility: All ages\, wheelchair & stroller friendly\n\n \n\nWhat to Expect\nThis tour includes 4 stops for food & drinks. Here’s what else to expect: \nPhotos\nThink of our guides as your personal photographers. \nFood & Drinks\nAll included with your ticket – so come hungry & thirsty! (Mocktails also available) \nSmall Group\nOur public tours max out at 12 people for a more personalized experience. \nAudio Headset​\nTo help hear your expert guide\, even from a distance. \nWalking\n1.5 Miles. Wear comfy shoes!
URL:https://things-to-lou.com/events/louisville-legends-downtown-derby-city-food-history-tour-promo-code/2026-02-26/
LOCATION:KY
CATEGORIES:Walking Tour / Food Tour
ATTACH;FMTTYPE=image/jpeg:https://things-to-lou.com/wp-content/uploads/2025/12/FULL-SIZE-Downtown-66-e1765589319880.jpg
END:VEVENT
BEGIN:VEVENT
DTSTART;TZID=America/New_York:20260226T170000
DTEND;TZID=America/New_York:20260226T190000
DTSTAMP:20260420T005853
CREATED:20260210T071554Z
LAST-MODIFIED:20260210T071554Z
UID:10004719-1772125200-1772132400@things-to-lou.com
SUMMARY:Meet Jenny Pfanenstiel (Formé Millinery\, KY Derby Featured Milliner) + raffle for Formé Millinery hat
DESCRIPTION:Meet Jenny Pfanenstiel\, Master Milliner and 7X Featured Milliner of the Kentucky Derby® and Formé Millinery’s latest hat collection at the street level Gift Shop at the @brownhotel Feb. 26th 5pm-7pm. \nGuests will also enjoy complimentary champagne and hors d’oeuvres; as every attendee receives a raffle ticket for a chance to win a signature Formé Millinery item. The drawing will be held at 7:00pm (must be present to win). \n#hats #brownhotel #formemillinery #fascinators #featuredmilliner #bespoke #couture #handmade #louisville #kentucky #derby \n***description from IG post
URL:https://things-to-lou.com/events/meet-jenny-pfanenstiel-forme-millinery-ky-derby-featured-milliner-raffle-for-forme-millinery-hat/
LOCATION:The Brown Hotel\, 335 W Broadway\, Louisville\, KY\, 40202\, United States
CATEGORIES:Derby,Shopping
END:VEVENT
BEGIN:VEVENT
DTSTART;TZID=America/New_York:20260226T170000
DTEND;TZID=America/New_York:20260226T200000
DTSTAMP:20260420T005853
CREATED:20251213T015756Z
LAST-MODIFIED:20251213T032511Z
UID:10003431-1772125200-1772136000@things-to-lou.com
SUMMARY:Phantoms of Prohibition: Ghosts\, Cocktails\, & Bites Tour | promo code!
DESCRIPTION:Discover Louisville’s Prohibition past on a haunted cocktail & food tour down Whiskey Row. \nBook your tour here!\nUse code “thingstolou10” to save 10%!\n\nVenture out with us and explore the hidden stories of Louisville’s haunted past. \nAs you eat and drink your way down Whiskey Row\, you’ll meet the resident ghosts of Louisville’s historic downtown\, trace the footsteps of bourbon magnates and mobsters\, see Al Capone’s secret getaway\, discover hidden speakeasies\, and learn the shocking truth about Prohibition. \n\nWhat to Expect\nThis tour includes 4 stops for libations\, as well as an assortment of small bites. Here’s what else to expect: \nBourbon & Cocktails\nThis is a boozy\, 21+ tour\, y’all. \nAudio Headset​\nTo help you hear us from a distance. \nSmall Group\nOur tours max out at 12 people. \nWalking\n1-1.5 Miles. Wear comfy shoes! \n\nExplore Whiskey Row:\nDistilleries. Speakeasies. Saloons. In the mid-1800’s\, this stretch of Main Street was filled to the brim with bourbon barrels – which would soon be considered contraband. \nWhile this area nearly crumbled to disrepair\, today the historic facades house bourbon distilleries\, bars\, restaurants and hotels. \nWhere\nMeet at 101 E Washington St\, Louisville\, KY \nWhen​\nTuesdays – Fridays\, 5:00 and 5:30 PM \n\nExplore the hidden stories of Louisville’s Prohibition past on Whiskey Row\nLike the combination of rye\, corn\, wheat\, and malted barley\, this tour is the perfect blend of cocktails\, food\, ghosts\, and Prohibition history. Over the 3 hours you’ll spend with us\, you’ll enjoy … \nDelicious Prohibition-era cocktails \nSpine-chilling true tales of the resident ghosts of Whiskey Row \nDelicious small bites \nThe surprising true story of Prohibition \nFun & knowledgeable guides
URL:https://things-to-lou.com/events/phantoms-of-prohibition-ghosts-cocktails-bites-tour-promo-code/2026-02-26/
LOCATION:KY
CATEGORIES:Walking Tour / Food Tour
ATTACH;FMTTYPE=image/jpeg:https://things-to-lou.com/wp-content/uploads/2025/12/Prohibition-Tour-7910-e1765591150807.jpg
END:VEVENT
BEGIN:VEVENT
DTSTART;TZID=America/New_York:20260226T183000
DTEND;TZID=America/New_York:20260226T193000
DTSTAMP:20260420T005853
CREATED:20260124T023753Z
LAST-MODIFIED:20260124T023753Z
UID:10004143-1772130600-1772134200@things-to-lou.com
SUMMARY:Ten20 Run Club | one\, three\, & five mile routes + all are welcome
DESCRIPTION:We may not know how much snow is going to fall this weekend\, but we do know that run club is tonight and is always fun (and currently snow free). \nCome out tonight and join us for one last run before the brutal cold and snow move in this weekend. \n🔸  Remember to download our new app (link in bio) to stay up to date on any and all things run club and\, most importantly\, to check-in to be eligible for rewards! \n– 3 runs = $5 off drink\n– 12 runs = run club shirt\n– more to be announced \nYou can also quickly access routes\, event calendars\, and important updates; all from your phone. \nTEN20 Run Club – every Thursday at 6:30pm at TEN20 Craft Brewery located at 1020 E. Washington St. \nWe have 1\, 3\, and 5 mile routes and ALL ARE WELCOME!!!! \n#run #running #fleetfeet #beerrun #runclub \n***Description from IG Post \nMORE INFO ON THE CLUB
URL:https://things-to-lou.com/events/ten20-run-club-one-three-five-mile-routes-all-are-welcome/2026-02-26/
LOCATION:ten20 Craft Brewery\, 1020 E Washington Street\, Louisville\, KY\, 40206\, United States
CATEGORIES:Beer / Brewery,Exercise,Running,Wellness
END:VEVENT
END:VCALENDAR