BEGIN:VCALENDAR
VERSION:2.0
PRODID:-//Things To Lou - ECPv6.15.20//NONSGML v1.0//EN
CALSCALE:GREGORIAN
METHOD:PUBLISH
X-WR-CALNAME:Things To Lou
X-ORIGINAL-URL:https://things-to-lou.com
X-WR-CALDESC:Events for Things To Lou
REFRESH-INTERVAL;VALUE=DURATION:PT1H
X-Robots-Tag:noindex
X-PUBLISHED-TTL:PT1H
BEGIN:VTIMEZONE
TZID:America/New_York
BEGIN:DAYLIGHT
TZOFFSETFROM:-0500
TZOFFSETTO:-0400
TZNAME:EDT
DTSTART:20250309T070000
END:DAYLIGHT
BEGIN:STANDARD
TZOFFSETFROM:-0400
TZOFFSETTO:-0500
TZNAME:EST
DTSTART:20251102T060000
END:STANDARD
BEGIN:DAYLIGHT
TZOFFSETFROM:-0500
TZOFFSETTO:-0400
TZNAME:EDT
DTSTART:20260308T070000
END:DAYLIGHT
BEGIN:STANDARD
TZOFFSETFROM:-0400
TZOFFSETTO:-0500
TZNAME:EST
DTSTART:20261101T060000
END:STANDARD
BEGIN:DAYLIGHT
TZOFFSETFROM:-0500
TZOFFSETTO:-0400
TZNAME:EDT
DTSTART:20270314T070000
END:DAYLIGHT
BEGIN:STANDARD
TZOFFSETFROM:-0400
TZOFFSETTO:-0500
TZNAME:EST
DTSTART:20271107T060000
END:STANDARD
END:VTIMEZONE
BEGIN:VEVENT
DTSTART;TZID=America/New_York:20260303T000000
DTEND;TZID=America/New_York:20260303T235959
DTSTAMP:20260419T231733
CREATED:20260210T061511Z
LAST-MODIFIED:20260210T061608Z
UID:10004698-1772496000-1772582399@things-to-lou.com
SUMMARY:AudaTours Louisville Audio Tour: Whiskey\, Wonders\, and Timeless Towers
DESCRIPTION:Louisville’s story is carved in bat-swing echoes and whispered through cathedral stained glass. Beneath its vibrant streets\, legends of secret rivalries\, unsolved mysteries\, and bold ambition wait to be unearthed. \nSet your pace on this self-guided audio tour and uncover the city’s hidden side. Each step leads to tales most visitors never hear\, from the swing of baseball history at the Louisville Slugger Museum to the silent prayers and political intrigue woven into the Cathedral of the Assumption. \nWhat forced a congregation to stand defiant as riots threatened their sanctuary? Which bat carved in the last century may be linked to a sporting scandal still whispered about today? Why do some believe a single painting inside the Frazier History Museum holds the key to a decades-old feud? \nMove through Louisville’s pulse where heroes rose\, mysteries linger\, and every street reveals another untold chapter. \nPress play and let Louisville’s secrets find you. \nMORE INFO
URL:https://things-to-lou.com/events/audatours-louisville-audio-tour-whiskey-wonders-and-timeless-towers/2026-03-03/
LOCATION:Various
CATEGORIES:Walking Tour / Food Tour
ATTACH;FMTTYPE=image/jpeg:https://things-to-lou.com/wp-content/uploads/2026/02/tours_1522b50d-2a3a-4ceb-8626-4cf81b2877f6_actionshot_image_1536-e1770704647960.jpeg
END:VEVENT
BEGIN:VEVENT
DTSTART;TZID=America/New_York:20260303T110000
DTEND;TZID=America/New_York:20260303T150000
DTSTAMP:20260419T231733
CREATED:20251213T013720Z
LAST-MODIFIED:20251213T014634Z
UID:10003400-1772535600-1772550000@things-to-lou.com
SUMMARY:Louisville Legends: Downtown Derby City Food & History Tour | promo code!
DESCRIPTION:Take a delicious stroll through the heart of downtown Louisville. \nAs you walk along iconic Whiskey Row and Museum Row\, you’ll enjoy classic dishes and drinks that define Louisville’s flavor\, all while learning about the city’s fascinating past. \nWe took this tour! Here is a preview! \n\nBook your tour here!\nUse code “thingstolou10” to save 10%!\n\n \n\nTaste quintessential Kentucky dishes and desserts including the Hot Brown\, Derby Pie\, and Modjeskas\nSip on iconic Louisville drinks\, including bourbon cocktails and barrel-aged beer.\nExplore historic Whiskey Row and Museum Row with an expert guide.\nLearn the stories behind Louisville’s fascinating history and the legends who shaped it.\n\nQUICK DETAILS\n\nDistance: 1.5 miles\nDuration: 3 hours\nFood Stops: 6 tastings at 4 stops\nCapacity: 12\nTime: 11 & 11:30 AM\, Wed-Sat\nAccessibility: All ages\, wheelchair & stroller friendly\n\n \n\nWhat to Expect\nThis tour includes 4 stops for food & drinks. Here’s what else to expect: \nPhotos\nThink of our guides as your personal photographers. \nFood & Drinks\nAll included with your ticket – so come hungry & thirsty! (Mocktails also available) \nSmall Group\nOur public tours max out at 12 people for a more personalized experience. \nAudio Headset​\nTo help hear your expert guide\, even from a distance. \nWalking\n1.5 Miles. Wear comfy shoes!
URL:https://things-to-lou.com/events/louisville-legends-downtown-derby-city-food-history-tour-promo-code/2026-03-03/
LOCATION:KY
CATEGORIES:Walking Tour / Food Tour
ATTACH;FMTTYPE=image/jpeg:https://things-to-lou.com/wp-content/uploads/2025/12/FULL-SIZE-Downtown-66-e1765589319880.jpg
END:VEVENT
BEGIN:VEVENT
DTSTART;TZID=America/New_York:20260303T160000
DTEND;TZID=America/New_York:20260303T190000
DTSTAMP:20260419T231733
CREATED:20260105T070238Z
LAST-MODIFIED:20260105T070848Z
UID:10003598-1772553600-1772564400@things-to-lou.com
SUMMARY:Paws on the Patio | drink specials & a free pup cup
DESCRIPTION:Bring your furry friend to Moonsong on from 4 to 7 p.m. for drink specials and a free pup cup with purchase. \n$1 from every Tito’s purchase is donated to the Kentucky Humane Society. \n\nEvent Date:\nTuesdays \nLocation:\n710 E Jefferson St\, Louisville\, KY 40202 \nEvent Host:\nMoonsong Bar & Cafe \n\nINSTAGRAM post about this event! \n 
URL:https://things-to-lou.com/events/paws-on-the-patio-drink-specials-a-free-pup-cup/2026-03-03/
LOCATION:Moonsong Bar & Cafe\, 710 E Jefferson St\, Louisville\, KY\, 40202\, United States
CATEGORIES:Food & Drink,Pets
ATTACH;FMTTYPE=image/png:https://things-to-lou.com/wp-content/uploads/2026/01/screenshot-2025-11-03-at-11.13.33-am-e1767596635714.png
END:VEVENT
BEGIN:VEVENT
DTSTART;TZID=America/New_York:20260303T170000
DTEND;TZID=America/New_York:20260303T200000
DTSTAMP:20260419T231733
CREATED:20251213T015756Z
LAST-MODIFIED:20251213T032511Z
UID:10003433-1772557200-1772568000@things-to-lou.com
SUMMARY:Phantoms of Prohibition: Ghosts\, Cocktails\, & Bites Tour | promo code!
DESCRIPTION:Discover Louisville’s Prohibition past on a haunted cocktail & food tour down Whiskey Row. \nBook your tour here!\nUse code “thingstolou10” to save 10%!\n\nVenture out with us and explore the hidden stories of Louisville’s haunted past. \nAs you eat and drink your way down Whiskey Row\, you’ll meet the resident ghosts of Louisville’s historic downtown\, trace the footsteps of bourbon magnates and mobsters\, see Al Capone’s secret getaway\, discover hidden speakeasies\, and learn the shocking truth about Prohibition. \n\nWhat to Expect\nThis tour includes 4 stops for libations\, as well as an assortment of small bites. Here’s what else to expect: \nBourbon & Cocktails\nThis is a boozy\, 21+ tour\, y’all. \nAudio Headset​\nTo help you hear us from a distance. \nSmall Group\nOur tours max out at 12 people. \nWalking\n1-1.5 Miles. Wear comfy shoes! \n\nExplore Whiskey Row:\nDistilleries. Speakeasies. Saloons. In the mid-1800’s\, this stretch of Main Street was filled to the brim with bourbon barrels – which would soon be considered contraband. \nWhile this area nearly crumbled to disrepair\, today the historic facades house bourbon distilleries\, bars\, restaurants and hotels. \nWhere\nMeet at 101 E Washington St\, Louisville\, KY \nWhen​\nTuesdays – Fridays\, 5:00 and 5:30 PM \n\nExplore the hidden stories of Louisville’s Prohibition past on Whiskey Row\nLike the combination of rye\, corn\, wheat\, and malted barley\, this tour is the perfect blend of cocktails\, food\, ghosts\, and Prohibition history. Over the 3 hours you’ll spend with us\, you’ll enjoy … \nDelicious Prohibition-era cocktails \nSpine-chilling true tales of the resident ghosts of Whiskey Row \nDelicious small bites \nThe surprising true story of Prohibition \nFun & knowledgeable guides
URL:https://things-to-lou.com/events/phantoms-of-prohibition-ghosts-cocktails-bites-tour-promo-code/2026-03-03/
LOCATION:KY
CATEGORIES:Walking Tour / Food Tour
ATTACH;FMTTYPE=image/jpeg:https://things-to-lou.com/wp-content/uploads/2025/12/Prohibition-Tour-7910-e1765591150807.jpg
END:VEVENT
BEGIN:VEVENT
DTSTART;TZID=America/New_York:20260303T210000
DTEND;TZID=America/New_York:20260303T230000
DTSTAMP:20260419T231733
CREATED:20260109T231030Z
LAST-MODIFIED:20260109T231030Z
UID:10003949-1772571600-1772578800@things-to-lou.com
SUMMARY:Louisville Men's Basketball vs. Syracuse (Literacy Day theme)
DESCRIPTION:Join us for the University of Louisville Men’s Basketball team as they take on Syracuse on March 3rd at 9 PM! \nLiteracy Day \nIn observation of National Reading month\, Louisville Men’s Basketball is raising awareness for local literacy programs in partnership with the #Fight4Literacy initiative and NCAA Readers Become Leaders programs. \nLocal elementary schools are recognized for their participation in the Louisville Basketball Literacy Challenge during the month of February.
URL:https://things-to-lou.com/events/louisville-mens-basketball-vs-syracuse-literacy-day-theme/
LOCATION:KFC Yum! Center\, 1 Arena Plaza\, Louisville\, KY\, 40202\, United States
CATEGORIES:Sports
END:VEVENT
END:VCALENDAR