BEGIN:VCALENDAR
VERSION:2.0
PRODID:-//Things To Lou - ECPv6.15.20//NONSGML v1.0//EN
CALSCALE:GREGORIAN
METHOD:PUBLISH
X-ORIGINAL-URL:https://things-to-lou.com
X-WR-CALDESC:Events for Things To Lou
REFRESH-INTERVAL;VALUE=DURATION:PT1H
X-Robots-Tag:noindex
X-PUBLISHED-TTL:PT1H
BEGIN:VTIMEZONE
TZID:America/New_York
BEGIN:DAYLIGHT
TZOFFSETFROM:-0500
TZOFFSETTO:-0400
TZNAME:EDT
DTSTART:20250309T070000
END:DAYLIGHT
BEGIN:STANDARD
TZOFFSETFROM:-0400
TZOFFSETTO:-0500
TZNAME:EST
DTSTART:20251102T060000
END:STANDARD
BEGIN:DAYLIGHT
TZOFFSETFROM:-0500
TZOFFSETTO:-0400
TZNAME:EDT
DTSTART:20260308T070000
END:DAYLIGHT
BEGIN:STANDARD
TZOFFSETFROM:-0400
TZOFFSETTO:-0500
TZNAME:EST
DTSTART:20261101T060000
END:STANDARD
BEGIN:DAYLIGHT
TZOFFSETFROM:-0500
TZOFFSETTO:-0400
TZNAME:EDT
DTSTART:20270314T070000
END:DAYLIGHT
BEGIN:STANDARD
TZOFFSETFROM:-0400
TZOFFSETTO:-0500
TZNAME:EST
DTSTART:20271107T060000
END:STANDARD
END:VTIMEZONE
BEGIN:VEVENT
DTSTART;TZID=America/New_York:20260304T000000
DTEND;TZID=America/New_York:20260306T235959
DTSTAMP:20260422T085155
CREATED:20251212T224049Z
LAST-MODIFIED:20251212T224430Z
UID:10003353-1772582400-1772841599@things-to-lou.com
SUMMARY:Beyond the Barrel: Walking Bourbon Tour with Food Pairings | promo code! | multiple dates
DESCRIPTION:Go beyond the barrel to dive into bourbon’s storied history and learn all the stories they won’t tell you on a Kentucky Bourbon Trail distillery tour! \nAs the sun sets over the vibrant NuLu neighborhood\, you’ll visit award-winning restaurants\, hidden speakeasies\, rooftop terraces\, and cozy tasting rooms. \n\nBook your tour here!\nUse code “thingstolou10” to save 10%!\n\nUncover the secrets of Kentucky bourbon.\n  \n\nTrace the origins of bourbon whiskey from its roots in the Appalachian foothills to today’s thriving bourbon scene\nUnlock bourbon’s versatility and depth through paired bites\, pours\, and cocktails\nTry modern re-interpretations of classic Louisville bourbon cocktails such as the Old Fashioned and the Mint Julep\nSample bourbon’s full range of versatility\, including clarified\, fat-washed\, river-aged\, wheated\, infused\, and finished bourbons\nLand a few coveted tables at some of the most celebrated eateries in town\, including restaurants by Michelin Star and James Beard winning Chefs\n\n\nDETAILS\nDistance: 1 mile \nDuration: 3 hours \nFood: 5 stops\, 8 tastings \nDrinks: 2 bourbon pours\, 4 cocktails \nCapacity: 12 \nTime: 5 & 5:30 PM\, Wed-Fri \nAccessibility: 21+\, wheelchair friendly \n\nBook your tour here!\nUse code “thingstolou10” to save 10%!
URL:https://things-to-lou.com/events/beyond-the-barrel-walking-bourbon-tour-with-food-pairings-promo-code-multiple-dates-28/
LOCATION:KY
CATEGORIES:Walking Tour / Food Tour
ATTACH;FMTTYPE=image/jpeg:https://things-to-lou.com/wp-content/uploads/2025/12/FULL-SIZE-BTB-2-2-e1765577912108.jpg
END:VEVENT
BEGIN:VEVENT
DTSTART;TZID=America/New_York:20260305T000000
DTEND;TZID=America/New_York:20260306T235959
DTSTAMP:20260422T085155
CREATED:20251212T213608Z
LAST-MODIFIED:20251212T213608Z
UID:10003309-1772668800-1772841599@things-to-lou.com
SUMMARY:The Bourbon Trolley: Distillery Tour\, Tasting Rooms & Bourbon Experiences | promo code! (multiple tour times)
DESCRIPTION:Use code “thingstolou10” to save 10%!\nBook your tour here!\n\nStep aboard Louisville’s historic trolley to explore distilleries\, tasting rooms\, & bourbon-infused bites! \nAs you roll through downtown\, NuLu\, and Butchertown\, you’ll get exclusive access to tasting rooms\, tour a bourbon distillery\, and sample treats with a bourbon twist. \nEach stop features pours\, tours\, cocktails\, stories\, and plenty of Bourbon City surprises. \nDETAILS\n🥃 Duration: 3 hours\n🥃 Distance: 0.25 miles of walking\n🥃 Trolley: 24-hour LouHop pass included\n🥃 Bourbon Experiences: 5 stops\, including a distillery tour & tasting rooms\n🥃 Tastings: 9 bourbon pours\, 2 cocktails and 9 small food samples\n🥃 Capacity: 12\n🥃 Time: 1:30-4:30 PM\, Thursdays & Fridays\n🥃 Accessibility: 21+. Wheelchair accessible with advanced notice. \nWHAT TO EXPECT\n\nStep inside a bourbon distillery (that’s almost always sold out) for a customized tour and guided tasting\nSip bourbon flights and exclusive cocktails in hidden speakeasies and tasting rooms at some of America’s oldest bourbon brands\nGo beyond the glass with tastings of barrel-aged sauces\, spices\, and treats that showcase bourbon’s influence on Kentucky cuisine.\nExplore Downtown\, NuLu\, and Butchertown in comfort aboard a climate-controlled historic trolley. Plus\, continue exploring with a 24-hour LouHop pass after your tour.\n\n\nLouisville’s Most Unique Bourbon Tour\nPerfect for both bourbon newcomers and seasoned enthusiasts\, this guided trolley tour through Downtown\, NuLu\, and Butchertown offers exclusive access to tasting rooms\, speakeasies\, artisans\, and a distillery you won’t find on any other Kentucky bourbon experience. \nOver the 3 hours you’ll spend with us\, you’ll enjoy …\n\nExclusive bourbon tastings & cocktails\nDistillery tour & guided tasting\nHistoric trolley ride with expert guides\n24-hour LouHop hop-on\, hop-off pass to use after your tour\n\n\nAn UNFORGETTABLE trolley tour!\n5-Star Experience \nExclusive access\, custom crafted cocktails\, and experiences. \nHistoric Trolley \nTake in the views as you roll through town in climate-controlled comfort. \nBourbon \nEnjoy bourbon flights\, a distillery tour\, craft cocktails\, and bourbon-infused samples. \nSmall Group \nCapped at 12 people for a more personalized experience. \nBook your tour here!
URL:https://things-to-lou.com/events/the-bourbon-trolley-distillery-tour-tasting-rooms-bourbon-experiences-promo-code-multiple-tour-times-11/
LOCATION:KY
CATEGORIES:Walking Tour / Food Tour
ATTACH;FMTTYPE=image/jpeg:https://things-to-lou.com/wp-content/uploads/2025/12/FULL-SIZE-Bourbon-Trolley-28-e1765572493638.jpg
END:VEVENT
BEGIN:VEVENT
DTSTART;TZID=America/New_York:20260305T170000
DTEND;TZID=America/New_York:20260305T200000
DTSTAMP:20260422T085155
CREATED:20251213T015756Z
LAST-MODIFIED:20251213T032511Z
UID:10003435-1772730000-1772740800@things-to-lou.com
SUMMARY:Phantoms of Prohibition: Ghosts\, Cocktails\, & Bites Tour | promo code!
DESCRIPTION:Discover Louisville’s Prohibition past on a haunted cocktail & food tour down Whiskey Row. \nBook your tour here!\nUse code “thingstolou10” to save 10%!\n\nVenture out with us and explore the hidden stories of Louisville’s haunted past. \nAs you eat and drink your way down Whiskey Row\, you’ll meet the resident ghosts of Louisville’s historic downtown\, trace the footsteps of bourbon magnates and mobsters\, see Al Capone’s secret getaway\, discover hidden speakeasies\, and learn the shocking truth about Prohibition. \n\nWhat to Expect\nThis tour includes 4 stops for libations\, as well as an assortment of small bites. Here’s what else to expect: \nBourbon & Cocktails\nThis is a boozy\, 21+ tour\, y’all. \nAudio Headset​\nTo help you hear us from a distance. \nSmall Group\nOur tours max out at 12 people. \nWalking\n1-1.5 Miles. Wear comfy shoes! \n\nExplore Whiskey Row:\nDistilleries. Speakeasies. Saloons. In the mid-1800’s\, this stretch of Main Street was filled to the brim with bourbon barrels – which would soon be considered contraband. \nWhile this area nearly crumbled to disrepair\, today the historic facades house bourbon distilleries\, bars\, restaurants and hotels. \nWhere\nMeet at 101 E Washington St\, Louisville\, KY \nWhen​\nTuesdays – Fridays\, 5:00 and 5:30 PM \n\nExplore the hidden stories of Louisville’s Prohibition past on Whiskey Row\nLike the combination of rye\, corn\, wheat\, and malted barley\, this tour is the perfect blend of cocktails\, food\, ghosts\, and Prohibition history. Over the 3 hours you’ll spend with us\, you’ll enjoy … \nDelicious Prohibition-era cocktails \nSpine-chilling true tales of the resident ghosts of Whiskey Row \nDelicious small bites \nThe surprising true story of Prohibition \nFun & knowledgeable guides
URL:https://things-to-lou.com/events/phantoms-of-prohibition-ghosts-cocktails-bites-tour-promo-code/2026-03-05/
LOCATION:KY
CATEGORIES:Walking Tour / Food Tour
ATTACH;FMTTYPE=image/jpeg:https://things-to-lou.com/wp-content/uploads/2025/12/Prohibition-Tour-7910-e1765591150807.jpg
END:VEVENT
BEGIN:VEVENT
DTSTART;TZID=America/New_York:20260305T183000
DTEND;TZID=America/New_York:20260305T193000
DTSTAMP:20260422T085155
CREATED:20260124T023753Z
LAST-MODIFIED:20260124T023753Z
UID:10004144-1772735400-1772739000@things-to-lou.com
SUMMARY:Ten20 Run Club | one\, three\, & five mile routes + all are welcome
DESCRIPTION:We may not know how much snow is going to fall this weekend\, but we do know that run club is tonight and is always fun (and currently snow free). \nCome out tonight and join us for one last run before the brutal cold and snow move in this weekend. \n🔸  Remember to download our new app (link in bio) to stay up to date on any and all things run club and\, most importantly\, to check-in to be eligible for rewards! \n– 3 runs = $5 off drink\n– 12 runs = run club shirt\n– more to be announced \nYou can also quickly access routes\, event calendars\, and important updates; all from your phone. \nTEN20 Run Club – every Thursday at 6:30pm at TEN20 Craft Brewery located at 1020 E. Washington St. \nWe have 1\, 3\, and 5 mile routes and ALL ARE WELCOME!!!! \n#run #running #fleetfeet #beerrun #runclub \n***Description from IG Post \nMORE INFO ON THE CLUB
URL:https://things-to-lou.com/events/ten20-run-club-one-three-five-mile-routes-all-are-welcome/2026-03-05/
LOCATION:ten20 Craft Brewery\, 1020 E Washington Street\, Louisville\, KY\, 40206\, United States
CATEGORIES:Beer / Brewery,Exercise,Running,Wellness
END:VEVENT
BEGIN:VEVENT
DTSTART;TZID=America/New_York:20260305T183000
DTEND;TZID=America/New_York:20260305T200000
DTSTAMP:20260422T085155
CREATED:20260129T162854Z
LAST-MODIFIED:20260129T162933Z
UID:10004202-1772735400-1772740800@things-to-lou.com
SUMMARY:Behind the Roses: A Kentucky Bourbon Barrel Selection Experience
DESCRIPTION:The Frazier Kentucky History Museum invites you to experience the heritage\, craftsmanship\, and flavor complexity of one of Kentucky’s most iconic historic brands—Four Roses Bourbon! \nJoin us at the Frazier for an intimate evening of tastings\, pairings\, and exceptional Bourbon as we celebrate the artistry of Four Roses’ 10 unique recipes. \nFour Roses Master Distiller Brent Elliott and Four Roses Brand Champion Tucker Carper will share stories and lead guided tastings culminating with the exclusive single-barrel OBSO 9+ year selection that all attendees will have the option to purchase. \nCultured Cheese & Charcuterie Bar will pair small bites\, specifically curated to compliment every offering in the Four Roses lineup. Whether you’re sharing the experience with a partner\, friends\, or fellow Bourbon lovers\, this is a March madness celebration not to be missed. \nABOUT THE PROGRAM\nBehind the Roses: A Kentucky Bourbon Barrel Selection Experience \n\nThursday\, March 5\nLocation: Frazier Kentucky History Museum\nProgram: 6:30–8 p.m.\nAdmission: $45\nFour Roses OBSO Frazier Barrel Selection: $125\n\n\nEvent Date:\n2026-03-05 \nWebsite / Ticket Link:\nhttps://www.fraziermuseum.org/calendar/behind-the-four-roses-experience \nLocation:\nFrazier Kentucky History Museum \nEvent Host:\nFrazier Kentucky History Museum
URL:https://things-to-lou.com/events/behind-the-roses-a-kentucky-bourbon-barrel-selection-experience/
LOCATION:Frazier History Museum\, 829 West Main Street\, Louisville\, 40202\, United States
CATEGORIES:Bourbon,Educational,Museum
ATTACH;FMTTYPE=image/jpeg:https://things-to-lou.com/wp-content/uploads/2026/01/behind-the-roses_-website-square-e1769704181264.jpg
END:VEVENT
BEGIN:VEVENT
DTSTART;TZID=America/New_York:20260305T190000
DTEND;TZID=America/New_York:20260305T210000
DTSTAMP:20260422T085155
CREATED:20260122T035918Z
LAST-MODIFIED:20260122T035918Z
UID:10004097-1772737200-1772744400@things-to-lou.com
SUMMARY:Craig Robinson comedy show
DESCRIPTION:Get Tickets Here \n\nBeginning as a stand-up comedian\, Robinson first made his mark in the comedy circuit at the 1998 Montreal “Just For Laughs” Festival. \nNow headlining venues and festivals across the country\, he does both solo acts as well as full-band sets with his band “The Nasty Delicious.” Before deciding to pursue his comedy career full time\, Robinson was a K-8 teacher in the Chicago Public School System. \nHe earned his undergraduate degree from Illinois State University and his Masters of Education from St. Xavier University. It was while Craig was studying education in Chicago that he also discovered his love of acting and comedy when he joined the famed Second City Theatre. \nCraig is best known for his portrayal of Daryl Philban in NBC’s “The Office” but has also starred in such movies as KNOCKED UP\, THIS IS THE END\, HOT TUB TIME MACHINE\, HOT TUB TIME MACHINE 2\, MORRIS FROM AMERICA\, TRAGEDY GIRLS\, DOLEMITE IS MY NAME! with Eddie Murphy\, TIMMY FAILURE\, and MONA LISA AND THE BOOD MOON with Kate Hudson. \nCraig also starred in his very own sitcom\, MR. ROBINSON on NBC\, as well as GHOSTED on FOX.
URL:https://things-to-lou.com/events/craig-robinson-comedy-show/2026-03-05/
LOCATION:Louisville Comedy Club\, 110 W Main St\, Louisville\, KY\, 40202\, United States
CATEGORIES:Comedy
END:VEVENT
BEGIN:VEVENT
DTSTART;TZID=America/New_York:20260305T200000
DTEND;TZID=America/New_York:20260305T220000
DTSTAMP:20260422T085155
CREATED:20260109T215713Z
LAST-MODIFIED:20260109T215713Z
UID:10003902-1772740800-1772748000@things-to-lou.com
SUMMARY:ACE HOOD "THE BORN REBEL TOUR"
DESCRIPTION:Thu Mar 5\, 2026 \n8:00PM \nACE HOOD “THE BORN REBEL TOUR”
URL:https://things-to-lou.com/events/ace-hood-the-born-rebel-tour/
LOCATION:Mercury Ballroom\, 611 S 4th St\, Louisville\, KY\, 40202\, United States
CATEGORIES:Music
END:VEVENT
END:VCALENDAR