BEGIN:VCALENDAR
VERSION:2.0
PRODID:-//Things To Lou - ECPv6.15.20//NONSGML v1.0//EN
CALSCALE:GREGORIAN
METHOD:PUBLISH
X-WR-CALNAME:Things To Lou
X-ORIGINAL-URL:https://things-to-lou.com
X-WR-CALDESC:Events for Things To Lou
REFRESH-INTERVAL;VALUE=DURATION:PT1H
X-Robots-Tag:noindex
X-PUBLISHED-TTL:PT1H
BEGIN:VTIMEZONE
TZID:America/New_York
BEGIN:DAYLIGHT
TZOFFSETFROM:-0500
TZOFFSETTO:-0400
TZNAME:EDT
DTSTART:20250309T070000
END:DAYLIGHT
BEGIN:STANDARD
TZOFFSETFROM:-0400
TZOFFSETTO:-0500
TZNAME:EST
DTSTART:20251102T060000
END:STANDARD
BEGIN:DAYLIGHT
TZOFFSETFROM:-0500
TZOFFSETTO:-0400
TZNAME:EDT
DTSTART:20260308T070000
END:DAYLIGHT
BEGIN:STANDARD
TZOFFSETFROM:-0400
TZOFFSETTO:-0500
TZNAME:EST
DTSTART:20261101T060000
END:STANDARD
BEGIN:DAYLIGHT
TZOFFSETFROM:-0500
TZOFFSETTO:-0400
TZNAME:EDT
DTSTART:20270314T070000
END:DAYLIGHT
BEGIN:STANDARD
TZOFFSETFROM:-0400
TZOFFSETTO:-0500
TZNAME:EST
DTSTART:20271107T060000
END:STANDARD
END:VTIMEZONE
BEGIN:VEVENT
DTSTART;TZID=America/New_York:20260313T000000
DTEND;TZID=America/New_York:20260315T235959
DTSTAMP:20260419T231727
CREATED:20251212T221001Z
LAST-MODIFIED:20251212T221001Z
UID:10003330-1773360000-1773619199@things-to-lou.com
SUMMARY:SECRETS OF LOUISVILLE Food & History Tour in Nulu | promo code! (multiple times)
DESCRIPTION:Experience Louisville’s story one bite at a time.\nThis tour offers a delicious introduction to the quintessential foods and drinks that define both Louisville and Kentucky. \nStroll through the trendy NuLu and historic Butchertown neighborhoods while sampling famous dishes that originated right here in Louisville— from the foothills of Appalachia to the glitz and glamour of Prohibition-era Louisville. \nEnjoy tastings from six unique stops and how Louisville’s heritage and history have shaped these iconic foods. \n\n  \nBook your tour here!\nUse promo code “thingstolou10” and save 10% on your tickets!\nThe best way to discover Louisville’s essential flavors – without the hassle of driving around – even if you’re short on time! This tour frequently sells out\, so reserve your spot early. \n  \n\nQUICK DETAILS\n\nDistance: 1.5 miles\, flat\nDuration: 3 hours\nFood Stops: 6 stops for local dishes & drinks\nCapacity: 12 per tour\nTime: 1 PM\, Fridays-Sundays\nAccessibility: Wheelchair and stroller friendly. All ages welcome. Ages 2 and under are free.\n\n\nWhere\nMeet at 636 E Main St\, Louisville\, KY 40202 \nWhen​\nFridays\, Saturdays\, and Sundays at 1 PM \n\nWhat’s This Tour All About?\nIs it a food tour or a history tour? The answer\, of course\, is both! This tour is the perfect blend of tastes and tales. \nOver the 3 hours you’ll spend with us\, you’ll enjoy … \n\n8 Delicious dishes representing Kentucky’s heritage (come hungry)\nBarrel-aged craft beer tasting and 2 refreshing alcoholic slushies\nThe unfiltered history of two of Louisville’s most historic neighborhoods\nJokes that we proof-tested on other people first\, probably\nAudio headset (the better to hear your guide – and those jokes)\n\n\nWhat to Expect \nWe’ll be making 6 delicious stops! You can also expect… \nFood & Drinks\nCome hungry & thirsty! (Mocktails also available) \nAudio Headset​\nThe lightweight headset helps you hear us from a distance. \nSmall Group\nOur tours max out at 12 people. \nWalking\n1-1.5 Miles. Wear comfy shoes!
URL:https://things-to-lou.com/events/secrets-of-louisville-food-history-tour-in-nulu-promo-code-multiple-times-46/
LOCATION:KY
CATEGORIES:Walking Tour / Food Tour
ATTACH;FMTTYPE=image/jpeg:https://things-to-lou.com/wp-content/uploads/2025/12/IMG_1316-e1765576295555.jpg
END:VEVENT
BEGIN:VEVENT
DTSTART;TZID=America/New_York:20260315T090000
DTEND;TZID=America/New_York:20260315T160000
DTSTAMP:20260419T231728
CREATED:20260210T063658Z
LAST-MODIFIED:20260210T063831Z
UID:10004709-1773565200-1773590400@things-to-lou.com
SUMMARY:Kentucky Dance Festival | Ambo Dance Theatre
DESCRIPTION:Ambo Dance Theatre is kicking off the 2026 year by hosting the inaugural Kentucky Dance Festival\, the first and only professional contemporary dance festival in the state! \nThis three-day festival features a curated selection of professional choreographic works in diverse dance styles\, as well as professional development and networking opportunities! \n\nPresented in partnership with Actors Theatre of Louisville\, the Kentucky Dance Festival will include:\n* Two professional evening concerts\n* A student showcase featuring dancers from schools and private studios\n* Guest artist master classes and workshops\n* Outreach to rural and underrepresented communities\n* A larger\, more prestigious venue to match our growing impact \nThe shows are on March 13-15\, 2026. On March 13 and 14 the professional shows are at 7pm. \nOn March 15 the student show is at 2pm. \n\nDetails:\nShowtimes:\n\nMarch 13 & 14\, 2026 @ 7pm Professional Showcase\nMarch 15\, 2026 @ 2pm Student Showcase\n\nTickets:\n\nPay-What-You-Can https://www.actorstheatre.org/\n\n\nAbout the Kentucky Dance Festival\nThe Kentucky Dance Festival is the first and only professional contemporary dance festival in the bluegrass. This three-day festival shares the artistic voices of creators across the entire\nstate\, plus guest choreographers from surrounding states across the South and Midwestern regions. \nThe Kentucky Dance Festival is open to all styles and forms of dance\, and any kind of choreographic processes. Creators are invited to apply to present works that are fully developed and completed\, as well as works in progress that are looking to make their stage debut. Applications undergo rigorous adjudication by a panel of professionals who select works based on their artistic merit as stand alone works\, as well as in conversation with other submissions. Festival curation is centered on quality\, diversity of style\, subject matter\, and dancers\, and the overall arc of the concert. \nProfessional creators who are invited to present their work at the festival are given the opportunity to apply to lead master classes during the festival weekend. Master class applications are adjudicated similarly to choreographic works in order to provide festival participants and spectators with a high quality and diverse experience. \nMISSION STATEMENT: \nThe Kentucky Dance Festival strengthens Kentucky’s professional dance ecosystem by elevating local choreographic voices\, fostering meaningful exchange with regional artists\, and positioning Louisville as a vital contributor to the contemporary dance landscape. \nVISION STATEMENT: \nIn alignment with Ambo Dance Theatre’s vision of transforming Louisville into a Dance Hub\, the Kentucky Dance Festival envisions a thriving\, interconnected dance community where Kentucky artists are professionally supported\, contemporary dance is accessible to the Kentuckiana region\, and emerging dancers are equipped with clear pathways to build sustainable careers. \n\nBackground and Origins of the Kentucky Dance Festival:\nSince 2021\, Ambo Dance Theatre has been hosting the Kentucky NACHMO Dance Festival\, a dance festival in partnership with the National Choreography Month (NACHMO) organization. In 2025\, the Kentucky NACHMO Dance Festival experienced a 46% growth\, featuring 121 performers from 12 groups and doubling our audience engagement. While the consistent growth of this small\, local festival highlighted the demand and interest for high quality\, accessible contemporary dance experiences\, the NACHMO format wasn’t always accessible for under-resourced groups. Thus\, Ambo Dance Theatre split NACHMO into its own event while launching the Kentucky Dance Festival as a larger\, more accessible statewide and national platform. \nThe Kentucky Dance Festival is open to all styles and forms of dance\, and any kind of choreographic process. The application process invited creators to submit works that were fully developed\, as well as works in progress. This represents a step towards building the much-needed infrastructure to boost the local dance economy and connect Louisville to the larger professional contemporary dance network. \nThe Kentucky Dance Festival will: \n● Amplify underrepresented voices and bring dance to new communities across Kentucky\n● Give students\, emerging artists\, and companies & studios of all sizes a statewide platform to shine\n● Provide paid opportunities for local dancers\, choreographers\, and technicians\n● Build long-term creative infrastructure that fuels cultural and economic growth\n● Spotlight Kentucky on the national stage as a hub for contemporary dance excellence \n\nKentucky Dance Festival – Full Weekend Schedule:\nFriday\, March 13\, 2025\n\n7pm – PERFORMANCE: Professional Concert #1\n10pm – KDF Community Meetup: A Networking and Social Outing\n\nSaturday\, March 14\, 2025\n\n9am – MASTER CLASS: Flirt: A Dance Theatre Workshop\n10:45am – MASTER CLASS: Nontraditional Partnering\n1:30pm – MASTER CLASS: Contemporary Chinese Fusion\n7pm – PERFORMANCE: Professional Concert #2\n\nSunday\, March 15\, 2025\n\n9am – MASTER CLASS: Grounded: Contemporary Modern Dance Floorwork\n10:45am – MASTER CLASS: Tennis Ball Magic\n2pm – PERFORMANCE: Student Concert\n\n\nAll Master Classes are 90 minutes long and will be held at Ambo Dance Theatre\, located at 812 Clarks Lane. \nTickets can be purchased at http://www.ambodancetheatre.org \nAll Performances will be approximately 2 hours long (including at 15 minute intermission) and will be held at Actors Theatre of Louisville in the Pamela Brown Theatre\, located at 316 W Main St. \nTickets will be available for purchase at http://www.actorstheatre.org beginning on February 15th.
URL:https://things-to-lou.com/events/kentucky-dance-festival-ambo-dance-theatre/2026-03-15/
LOCATION:Actors Theatre of Louisville\, 316 W Main St\, Louisville\, KY\, 40202\, United States
CATEGORIES:Dance,Family & Children
ATTACH;FMTTYPE=image/png:https://things-to-lou.com/wp-content/uploads/2026/02/edited-kentucky-dance-festival-poster-24x18-1-e1770704628193.png
END:VEVENT
BEGIN:VEVENT
DTSTART;TZID=America/New_York:20260315T190000
DTEND;TZID=America/New_York:20260315T210000
DTSTAMP:20260419T231728
CREATED:20260109T213334Z
LAST-MODIFIED:20260109T213334Z
UID:10003886-1773601200-1773608400@things-to-lou.com
SUMMARY:Pink Talking Fish: A Fusion of Pink Floyd\, Talking Heads and Phish
DESCRIPTION:Pink Talking Fish is a Hybrid Tribute Fusion Act that takes the music from three of the world’s most beloved bands and creates a special treat for fans of the music. \nPink Floyd\, Talking Heads and Phish are all more than just bands… they are Phenomenons. Their creations have artistically inspired people and their mind-blowing live performances have brought people together to form a sense of community around the love for their favorite bands. \nAlthough the music from each act is different\, Pink Talking Fish has discovered that fusing the material together writes an amazing new story. The epic emotion of Pink Floyd… The funky\, danceable layerings of Talking Heads… The multitude of styles\, unique compositional structures and pure fun of​ Phish… to merge these three acts into one gives music lovers an experience like no other. \nPink Talking Fish features Eric Gould on bass\, Richard James/Stephen Learson on keyboards\, Zack Burwick on drums and Cal Kehoe on guitar. This is a band created by musicians who love the music of these iconic bands. Its purpose is to heighten people’s passion for this music by creating something fresh and exciting for fans. \nDiscovering connections is part of the fun: Pink Floyd’s “On The Run” seamlessly fitting in the middle of the composition of Phish’s “You Enjoy Myself”. Perfectly placing Phish’s “Sand” into the groove of Talking Head’s “Slippery People”. Segued collections from all three acts such as Run Like Hell > Making Flippy Floppy > Piper > Run Like Hell or Mike’s Song > Have A Cigar > Once In A Lifetime > Weekapaug Groove. These ideas are the spirit behind Pink Talking Fish. \nThe story is ever evolving. The experience is always thrilling. No two shows are ever the same. \nCome join Pink Talking Fish for the ultimate fusion tribute and celebrate the love of this music in unmatched fashion. \n\nAges 18 and up\nSunday\, March 15\nDoors: 7 pm // Show: 8 pm\n$28.90
URL:https://things-to-lou.com/events/pink-talking-fish-a-fusion-of-pink-floyd-talking-heads-and-phish/
LOCATION:The Whirling Tiger\, 1335 Story Ave \, KY 40206\, Louisville\, KY\, 40206\, United States
CATEGORIES:Music
END:VEVENT
BEGIN:VEVENT
DTSTART;TZID=America/New_York:20260315T200000
DTEND;TZID=America/New_York:20260315T220000
DTSTAMP:20260419T231728
CREATED:20260109T212523Z
LAST-MODIFIED:20260109T212523Z
UID:10003882-1773604800-1773612000@things-to-lou.com
SUMMARY:KPA + Live Nation + 91.9 WFPK Presents Leela James 2BHONEST
DESCRIPTION:
URL:https://things-to-lou.com/events/kpa-live-nation-91-9-wfpk-presents-leela-james-2bhonest/
LOCATION:Old Forester’s Paristown Hall\, 724 Brent St\, Louisville\, KY\, 40204\, United States
CATEGORIES:Music
END:VEVENT
BEGIN:VEVENT
DTSTART;TZID=America/New_York:20260315T200000
DTEND;TZID=America/New_York:20260316T020000
DTSTAMP:20260419T231728
CREATED:20260105T073821Z
LAST-MODIFIED:20260105T073947Z
UID:10003719-1773604800-1773626400@things-to-lou.com
SUMMARY:The Louisville Gore Club
DESCRIPTION:FOR 13 YEARS every Sunday night at 8pm the ghoulish and the grave turn up to enjoy the best and worst in horror/sci-fi/ fantasy cinema! \n8pm-2am every Sunday night. \nThey created Louisville Krampus\, Gore Club Podcast and Louisville Gore Club Presents. \n\nAll Events are 21+ and IDs required for entry. \nEvery Sunday for 15 years! Starts at 8pm \nFree Admission\, Free Popcorn! \n***description from website \n  \nWeekly movie info on Instagram
URL:https://things-to-lou.com/events/the-louisville-gore-club/2026-03-15/
LOCATION:Planet Of The Tapes\, 640 Barret Ave\, Louisville\, KY\, 40204\, United States
CATEGORIES:Fandom,Film / Movies
END:VEVENT
END:VCALENDAR