BEGIN:VCALENDAR
VERSION:2.0
PRODID:-//Things To Lou - ECPv6.15.20//NONSGML v1.0//EN
CALSCALE:GREGORIAN
METHOD:PUBLISH
X-ORIGINAL-URL:https://things-to-lou.com
X-WR-CALDESC:Events for Things To Lou
REFRESH-INTERVAL;VALUE=DURATION:PT1H
X-Robots-Tag:noindex
X-PUBLISHED-TTL:PT1H
BEGIN:VTIMEZONE
TZID:America/New_York
BEGIN:DAYLIGHT
TZOFFSETFROM:-0500
TZOFFSETTO:-0400
TZNAME:EDT
DTSTART:20250309T070000
END:DAYLIGHT
BEGIN:STANDARD
TZOFFSETFROM:-0400
TZOFFSETTO:-0500
TZNAME:EST
DTSTART:20251102T060000
END:STANDARD
BEGIN:DAYLIGHT
TZOFFSETFROM:-0500
TZOFFSETTO:-0400
TZNAME:EDT
DTSTART:20260308T070000
END:DAYLIGHT
BEGIN:STANDARD
TZOFFSETFROM:-0400
TZOFFSETTO:-0500
TZNAME:EST
DTSTART:20261101T060000
END:STANDARD
BEGIN:DAYLIGHT
TZOFFSETFROM:-0500
TZOFFSETTO:-0400
TZNAME:EDT
DTSTART:20270314T070000
END:DAYLIGHT
BEGIN:STANDARD
TZOFFSETFROM:-0400
TZOFFSETTO:-0500
TZNAME:EST
DTSTART:20271107T060000
END:STANDARD
END:VTIMEZONE
BEGIN:VEVENT
DTSTART;TZID=America/New_York:20260320T000000
DTEND;TZID=America/New_York:20260322T235959
DTSTAMP:20260424T083153
CREATED:20251212T221005Z
LAST-MODIFIED:20251212T221038Z
UID:10003331-1773964800-1774223999@things-to-lou.com
SUMMARY:SECRETS OF LOUISVILLE Food & History Tour in Nulu | promo code! (multiple times)
DESCRIPTION:Experience Louisville’s story one bite at a time.\nThis tour offers a delicious introduction to the quintessential foods and drinks that define both Louisville and Kentucky. \nStroll through the trendy NuLu and historic Butchertown neighborhoods while sampling famous dishes that originated right here in Louisville— from the foothills of Appalachia to the glitz and glamour of Prohibition-era Louisville. \nEnjoy tastings from six unique stops and how Louisville’s heritage and history have shaped these iconic foods. \n\n  \nBook your tour here!\nUse promo code “thingstolou10” and save 10% on your tickets!\nThe best way to discover Louisville’s essential flavors – without the hassle of driving around – even if you’re short on time! This tour frequently sells out\, so reserve your spot early. \n  \n\nQUICK DETAILS\n\nDistance: 1.5 miles\, flat\nDuration: 3 hours\nFood Stops: 6 stops for local dishes & drinks\nCapacity: 12 per tour\nTime: 1 PM\, Fridays-Sundays\nAccessibility: Wheelchair and stroller friendly. All ages welcome. Ages 2 and under are free.\n\n\nWhere\nMeet at 636 E Main St\, Louisville\, KY 40202 \nWhen​\nFridays\, Saturdays\, and Sundays at 1 PM \n\nWhat’s This Tour All About?\nIs it a food tour or a history tour? The answer\, of course\, is both! This tour is the perfect blend of tastes and tales. \nOver the 3 hours you’ll spend with us\, you’ll enjoy … \n\n8 Delicious dishes representing Kentucky’s heritage (come hungry)\nBarrel-aged craft beer tasting and 2 refreshing alcoholic slushies\nThe unfiltered history of two of Louisville’s most historic neighborhoods\nJokes that we proof-tested on other people first\, probably\nAudio headset (the better to hear your guide – and those jokes)\n\n\nWhat to Expect \nWe’ll be making 6 delicious stops! You can also expect… \nFood & Drinks\nCome hungry & thirsty! (Mocktails also available) \nAudio Headset​\nThe lightweight headset helps you hear us from a distance. \nSmall Group\nOur tours max out at 12 people. \nWalking\n1-1.5 Miles. Wear comfy shoes!
URL:https://things-to-lou.com/events/secrets-of-louisville-food-history-tour-in-nulu-promo-code-multiple-times-47/
LOCATION:KY
CATEGORIES:Walking Tour / Food Tour
ATTACH;FMTTYPE=image/jpeg:https://things-to-lou.com/wp-content/uploads/2025/12/FULL-SIZE-NuLu-Biscuit-Belly-Flight-1-e1765576303372.jpg
END:VEVENT
BEGIN:VEVENT
DTSTART;TZID=America/New_York:20260322T150000
DTEND;TZID=America/New_York:20260322T173000
DTSTAMP:20260424T083153
CREATED:20260311T070216Z
LAST-MODIFIED:20260311T070216Z
UID:10004751-1774191600-1774200600@things-to-lou.com
SUMMARY:Blooming Connections
DESCRIPTION:Winter invites rest\, but spring reminds us that growth is always possible. Blooming Connections is a free community gathering designed to help participants reflect on their own seasons of rest\, resilience\, and renewal. \nThrough guided journaling\, thoughtful conversation\, and a creative nature inspired activity\, participants will explore mental wellness while building meaningful connections with others.
URL:https://things-to-lou.com/events/blooming-connections/
LOCATION:Play Cousins Collective\, 1701 W Market St\, Louisville\, KY\, 40203\, United States
CATEGORIES:Wellness
ATTACH;FMTTYPE=image/png:https://things-to-lou.com/wp-content/uploads/2026/03/blooming-connections--e1773212087102.png
END:VEVENT
BEGIN:VEVENT
DTSTART;TZID=America/New_York:20260322T180000
DTEND;TZID=America/New_York:20260322T220000
DTSTAMP:20260424T083153
CREATED:20260311T152016Z
LAST-MODIFIED:20260311T152016Z
UID:10004757-1774202400-1774216800@things-to-lou.com
SUMMARY:Mystery Arcade Game Tournament | Diorio's Pizza & Pub
DESCRIPTION:Arcade tournament Sunday March 22! Winner wins 2 passes to the arcade expo. Come play with us 👾🤘🏼🍻 \n#louisvillearcadeexpo #louisvillegames #videogames #502 #louisvillehighlands \n***description from IG Post
URL:https://things-to-lou.com/events/mystery-arcade-game-tournament-diorios-pizza-pub/
LOCATION:DiOrio’s Pizza & Pub – Baxter Ave\, 919 Baxter Ave\, Louisville\, KY\, 40204\, United States
CATEGORIES:Food & Drink,Games/Pinball/Bingo/etc.,Gaming / Video Games / Tabletop Games
END:VEVENT
BEGIN:VEVENT
DTSTART;TZID=America/New_York:20260322T193000
DTEND;TZID=America/New_York:20260322T220000
DTSTAMP:20260424T083153
CREATED:20260109T212650Z
LAST-MODIFIED:20260109T212650Z
UID:10003883-1774207800-1774216800@things-to-lou.com
SUMMARY:91.9 WFPK Presents moe. | Born To Fly Tour
DESCRIPTION:Thirty-five years ago\, a posse of University of Buffalo-based musician-friends got together to play music. Out of freewheeling sessions bursting with bold\, genre-defying creativity and tongue-in-cheek humor\, a 6-headed monster named moe. emerged. \nDecades later\, moe.’s tireless work ethic\, DIY resourcefulness\, infectious songwriting\, and highly-engaged fanbase—the Famoe.ly—have enabled the sextet to earn a successful career. Yet\, the guys have never rested on their lau-rels as “jam band pioneers.” They average 100 shows per year\, and regularly release vital new music\, including the band’s latest album\, Circle of Giants (ATO)\, its 13th release. \nCircle of Giants was almost all tracked when bassist/vocalist Rob Derhak’s 25-year-old son died tragically\, but it’s no downer. Visceral and vulnerable\, the 10-collection confronts life’s challenges with grace\, humor\, hard-fought wisdom\, and jaw-dropping musicality. Creatively-invigorated by the addition of keyboardist Nate Wilson to the full-time lineup\, moe. has created a milestone album while processing an unfathomable loss. \nmoe. is a brotherhood\, featuring Derhak\, Schnier\, guitarist/vocalist Chuck Garvey\, drummer Vinnie Amico\, percussionist/vibraphonist Jim Loughlin\, and keyboardist Nate Wilson. The six-piece band came up in the primordial pouch of the early jam band scene\, alongside Blues Traveler\, Spin Doctors\, Widespread Panic\, and Phish. \nLauded by American Songwriter for its “mind-bending musicality\,” moe. Is beloved for its sonic adventurousness\, unbridled showmanship\, and its witty and insightful songwriting. NYS Music has said: “moe. has redefined what’s possible within the genre\, leaving a lasting impact and challenging listeners to rethink the limits of musical expression.” \nSince releasing its foundational album\, Fatboy\, in 1992\, moe. has issued a vast and varied series of now-classic records. Select studio album highlights include 1998’s Tin Cans & Car Tires; 2004’s Wormwood; 2007’s The Conch (which reached #1 on Billboard’s “Heatseekers” chart); and 2012’s critically-acclaimed What Happened To The La Las. \n**Description from website
URL:https://things-to-lou.com/events/91-9-wfpk-presents-moe-born-to-fly-tour/
LOCATION:Old Forester’s Paristown Hall\, 724 Brent St\, Louisville\, KY\, 40204\, United States
CATEGORIES:Music
END:VEVENT
BEGIN:VEVENT
DTSTART;TZID=America/New_York:20260322T200000
DTEND;TZID=America/New_York:20260323T020000
DTSTAMP:20260424T083153
CREATED:20260105T073821Z
LAST-MODIFIED:20260105T073947Z
UID:10003720-1774209600-1774231200@things-to-lou.com
SUMMARY:The Louisville Gore Club
DESCRIPTION:FOR 13 YEARS every Sunday night at 8pm the ghoulish and the grave turn up to enjoy the best and worst in horror/sci-fi/ fantasy cinema! \n8pm-2am every Sunday night. \nThey created Louisville Krampus\, Gore Club Podcast and Louisville Gore Club Presents. \n\nAll Events are 21+ and IDs required for entry. \nEvery Sunday for 15 years! Starts at 8pm \nFree Admission\, Free Popcorn! \n***description from website \n  \nWeekly movie info on Instagram
URL:https://things-to-lou.com/events/the-louisville-gore-club/2026-03-22/
LOCATION:Planet Of The Tapes\, 640 Barret Ave\, Louisville\, KY\, 40204\, United States
CATEGORIES:Fandom,Film / Movies
END:VEVENT
END:VCALENDAR