BEGIN:VCALENDAR
VERSION:2.0
PRODID:-//Things To Lou - ECPv6.15.20//NONSGML v1.0//EN
CALSCALE:GREGORIAN
METHOD:PUBLISH
X-ORIGINAL-URL:https://things-to-lou.com
X-WR-CALDESC:Events for Things To Lou
REFRESH-INTERVAL;VALUE=DURATION:PT1H
X-Robots-Tag:noindex
X-PUBLISHED-TTL:PT1H
BEGIN:VTIMEZONE
TZID:America/New_York
BEGIN:DAYLIGHT
TZOFFSETFROM:-0500
TZOFFSETTO:-0400
TZNAME:EDT
DTSTART:20250309T070000
END:DAYLIGHT
BEGIN:STANDARD
TZOFFSETFROM:-0400
TZOFFSETTO:-0500
TZNAME:EST
DTSTART:20251102T060000
END:STANDARD
BEGIN:DAYLIGHT
TZOFFSETFROM:-0500
TZOFFSETTO:-0400
TZNAME:EDT
DTSTART:20260308T070000
END:DAYLIGHT
BEGIN:STANDARD
TZOFFSETFROM:-0400
TZOFFSETTO:-0500
TZNAME:EST
DTSTART:20261101T060000
END:STANDARD
BEGIN:DAYLIGHT
TZOFFSETFROM:-0500
TZOFFSETTO:-0400
TZNAME:EDT
DTSTART:20270314T070000
END:DAYLIGHT
BEGIN:STANDARD
TZOFFSETFROM:-0400
TZOFFSETTO:-0500
TZNAME:EST
DTSTART:20271107T060000
END:STANDARD
END:VTIMEZONE
BEGIN:VEVENT
DTSTART;TZID=America/New_York:20260327T000000
DTEND;TZID=America/New_York:20260329T235959
DTSTAMP:20260420T005843
CREATED:20251212T221008Z
LAST-MODIFIED:20251212T221008Z
UID:10003332-1774569600-1774828799@things-to-lou.com
SUMMARY:SECRETS OF LOUISVILLE Food & History Tour in Nulu | promo code! (multiple times)
DESCRIPTION:Experience Louisville’s story one bite at a time.\nThis tour offers a delicious introduction to the quintessential foods and drinks that define both Louisville and Kentucky. \nStroll through the trendy NuLu and historic Butchertown neighborhoods while sampling famous dishes that originated right here in Louisville— from the foothills of Appalachia to the glitz and glamour of Prohibition-era Louisville. \nEnjoy tastings from six unique stops and how Louisville’s heritage and history have shaped these iconic foods. \n\n  \nBook your tour here!\nUse promo code “thingstolou10” and save 10% on your tickets!\nThe best way to discover Louisville’s essential flavors – without the hassle of driving around – even if you’re short on time! This tour frequently sells out\, so reserve your spot early. \n  \n\nQUICK DETAILS\n\nDistance: 1.5 miles\, flat\nDuration: 3 hours\nFood Stops: 6 stops for local dishes & drinks\nCapacity: 12 per tour\nTime: 1 PM\, Fridays-Sundays\nAccessibility: Wheelchair and stroller friendly. All ages welcome. Ages 2 and under are free.\n\n\nWhere\nMeet at 636 E Main St\, Louisville\, KY 40202 \nWhen​\nFridays\, Saturdays\, and Sundays at 1 PM \n\nWhat’s This Tour All About?\nIs it a food tour or a history tour? The answer\, of course\, is both! This tour is the perfect blend of tastes and tales. \nOver the 3 hours you’ll spend with us\, you’ll enjoy … \n\n8 Delicious dishes representing Kentucky’s heritage (come hungry)\nBarrel-aged craft beer tasting and 2 refreshing alcoholic slushies\nThe unfiltered history of two of Louisville’s most historic neighborhoods\nJokes that we proof-tested on other people first\, probably\nAudio headset (the better to hear your guide – and those jokes)\n\n\nWhat to Expect \nWe’ll be making 6 delicious stops! You can also expect… \nFood & Drinks\nCome hungry & thirsty! (Mocktails also available) \nAudio Headset​\nThe lightweight headset helps you hear us from a distance. \nSmall Group\nOur tours max out at 12 people. \nWalking\n1-1.5 Miles. Wear comfy shoes!
URL:https://things-to-lou.com/events/secrets-of-louisville-food-history-tour-in-nulu-promo-code-multiple-times-48/
LOCATION:KY
CATEGORIES:Walking Tour / Food Tour
ATTACH;FMTTYPE=image/jpeg:https://things-to-lou.com/wp-content/uploads/2025/12/FS-Nulu-10-e1765576311521.jpg
END:VEVENT
BEGIN:VEVENT
DTSTART;TZID=America/New_York:20260328T000000
DTEND;TZID=America/New_York:20260328T235959
DTSTAMP:20260420T005843
CREATED:20260311T075635Z
LAST-MODIFIED:20260311T080432Z
UID:10004756-1774656000-1774742399@things-to-lou.com
SUMMARY:No Kings | rallies\, protests\, community\, food drives\, and more
DESCRIPTION:In America\, we have No Kings. We are showing up together again on March 28. \nWhen our families are under attack and costs are pushing people to the brink\, silence is not an option. We will defend ourselves and our communities against this administration’s unjust and cruel acts of violence. America does not belong to strongmen\, greedy billionaires\, or those who rule through fear. It belongs to us\, the people. \n\nA core principle behind all No Kings events is a commitment to nonviolent action. We expect all participants to seek to de-escalate any potential confrontation with those who disagree with our values and to act lawfully at these events. Weapons of any kind\, including those legally permitted\, should not be brought to events. \n\nFind details about rallies around Louisville on the website here \n \n\n\nNO KINGS Louisville KY\n\nSat\, Mar 28\n1:00 PM — 4:00 PM EDT\nMetro City Hall\nLouisville\, KY 40202\n\n\nNO KINGS 3: Jeffersonville\, Indiana\n\nSat\, Mar 28\n3:00 PM — 5:00 PM EDT\nWarder Park\nJeffersonville\, IN 47130\n\n\nNO KINGS Crescent Hill\n\nSat\, Mar 28\n3:00 PM — 4:00 PM EDT\n\n\nWe The People Have No Kings Corydon\, IN\n\nSat\, Mar 28\n1:00 PM — 3:00 PM EDT\nCorydon Town Square\nCorydon\, IN 47112\n\n\nNo Kings- Pewee Valley Ky\n\nSat\, Mar 28\n11:00 AM — 2:30 PM EDT\n\n\nNO KINGS Shelbyville KY\n\nSat\, Mar 28\n10:00 AM — 11:30 AM EDT\nStargazer Plaza\nShelbyville\, KY 40065\n\n\nNO KINGS Elizabethtown\, KY & Food Drive\n\nSat\, Mar 28\n1:00 PM — 3:00 PM EDT\nHardin County Justice Center\nElizabethtown\, KY 42701\n\n\nNO KINGS BARDSTOWN\n\nSat\, Mar 28\n10:00 AM — 12:00 PM EDT
URL:https://things-to-lou.com/events/no-kings-rallies-protests/
LOCATION:Various
CATEGORIES:Civic / Government
ATTACH;FMTTYPE=image/png:https://things-to-lou.com/wp-content/uploads/2026/03/NK3_16x9-2-e1773216193866.png
END:VEVENT
BEGIN:VEVENT
DTSTART;TZID=America/New_York:20260328T090000
DTEND;TZID=America/New_York:20260328T160000
DTSTAMP:20260420T005843
CREATED:20260124T014719Z
LAST-MODIFIED:20260124T014719Z
UID:10004133-1774688400-1774713600@things-to-lou.com
SUMMARY:Hot Glass MAKE IT! | glass blowing class | Birds (multiple class times)
DESCRIPTION:Tweet Tweet. Spring is here! Take home your own sculpted glass Bird. \nItems will be ready for pick-up one week after the class. \nStudents must be 18+\, or 15+ if taken with a parent or guardian. \n  \n***description from website \n  \nGET TICKETS HERE
URL:https://things-to-lou.com/events/hot-glass-make-it-glass-blowing-class-birds-multiple-class-times/2026-03-28/
LOCATION:ACME Artworks Hot Shop\, 953 S Clay ST\, Louisville\, KY\, 40203\, United States
CATEGORIES:Art,Workshop
END:VEVENT
BEGIN:VEVENT
DTSTART;TZID=America/New_York:20260328T120000
DTEND;TZID=America/New_York:20260328T170000
DTSTAMP:20260420T005843
CREATED:20260326T020852Z
LAST-MODIFIED:20260326T021138Z
UID:10004797-1774699200-1774717200@things-to-lou.com
SUMMARY:Metaphysical Market at Atlantis Flew Away
DESCRIPTION:Stop by and get a reading\, handmade jewelry\, artwork\, or other treasures at the Metaphysical Market at AFA this Saturday! \nWe hold these events once a month and showcase a variety of local artists\, practitioners and small businesses. \nShop small\, support local. \n 
URL:https://things-to-lou.com/events/metaphysical-market-at-atlantis-flew-away-2/2026-03-28/
LOCATION:Atlantis Flew Away\, 6470 North Preston Highway\, Louisville\, KY\, 40229\, United States
CATEGORIES:Market,Shopping
ATTACH;FMTTYPE=image/jpeg:https://things-to-lou.com/wp-content/uploads/2026/03/black-white-and-beige-crystal-weekend-market-instagram-post_20260305_144224_0000-e1774493165822.jpg
END:VEVENT
BEGIN:VEVENT
DTSTART;TZID=America/New_York:20260328T130000
DTEND;TZID=America/New_York:20260328T150000
DTSTAMP:20260420T005843
CREATED:20260325T202711Z
LAST-MODIFIED:20260326T031950Z
UID:10004776-1774702800-1774710000@things-to-lou.com
SUMMARY:Louisville Bats | home game
DESCRIPTION:The 2026 Louisville Bats season has arrived! Here is the full home game schedule! \n\nOpening Night / Pregame Live Music\nMar 27\nvs.Omaha\n7:15 pm EDT \n— \nKid’s Opening Day / Magnet Schedule Giveaway \nSat\nMar 28\nvs.Omaha\n1:05 pm EDT \n— \nPregame Autograph Session\n$4 Philly’s Best non-alcoholic slushies \nSun\nMar 29\nvs.Omaha\n1:05 pm EDT \n— \nTue\nMar 31\nvs.Iowa\n6:35 pm EDT \nMargarita Madness\nTaco Tuesday Special \n— \nWed\nApr 1\nvs.Iowa\n12:05 pm EDT \nSenior Ticket Offer\nBaseball Bingo \n— \nThu\nApr 2\nvs.Iowa\n6:35 pm EDT \nThrifty Thursday Ticket Offer\nThrifty Thursday \n— \nFri\nApr 3\nvs.Iowa\n7:15 pm EDT \nHealth Care Appreciation Night\nPregame Live Music \n— \nSat\nApr 4\nvs.Iowa\n1:05 pm EDT \nBluey Night\n2026 Schedule Cup Giveaway \n— \nSun\nApr 5\nvs.Iowa\n1:05 pm EDT \n$4 Philly’s Best non-alcoholic slushies\nKids Run the Bases \n—————– \nTue\nApr 14\nvs.Toledo\n6:05 pm EDT \nMargarita Madness\nTaco Tuesday Special \n— \nWed\nApr 15\nvs.Toledo\n11:05 am EDT \nEducation Day\nSenior Ticket Offer \n— \nThu\nApr 16\nvs.Toledo\n6:35 pm EDT \nDog Night and Mashers Night\nThrifty Thursday Ticket Offer \n— \nFri\nApr 17\nvs.Toledo\n6:35 pm EDT \nDerby 152 Night\nGametime Happy Hour \n— \nSat\nApr 18\nvs.Toledo\n2:05 pm EDT \nThunder at Louisville Slugger Field\nPost-game Concert\n— \nSun\nApr 19\nvs.Toledo\n1:05 pm EDT \n$4 Philly’s Best non-alcoholic slushies\nKids Run the Bases \n— \nTue\nMay 5\nvs.Nashville\n6:05 pm EDT \nCinco De Mayo\nMargarita Madness \n— \nWed\nMay 6\nvs.Nashville\n11:05 am EDT \nEducation Day\nSenior Ticket Offer \n— \nThu\nMay 7\nvs.Nashville\n6:35 pm EDT \nDog Night #2\nThrifty Thursday Ticket Offer \n— \nFri\nMay 8\nvs.Nashville\n7:15 pm EDT \nRedbirds Night\nPregame Live Music \n— \nSat\nMay 9\nvs.Nashville\n7:15 pm EDT \nMash & Bash\nParty @ the Park \n—\nSun\nMay 10\nvs.Nashville\n1:05 pm EDT \nMother’s Day\nPostgame Play Catch with Mom\n— \nTue\nMay 12\nvs.Indianapolis\n6:05 pm EDT \nNothing Night\nMargarita Madness \n—\nWed\nMay 13\nvs.Indianapolis\n11:05 am EDT \nEducation Day\nSenior Ticket Offer\n— \nThu\nMay 14\nvs.Indianapolis\n6:35 pm EDT \nThrifty Thursday Ticket Offer\nThrifty Thursday \n—\nFri\nMay 15\nvs.Indianapolis\n7:15 pm EDT \nPregame Live Music\nGametime Happy Hour \n—\nSat\nMay 16\nvs.Indianapolis\n7:15 pm EDT \nStar Wars Night\nSpace Sword Giveaway \n—\nSun\nMay 17\nvs.Indianapolis\n1:05 pm EDT \n$4 Philly’s Best non-alcoholic slushies\nKids Run the Bases \n— \nTue\nMay 26\nvs.St. Paul\n6:35 pm EDT \nPurr at the Park\nMargarita Madness \n—\nWed\nMay 27\nvs.St. Paul\n12:05 pm EDT \nSenior Ticket Offer\nBaseball Bingo \n—\nThu\nMay 28\nvs.St. Paul\n6:35 pm EDT \nALS Night\nThrifty Thursday Ticket Offer \n—\nFri\nMay 29\nvs.St. Paul\n7:15 pm EDT \nMilitary Appreciation Night\nBirdzerk! \n—\nSat\nMay 30\nvs.St. Paul\n7:15 pm EDT \nWe Love Lou Night\nWhite Replica Jersey Giveaway \n—\nSun\nMay 31\nvs.St. Paul\n1:05 pm EDT \nBuddy’s Birthday Bash\n$4 Philly’s Best non-alcoholic slushies\n— \nTue\nJun 9\nvs.Iowa\n6:35 pm EDT \nMargarita Madness\nTaco Tuesday Special\n— \nWed\nJun 10\nvs.Iowa\n6:35 pm EDT \nSenior Ticket Offer\nBaseball Bingo \n—\nThu\nJun 11\nvs.Iowa\n6:35 pm EDT \nThrifty Thursday Ticket Offer\nThrifty Thursday\n— \nFri\nJun 12\nvs.Iowa\n7:15 pm EDT \nYouth Soccer Night\nPregame Live Music \n—\nSat\nJun 13\nvs.Iowa\n7:15 pm EDT \nHumidity Has Arrived Night\nHumidity Widget Hat Giveaway \n—\nSun\nJun 14\nvs.Iowa\n1:05 pm EDT \nFathers Day\nPost-game Catch with Dad\n— \nTue\nJun 23\nvs.St. Paul\n6:35 pm EDT \nMargarita Madness\nTaco Tuesday Special \n—\nWed\nJun 24\nvs.St. Paul\n12:05 pm EDT \nSenior Ticket Offer\nBaseball Bingo\n— \nThu\nJun 25\nvs.St. Paul\n6:35 pm EDT \nThrifty Thursday Ticket Offer\nThrifty Thursday\n— \nFri\nJun 26\nvs.St. Paul\n7:15 pm EDT \nThe Life of a Louisville Bat\nGametime Happy Hour \n—\nSat\nJun 27\nvs.St. Paul\n5:05 pm EDT \nBackyard Baseball Night\nThe Bronson Arroyo Band \n—\nSun\nJun 28\nvs.St. Paul\n1:05 pm EDT \n$4 Philly’s Best non-alcoholic slushies\nKids Run the Bases \n— \nTue\nJul 7\nvs.Omaha\n6:35 pm EDT \nMargarita Madness\nTaco Tuesday Special \n—\nWed\nJul 8\nvs.Omaha\n6:35 pm EDT \nSenior Ticket Offer\nBaseball Bingo \n—\nThu\nJul 9\nvs.Omaha\n6:35 pm EDT \nThrifty Thursday Ticket Offer\nThrifty Thursday\n— \nFri\nJul 10\nvs.Omaha\n7:15 pm EDT \nSurviving Island Humidity Night\nRupert Boneham Meet & Greet\n— \nSat\nJul 11\nvs.Omaha\n7:15 pm EDT \nTBIA Night\nParty @ the Park \n—\nSun\nJul 12\nvs.Omaha\n1:05 pm EDT \nRoot Beer Float Day\nRoot Beer Float Ticket Package \n— \nTue\nJul 28\nvs.Indianapolis\n6:35 pm EDT \nPeanut Allergy Awareness Night\nMargarita Madness\n— \nWed\nJul 29\nvs.Indianapolis\n6:35 pm EDT \nSenior Ticket Offer\nBaseball Bingo\n— \nThu\nJul 30\nvs.Indianapolis\n6:35 pm EDT \nMashers Night\nThrifty Thursday Ticket Offer \n—\nFri\nJul 31\nvs.Indianapolis\n7:15 pm EDT \nHumidity #3: Beachin @ the Ballpark\nPregame Live Music \n—\nSat\nAug 1\nvs.Indianapolis\n7:15 pm EDT \nPaw Patrol Night\nChase Character Appearance \n— \nSun\nAug 2\nvs.Indianapolis\n1:05 pm EDT \n$4 Philly’s Best non-alcoholic slushies\nKids Run the Bases \n— \nTue\nAug 11\nvs.Toledo\n6:35 pm EDT \nMargarita Madness\nTaco Tuesday Special \n— \nWed\nAug 12\nvs.Toledo\n6:35 pm EDT \nSenior Ticket Offer\nBaseball Bingo \n— \nThu\nAug 13\nvs.Toledo\n6:35 pm EDT \nDog Night #3\nThrifty Thursday Ticket Offer \n— \nFri\nAug 14\nvs.Toledo\n7:15 pm EDT \nPregame Live Music\nGametime Happy Hour \n— \nSat\nAug 15\nvs.Toledo\n7:15 pm EDT \nTerry Francona Bobblehead Giveaway\nParty @ the Park \n— \nSun\nAug 16\nvs.Toledo\n1:05 pm EDT \n$4 Philly’s Best non-alcoholic slushies\nKids Run the Bases \n— \nTue\nAug 25\nvs.Gwinnett\n6:35 pm EDT \nCopa Night #2\nCopa Mesh Hat Giveaway \n— \nWed\nAug 26\nvs.Gwinnett\n6:35 pm EDT \nALS Night\nSenior Ticket Offer \n— \nThu\nAug 27\nvs.Gwinnett\n6:35 pm EDT \nThe Nine Night\nThrifty Thursday Ticket Offer \n— \nFri\nAug 28\nvs.Gwinnett\n7:15 pm EDT \nGametime Happy Hour\nPat Kelsey Bobblehead Giveaway \n— \nSat\nAug 29\nvs.Gwinnett\n7:15 pm EDT \nPeanuts Halloween Night\nSnoopy Appearance \n— \nSun\nAug 30\nvs.Gwinnett\n1:05 pm EDT \n$4 Philly’s Best non-alcoholic slushies\nKids Run the Bases \n— \nTue\nSep 8\nvs.Columbus\n6:35 pm EDT \nCopa Night #3\nCopa Replica Jersey Giveaway \n— \nWed\nSep 9\nvs.Columbus\n12:05 pm EDT \nSenior Ticket Offer\nBaseball Bingo \n— \nThu\nSep 10\nvs.Columbus\n6:35 pm EDT \nHops & Hounds\nThrifty Thursday Ticket Offer \n— \nFri\nSep 11\nvs.Columbus\n7:15 pm EDT \n1st Responders Night\nBirdzerk! \n— \nSat\nSep 12\nvs.Columbus\n7:15 pm EDT \nFan Appreciation Weekend \n— \nSun\nSep 13\nvs.Columbus\n1:05 pm EDT \nFan Appreciation Weekend\n$4 Philly’s Best non-alcoholic slushies \n———————————– \n  \n 
URL:https://things-to-lou.com/events/louisville-bats-home-game/2026-03-28/
LOCATION:Louisville Slugger Field\, 103 N Preston St\, Louisville\, KY\, 40202\, United States
CATEGORIES:Family & Children,Sports
END:VEVENT
BEGIN:VEVENT
DTSTART;TZID=America/New_York:20260328T170000
DTEND;TZID=America/New_York:20260328T203000
DTSTAMP:20260420T005843
CREATED:20260210T072743Z
LAST-MODIFIED:20260210T072743Z
UID:10004724-1774717200-1774729800@things-to-lou.com
SUMMARY:Magic Night at The Nevermore
DESCRIPTION:Monthly magical date nights at The Nevermore\, featuring a rotating cast of performers. \n\n✨ The Nevermore Magic Series: A Year of Enchantment in Old Louisville\nStep into The Nevermore\, Louisville’s intimate Victorian magic parlor\, for an unforgettable evening of mystery\, wonder\, and storytelling. Each month features a new lineup of magicians\, mentalists\, and performers from across the country — each bringing their own brand of astonishment to our historic stage. \nFrom mind-reading and sleight of hand to surreal storytelling and darkly whimsical illusions\, The Nevermore Magic Series celebrates the art of magic in all its forms. Whether you’re a first-time guest or a returning regular\, no two shows are ever the same. \nJoin us for a night of candlelight\, cocktails\, and curiosity in one of Old Louisville’s most atmospheric hidden gems.
URL:https://things-to-lou.com/events/magic-night-at-the-nevermore-3/2026-03-28/
LOCATION:The Nevermore\, 1234 S 3rd St\, Louisville\, KY\, 40203\, United States
CATEGORIES:Entertainment
END:VEVENT
BEGIN:VEVENT
DTSTART;TZID=America/New_York:20260328T220000
DTEND;TZID=America/New_York:20260328T233000
DTSTAMP:20260420T005843
CREATED:20260325T193201Z
LAST-MODIFIED:20260325T193201Z
UID:10004769-1774735200-1774740600@things-to-lou.com
SUMMARY:K-Pop Bash: Presented by Red Crown Events
DESCRIPTION:K-Pop Bash is making its Louisville debut! Come and dance the night away to the best K-Pop has to offer from artists like BTS\, SEVENTEEN\, ATEEZ\, ITZY\, AESPA and so much more! Featuring Rusty and DJ Sweaty as your DJs for the night! \nGot a request? Let us know via our request form\, we’ll do our best to play your song! \nhttps://forms.gle/cL4mn21hcmLtCZTU7 \n18+ \n***description from website
URL:https://things-to-lou.com/events/k-pop-bash-presented-by-red-crown-events/
LOCATION:Portal + Art Portal\, 1512 PORTLAND AVENUE\, Louisville\, KY\, 40203\, United States
CATEGORIES:Music,Nightlife
ORGANIZER;CN="PORTAL":MAILTO:portal@fifteen-twelve.com
END:VEVENT
END:VCALENDAR