BEGIN:VCALENDAR
VERSION:2.0
PRODID:-//Things To Lou - ECPv6.15.20//NONSGML v1.0//EN
CALSCALE:GREGORIAN
METHOD:PUBLISH
X-WR-CALNAME:Things To Lou
X-ORIGINAL-URL:https://things-to-lou.com
X-WR-CALDESC:Events for Things To Lou
REFRESH-INTERVAL;VALUE=DURATION:PT1H
X-Robots-Tag:noindex
X-PUBLISHED-TTL:PT1H
BEGIN:VTIMEZONE
TZID:America/New_York
BEGIN:DAYLIGHT
TZOFFSETFROM:-0500
TZOFFSETTO:-0400
TZNAME:EDT
DTSTART:20250309T070000
END:DAYLIGHT
BEGIN:STANDARD
TZOFFSETFROM:-0400
TZOFFSETTO:-0500
TZNAME:EST
DTSTART:20251102T060000
END:STANDARD
BEGIN:DAYLIGHT
TZOFFSETFROM:-0500
TZOFFSETTO:-0400
TZNAME:EDT
DTSTART:20260308T070000
END:DAYLIGHT
BEGIN:STANDARD
TZOFFSETFROM:-0400
TZOFFSETTO:-0500
TZNAME:EST
DTSTART:20261101T060000
END:STANDARD
BEGIN:DAYLIGHT
TZOFFSETFROM:-0500
TZOFFSETTO:-0400
TZNAME:EDT
DTSTART:20270314T070000
END:DAYLIGHT
BEGIN:STANDARD
TZOFFSETFROM:-0400
TZOFFSETTO:-0500
TZNAME:EST
DTSTART:20271107T060000
END:STANDARD
END:VTIMEZONE
BEGIN:VEVENT
DTSTART;TZID=America/New_York:20260401T000000
DTEND;TZID=America/New_York:20260403T235959
DTSTAMP:20260420T005758
CREATED:20251212T224114Z
LAST-MODIFIED:20251212T224114Z
UID:10003357-1775001600-1775260799@things-to-lou.com
SUMMARY:Beyond the Barrel: Walking Bourbon Tour with Food Pairings | promo code! | multiple dates
DESCRIPTION:Go beyond the barrel to dive into bourbon’s storied history and learn all the stories they won’t tell you on a Kentucky Bourbon Trail distillery tour! \nAs the sun sets over the vibrant NuLu neighborhood\, you’ll visit award-winning restaurants\, hidden speakeasies\, rooftop terraces\, and cozy tasting rooms. \n\nBook your tour here!\nUse code “thingstolou10” to save 10%!\n\nUncover the secrets of Kentucky bourbon.\n  \n\nTrace the origins of bourbon whiskey from its roots in the Appalachian foothills to today’s thriving bourbon scene\nUnlock bourbon’s versatility and depth through paired bites\, pours\, and cocktails\nTry modern re-interpretations of classic Louisville bourbon cocktails such as the Old Fashioned and the Mint Julep\nSample bourbon’s full range of versatility\, including clarified\, fat-washed\, river-aged\, wheated\, infused\, and finished bourbons\nLand a few coveted tables at some of the most celebrated eateries in town\, including restaurants by Michelin Star and James Beard winning Chefs\n\n\nDETAILS\nDistance: 1 mile \nDuration: 3 hours \nFood: 5 stops\, 8 tastings \nDrinks: 2 bourbon pours\, 4 cocktails \nCapacity: 12 \nTime: 5 & 5:30 PM\, Wed-Fri \nAccessibility: 21+\, wheelchair friendly \n\nBook your tour here!\nUse code “thingstolou10” to save 10%!
URL:https://things-to-lou.com/events/beyond-the-barrel-walking-bourbon-tour-with-food-pairings-promo-code-multiple-dates-32/
LOCATION:KY
CATEGORIES:Walking Tour / Food Tour
ATTACH;FMTTYPE=image/jpeg:https://things-to-lou.com/wp-content/uploads/2025/12/FULL-SIZE-Beyond-the-Barrel-Tour-37-e1765577921595.jpg
END:VEVENT
BEGIN:VEVENT
DTSTART;TZID=America/New_York:20260401T120000
DTEND;TZID=America/New_York:20260401T140000
DTSTAMP:20260420T005758
CREATED:20260325T202711Z
LAST-MODIFIED:20260326T031950Z
UID:10004779-1775044800-1775052000@things-to-lou.com
SUMMARY:Louisville Bats | home game
DESCRIPTION:The 2026 Louisville Bats season has arrived! Here is the full home game schedule! \n\nOpening Night / Pregame Live Music\nMar 27\nvs.Omaha\n7:15 pm EDT \n— \nKid’s Opening Day / Magnet Schedule Giveaway \nSat\nMar 28\nvs.Omaha\n1:05 pm EDT \n— \nPregame Autograph Session\n$4 Philly’s Best non-alcoholic slushies \nSun\nMar 29\nvs.Omaha\n1:05 pm EDT \n— \nTue\nMar 31\nvs.Iowa\n6:35 pm EDT \nMargarita Madness\nTaco Tuesday Special \n— \nWed\nApr 1\nvs.Iowa\n12:05 pm EDT \nSenior Ticket Offer\nBaseball Bingo \n— \nThu\nApr 2\nvs.Iowa\n6:35 pm EDT \nThrifty Thursday Ticket Offer\nThrifty Thursday \n— \nFri\nApr 3\nvs.Iowa\n7:15 pm EDT \nHealth Care Appreciation Night\nPregame Live Music \n— \nSat\nApr 4\nvs.Iowa\n1:05 pm EDT \nBluey Night\n2026 Schedule Cup Giveaway \n— \nSun\nApr 5\nvs.Iowa\n1:05 pm EDT \n$4 Philly’s Best non-alcoholic slushies\nKids Run the Bases \n—————– \nTue\nApr 14\nvs.Toledo\n6:05 pm EDT \nMargarita Madness\nTaco Tuesday Special \n— \nWed\nApr 15\nvs.Toledo\n11:05 am EDT \nEducation Day\nSenior Ticket Offer \n— \nThu\nApr 16\nvs.Toledo\n6:35 pm EDT \nDog Night and Mashers Night\nThrifty Thursday Ticket Offer \n— \nFri\nApr 17\nvs.Toledo\n6:35 pm EDT \nDerby 152 Night\nGametime Happy Hour \n— \nSat\nApr 18\nvs.Toledo\n2:05 pm EDT \nThunder at Louisville Slugger Field\nPost-game Concert\n— \nSun\nApr 19\nvs.Toledo\n1:05 pm EDT \n$4 Philly’s Best non-alcoholic slushies\nKids Run the Bases \n— \nTue\nMay 5\nvs.Nashville\n6:05 pm EDT \nCinco De Mayo\nMargarita Madness \n— \nWed\nMay 6\nvs.Nashville\n11:05 am EDT \nEducation Day\nSenior Ticket Offer \n— \nThu\nMay 7\nvs.Nashville\n6:35 pm EDT \nDog Night #2\nThrifty Thursday Ticket Offer \n— \nFri\nMay 8\nvs.Nashville\n7:15 pm EDT \nRedbirds Night\nPregame Live Music \n— \nSat\nMay 9\nvs.Nashville\n7:15 pm EDT \nMash & Bash\nParty @ the Park \n—\nSun\nMay 10\nvs.Nashville\n1:05 pm EDT \nMother’s Day\nPostgame Play Catch with Mom\n— \nTue\nMay 12\nvs.Indianapolis\n6:05 pm EDT \nNothing Night\nMargarita Madness \n—\nWed\nMay 13\nvs.Indianapolis\n11:05 am EDT \nEducation Day\nSenior Ticket Offer\n— \nThu\nMay 14\nvs.Indianapolis\n6:35 pm EDT \nThrifty Thursday Ticket Offer\nThrifty Thursday \n—\nFri\nMay 15\nvs.Indianapolis\n7:15 pm EDT \nPregame Live Music\nGametime Happy Hour \n—\nSat\nMay 16\nvs.Indianapolis\n7:15 pm EDT \nStar Wars Night\nSpace Sword Giveaway \n—\nSun\nMay 17\nvs.Indianapolis\n1:05 pm EDT \n$4 Philly’s Best non-alcoholic slushies\nKids Run the Bases \n— \nTue\nMay 26\nvs.St. Paul\n6:35 pm EDT \nPurr at the Park\nMargarita Madness \n—\nWed\nMay 27\nvs.St. Paul\n12:05 pm EDT \nSenior Ticket Offer\nBaseball Bingo \n—\nThu\nMay 28\nvs.St. Paul\n6:35 pm EDT \nALS Night\nThrifty Thursday Ticket Offer \n—\nFri\nMay 29\nvs.St. Paul\n7:15 pm EDT \nMilitary Appreciation Night\nBirdzerk! \n—\nSat\nMay 30\nvs.St. Paul\n7:15 pm EDT \nWe Love Lou Night\nWhite Replica Jersey Giveaway \n—\nSun\nMay 31\nvs.St. Paul\n1:05 pm EDT \nBuddy’s Birthday Bash\n$4 Philly’s Best non-alcoholic slushies\n— \nTue\nJun 9\nvs.Iowa\n6:35 pm EDT \nMargarita Madness\nTaco Tuesday Special\n— \nWed\nJun 10\nvs.Iowa\n6:35 pm EDT \nSenior Ticket Offer\nBaseball Bingo \n—\nThu\nJun 11\nvs.Iowa\n6:35 pm EDT \nThrifty Thursday Ticket Offer\nThrifty Thursday\n— \nFri\nJun 12\nvs.Iowa\n7:15 pm EDT \nYouth Soccer Night\nPregame Live Music \n—\nSat\nJun 13\nvs.Iowa\n7:15 pm EDT \nHumidity Has Arrived Night\nHumidity Widget Hat Giveaway \n—\nSun\nJun 14\nvs.Iowa\n1:05 pm EDT \nFathers Day\nPost-game Catch with Dad\n— \nTue\nJun 23\nvs.St. Paul\n6:35 pm EDT \nMargarita Madness\nTaco Tuesday Special \n—\nWed\nJun 24\nvs.St. Paul\n12:05 pm EDT \nSenior Ticket Offer\nBaseball Bingo\n— \nThu\nJun 25\nvs.St. Paul\n6:35 pm EDT \nThrifty Thursday Ticket Offer\nThrifty Thursday\n— \nFri\nJun 26\nvs.St. Paul\n7:15 pm EDT \nThe Life of a Louisville Bat\nGametime Happy Hour \n—\nSat\nJun 27\nvs.St. Paul\n5:05 pm EDT \nBackyard Baseball Night\nThe Bronson Arroyo Band \n—\nSun\nJun 28\nvs.St. Paul\n1:05 pm EDT \n$4 Philly’s Best non-alcoholic slushies\nKids Run the Bases \n— \nTue\nJul 7\nvs.Omaha\n6:35 pm EDT \nMargarita Madness\nTaco Tuesday Special \n—\nWed\nJul 8\nvs.Omaha\n6:35 pm EDT \nSenior Ticket Offer\nBaseball Bingo \n—\nThu\nJul 9\nvs.Omaha\n6:35 pm EDT \nThrifty Thursday Ticket Offer\nThrifty Thursday\n— \nFri\nJul 10\nvs.Omaha\n7:15 pm EDT \nSurviving Island Humidity Night\nRupert Boneham Meet & Greet\n— \nSat\nJul 11\nvs.Omaha\n7:15 pm EDT \nTBIA Night\nParty @ the Park \n—\nSun\nJul 12\nvs.Omaha\n1:05 pm EDT \nRoot Beer Float Day\nRoot Beer Float Ticket Package \n— \nTue\nJul 28\nvs.Indianapolis\n6:35 pm EDT \nPeanut Allergy Awareness Night\nMargarita Madness\n— \nWed\nJul 29\nvs.Indianapolis\n6:35 pm EDT \nSenior Ticket Offer\nBaseball Bingo\n— \nThu\nJul 30\nvs.Indianapolis\n6:35 pm EDT \nMashers Night\nThrifty Thursday Ticket Offer \n—\nFri\nJul 31\nvs.Indianapolis\n7:15 pm EDT \nHumidity #3: Beachin @ the Ballpark\nPregame Live Music \n—\nSat\nAug 1\nvs.Indianapolis\n7:15 pm EDT \nPaw Patrol Night\nChase Character Appearance \n— \nSun\nAug 2\nvs.Indianapolis\n1:05 pm EDT \n$4 Philly’s Best non-alcoholic slushies\nKids Run the Bases \n— \nTue\nAug 11\nvs.Toledo\n6:35 pm EDT \nMargarita Madness\nTaco Tuesday Special \n— \nWed\nAug 12\nvs.Toledo\n6:35 pm EDT \nSenior Ticket Offer\nBaseball Bingo \n— \nThu\nAug 13\nvs.Toledo\n6:35 pm EDT \nDog Night #3\nThrifty Thursday Ticket Offer \n— \nFri\nAug 14\nvs.Toledo\n7:15 pm EDT \nPregame Live Music\nGametime Happy Hour \n— \nSat\nAug 15\nvs.Toledo\n7:15 pm EDT \nTerry Francona Bobblehead Giveaway\nParty @ the Park \n— \nSun\nAug 16\nvs.Toledo\n1:05 pm EDT \n$4 Philly’s Best non-alcoholic slushies\nKids Run the Bases \n— \nTue\nAug 25\nvs.Gwinnett\n6:35 pm EDT \nCopa Night #2\nCopa Mesh Hat Giveaway \n— \nWed\nAug 26\nvs.Gwinnett\n6:35 pm EDT \nALS Night\nSenior Ticket Offer \n— \nThu\nAug 27\nvs.Gwinnett\n6:35 pm EDT \nThe Nine Night\nThrifty Thursday Ticket Offer \n— \nFri\nAug 28\nvs.Gwinnett\n7:15 pm EDT \nGametime Happy Hour\nPat Kelsey Bobblehead Giveaway \n— \nSat\nAug 29\nvs.Gwinnett\n7:15 pm EDT \nPeanuts Halloween Night\nSnoopy Appearance \n— \nSun\nAug 30\nvs.Gwinnett\n1:05 pm EDT \n$4 Philly’s Best non-alcoholic slushies\nKids Run the Bases \n— \nTue\nSep 8\nvs.Columbus\n6:35 pm EDT \nCopa Night #3\nCopa Replica Jersey Giveaway \n— \nWed\nSep 9\nvs.Columbus\n12:05 pm EDT \nSenior Ticket Offer\nBaseball Bingo \n— \nThu\nSep 10\nvs.Columbus\n6:35 pm EDT \nHops & Hounds\nThrifty Thursday Ticket Offer \n— \nFri\nSep 11\nvs.Columbus\n7:15 pm EDT \n1st Responders Night\nBirdzerk! \n— \nSat\nSep 12\nvs.Columbus\n7:15 pm EDT \nFan Appreciation Weekend \n— \nSun\nSep 13\nvs.Columbus\n1:05 pm EDT \nFan Appreciation Weekend\n$4 Philly’s Best non-alcoholic slushies \n———————————– \n  \n 
URL:https://things-to-lou.com/events/louisville-bats-home-game/2026-04-01/
LOCATION:Louisville Slugger Field\, 103 N Preston St\, Louisville\, KY\, 40202\, United States
CATEGORIES:Family & Children,Sports
END:VEVENT
BEGIN:VEVENT
DTSTART;TZID=America/New_York:20260401T170000
DTEND;TZID=America/New_York:20260401T200000
DTSTAMP:20260420T005758
CREATED:20251213T015756Z
LAST-MODIFIED:20251213T032511Z
UID:10003450-1775062800-1775073600@things-to-lou.com
SUMMARY:Phantoms of Prohibition: Ghosts\, Cocktails\, & Bites Tour | promo code!
DESCRIPTION:Discover Louisville’s Prohibition past on a haunted cocktail & food tour down Whiskey Row. \nBook your tour here!\nUse code “thingstolou10” to save 10%!\n\nVenture out with us and explore the hidden stories of Louisville’s haunted past. \nAs you eat and drink your way down Whiskey Row\, you’ll meet the resident ghosts of Louisville’s historic downtown\, trace the footsteps of bourbon magnates and mobsters\, see Al Capone’s secret getaway\, discover hidden speakeasies\, and learn the shocking truth about Prohibition. \n\nWhat to Expect\nThis tour includes 4 stops for libations\, as well as an assortment of small bites. Here’s what else to expect: \nBourbon & Cocktails\nThis is a boozy\, 21+ tour\, y’all. \nAudio Headset​\nTo help you hear us from a distance. \nSmall Group\nOur tours max out at 12 people. \nWalking\n1-1.5 Miles. Wear comfy shoes! \n\nExplore Whiskey Row:\nDistilleries. Speakeasies. Saloons. In the mid-1800’s\, this stretch of Main Street was filled to the brim with bourbon barrels – which would soon be considered contraband. \nWhile this area nearly crumbled to disrepair\, today the historic facades house bourbon distilleries\, bars\, restaurants and hotels. \nWhere\nMeet at 101 E Washington St\, Louisville\, KY \nWhen​\nTuesdays – Fridays\, 5:00 and 5:30 PM \n\nExplore the hidden stories of Louisville’s Prohibition past on Whiskey Row\nLike the combination of rye\, corn\, wheat\, and malted barley\, this tour is the perfect blend of cocktails\, food\, ghosts\, and Prohibition history. Over the 3 hours you’ll spend with us\, you’ll enjoy … \nDelicious Prohibition-era cocktails \nSpine-chilling true tales of the resident ghosts of Whiskey Row \nDelicious small bites \nThe surprising true story of Prohibition \nFun & knowledgeable guides
URL:https://things-to-lou.com/events/phantoms-of-prohibition-ghosts-cocktails-bites-tour-promo-code/2026-04-01/
LOCATION:KY
CATEGORIES:Walking Tour / Food Tour
ATTACH;FMTTYPE=image/jpeg:https://things-to-lou.com/wp-content/uploads/2025/12/Prohibition-Tour-7910-e1765591150807.jpg
END:VEVENT
BEGIN:VEVENT
DTSTART;TZID=America/New_York:20260401T173000
DTEND;TZID=America/New_York:20260401T190000
DTSTAMP:20260420T005758
CREATED:20260312T043335Z
LAST-MODIFIED:20260312T043430Z
UID:10004761-1775064600-1775070000@things-to-lou.com
SUMMARY:Poetry Walk Opening Night
DESCRIPTION:Poems displayed in the park throughout the month of April. Opening night will feature Kentucky Poets Laureate\, refreshments\, and more. \n**more info here \n**more info here
URL:https://things-to-lou.com/events/poetry-walk-opening-night/
LOCATION:Joe Creason Park\, 1297 Trevilian Way\, Louisville\, KY\, 40213\, United States
CATEGORIES:Art,Exercise,Hiking / Outdoor Walk,Wellness
ATTACH;FMTTYPE=image/jpeg:https://things-to-lou.com/wp-content/uploads/2026/03/650143583_10236664837213683_2331650573403524426_n-e1773290083162.jpg
END:VEVENT
BEGIN:VEVENT
DTSTART;TZID=America/New_York:20260401T180000
DTEND;TZID=America/New_York:20260401T200000
DTSTAMP:20260420T005758
CREATED:20260326T013125Z
LAST-MODIFIED:20260326T013125Z
UID:10004790-1775066400-1775073600@things-to-lou.com
SUMMARY:Mahjong Night at High Stakes Rooftop
DESCRIPTION:Mahjong Night at High Stakes Rooftop Wednesday\, April 1 \nGet ready for a Derby-themed evening of tiles\, cocktails\, and rooftop fun! \nJoin us Wednesday\, April 1st at High Stakes Rooftop for a lively night of Mahjong with great food\, drinks\, and a little friendly competition. \nCheck-In: 6:00 PM \nWhether you’re brand new to Mahjong or already know your way around the tiles\, everyone is welcome! \nPricing:\n\n$70 per person – Beginners (never played before\, 8 total spots available)\n$55 per person – Returning/experienced players\, 24 total spots available)\n\n***WHEN MAKING RESERVATION PLEASE NOTE HOW MANY BEGINNERS AND HOW MANY SEASONED PLAYERS. SPOTS ARE VERY LIMITED*** \nYour ticket includes:\n\nGuided Mahjong for those that have played\, and Mahjong instructions for beginners Delicious passed appetizers\nTwo Derby-themed specialty cocktails\nA fun social night on the rooftop\nKatie from KatieB_KYDerby will be there to make fascinators to match your Derby outfits Custom permanent jewelry from Link & Lou will be onsite!\n\nGrab your friends\, and join us for a night of Mahjong under the lights! \nLimited seats available — reserve your spot early! (24 spots for seasoned players\, 8 spots for beginners) \n 
URL:https://things-to-lou.com/events/mahjong-night-at-high-stakes-rooftop/
LOCATION:High Stakes Rooftop Grill\, 710 E Jefferson St\, Louisville\, KY\, 40202\, United States
CATEGORIES:Food & Drink,Games/Pinball/Bingo/etc.
ATTACH;FMTTYPE=image/png:https://things-to-lou.com/wp-content/uploads/2026/03/aaaaaaaaaa-3-e1773968043279.png
END:VEVENT
END:VCALENDAR