BEGIN:VCALENDAR
VERSION:2.0
PRODID:-//Things To Lou - ECPv6.15.20//NONSGML v1.0//EN
CALSCALE:GREGORIAN
METHOD:PUBLISH
X-WR-CALNAME:Things To Lou
X-ORIGINAL-URL:https://things-to-lou.com
X-WR-CALDESC:Events for Things To Lou
REFRESH-INTERVAL;VALUE=DURATION:PT1H
X-Robots-Tag:noindex
X-PUBLISHED-TTL:PT1H
BEGIN:VTIMEZONE
TZID:America/New_York
BEGIN:DAYLIGHT
TZOFFSETFROM:-0500
TZOFFSETTO:-0400
TZNAME:EDT
DTSTART:20250309T070000
END:DAYLIGHT
BEGIN:STANDARD
TZOFFSETFROM:-0400
TZOFFSETTO:-0500
TZNAME:EST
DTSTART:20251102T060000
END:STANDARD
BEGIN:DAYLIGHT
TZOFFSETFROM:-0500
TZOFFSETTO:-0400
TZNAME:EDT
DTSTART:20260308T070000
END:DAYLIGHT
BEGIN:STANDARD
TZOFFSETFROM:-0400
TZOFFSETTO:-0500
TZNAME:EST
DTSTART:20261101T060000
END:STANDARD
BEGIN:DAYLIGHT
TZOFFSETFROM:-0500
TZOFFSETTO:-0400
TZNAME:EDT
DTSTART:20270314T070000
END:DAYLIGHT
BEGIN:STANDARD
TZOFFSETFROM:-0400
TZOFFSETTO:-0500
TZNAME:EST
DTSTART:20271107T060000
END:STANDARD
END:VTIMEZONE
BEGIN:VEVENT
DTSTART;TZID=America/New_York:20260417T000000
DTEND;TZID=America/New_York:20260419T235959
DTSTAMP:20260423T101036
CREATED:20251212T221017Z
LAST-MODIFIED:20251212T221017Z
UID:10003335-1776384000-1776643199@things-to-lou.com
SUMMARY:SECRETS OF LOUISVILLE Food & History Tour in Nulu | promo code! (multiple times)
DESCRIPTION:Experience Louisville’s story one bite at a time.\nThis tour offers a delicious introduction to the quintessential foods and drinks that define both Louisville and Kentucky. \nStroll through the trendy NuLu and historic Butchertown neighborhoods while sampling famous dishes that originated right here in Louisville— from the foothills of Appalachia to the glitz and glamour of Prohibition-era Louisville. \nEnjoy tastings from six unique stops and how Louisville’s heritage and history have shaped these iconic foods. \n\n  \nBook your tour here!\nUse promo code “thingstolou10” and save 10% on your tickets!\nThe best way to discover Louisville’s essential flavors – without the hassle of driving around – even if you’re short on time! This tour frequently sells out\, so reserve your spot early. \n  \n\nQUICK DETAILS\n\nDistance: 1.5 miles\, flat\nDuration: 3 hours\nFood Stops: 6 stops for local dishes & drinks\nCapacity: 12 per tour\nTime: 1 PM\, Fridays-Sundays\nAccessibility: Wheelchair and stroller friendly. All ages welcome. Ages 2 and under are free.\n\n\nWhere\nMeet at 636 E Main St\, Louisville\, KY 40202 \nWhen​\nFridays\, Saturdays\, and Sundays at 1 PM \n\nWhat’s This Tour All About?\nIs it a food tour or a history tour? The answer\, of course\, is both! This tour is the perfect blend of tastes and tales. \nOver the 3 hours you’ll spend with us\, you’ll enjoy … \n\n8 Delicious dishes representing Kentucky’s heritage (come hungry)\nBarrel-aged craft beer tasting and 2 refreshing alcoholic slushies\nThe unfiltered history of two of Louisville’s most historic neighborhoods\nJokes that we proof-tested on other people first\, probably\nAudio headset (the better to hear your guide – and those jokes)\n\n\nWhat to Expect \nWe’ll be making 6 delicious stops! You can also expect… \nFood & Drinks\nCome hungry & thirsty! (Mocktails also available) \nAudio Headset​\nThe lightweight headset helps you hear us from a distance. \nSmall Group\nOur tours max out at 12 people. \nWalking\n1-1.5 Miles. Wear comfy shoes!
URL:https://things-to-lou.com/events/secrets-of-louisville-food-history-tour-in-nulu-promo-code-multiple-times-51/
LOCATION:KY
CATEGORIES:Walking Tour / Food Tour
ATTACH;FMTTYPE=image/jpeg:https://things-to-lou.com/wp-content/uploads/2025/12/NuLu-Food-Tour-FULL-SIZE-7-e1765576282674.jpg
END:VEVENT
BEGIN:VEVENT
DTSTART;TZID=America/New_York:20260419T080000
DTEND;TZID=America/New_York:20260419T100000
DTSTAMP:20260423T101036
CREATED:20260311T060946Z
LAST-MODIFIED:20260311T060946Z
UID:10004744-1776585600-1776592800@things-to-lou.com
SUMMARY:Steps for Safe Water 5k
DESCRIPTION:Steps for Safe Water 5k 💧 🌍 Every 5k equals the distance many people walk daily just to collect water. Join us at Lynn Family Stadium on Sunday\, April 19th to run or walk with purpose and help bring safe water to communities worldwide. \nThis meaningful community 5k benefits WaterStep and supports sustainable safe water\, sanitation\, and hygiene (WASH) solutions around the world. \nBring your friends\, your family\, and your coworkers\, and let’s turn miles into meaningful impact. Register today and take steps toward safe water for all 💙
URL:https://things-to-lou.com/events/steps-for-safe-water-5k/
LOCATION:Lynn Family Stadium\, 350 Adams St\, Louisville\, KY\, 40206
CATEGORIES:Exercise,Wellness
ATTACH;FMTTYPE=image/png:https://things-to-lou.com/wp-content/uploads/2026/03/steps-for-safe-water-5k-3-e1773209850107.png
END:VEVENT
BEGIN:VEVENT
DTSTART;TZID=America/New_York:20260419T100000
DTEND;TZID=America/New_York:20260419T170000
DTSTAMP:20260423T101036
CREATED:20260416T034305Z
LAST-MODIFIED:20260416T034305Z
UID:10005002-1776592800-1776618000@things-to-lou.com
SUMMARY:Paristown Annual Garden Show
DESCRIPTION:Plants\, shrubs\, trees\, flowers\, native plants\, vintage garden decor\, garden decor\, local speakers\, special children’s area and more! \nBrought to you by the Fleur de Flea Vintage Market and Master Gardeners of Jefferson County \n720 Brent St. Louisville\, KY \nOutdoor – Free Event!
URL:https://things-to-lou.com/events/paristown-annual-garden-show/
LOCATION:Paristown Arts District\, 731 Brent Street\, Louisville\, KY\, 40204\, United States
CATEGORIES:Market,Plants / Gardening
ORGANIZER;CN="Fleur De Flea Vintage Urban Markets":MAILTO:thefleurdeflea@gmail.com
END:VEVENT
BEGIN:VEVENT
DTSTART;TZID=America/New_York:20260419T103000
DTEND;TZID=America/New_York:20260419T130000
DTSTAMP:20260423T101036
CREATED:20260408T211904Z
LAST-MODIFIED:20260408T211904Z
UID:10004998-1776594600-1776603600@things-to-lou.com
SUMMARY:Women Of Louisville | Bridgerton experience
DESCRIPTION:You’ll be stepping into your Bridgerton era ✨ Think women vendors\, tea sandwiches\, cocktails\, coffee\, tea & dreamy florals… a touch of scandal… \nDearest Readers… ✨ \nJoin Women of Louisville and Mike Tomes for a Bridgerton high tea social where elegance meets connection. \n\nYour ticket includes beautiful live music\, a welcoming drink\, and brunch bites and sweets by Chicken Salad Chick\, Prepping Peppers\, and Jeff’s Donuts\nEnjoy stunning backdrops for photo ops\, a build-your-own bouquet bar\, and come dressed in your best Bridgerton-era attire. Coffee and cocktails available for purchase by Sweet Coladas\, plus Alani Nu energy drinks.\nThere will also be women-owned vendors offering free updos\, plus shopping from Black Lavender Co Candle Company\, permanent jewelry\, a charm bracelet bar\, and Lumi Aesthetics.\n\nThink florals\, connection\, and a touch of scandal… 💌 \nTickets are officially LIVE—secure yours before it sells out 🎟️ \n  \n***description from Eventbrite listing \n 
URL:https://things-to-lou.com/events/women-of-louisville-bridgerton-experience/
LOCATION:The Orchid Venue\, 9590 Highway 44 East\, Mount Washington\, KY\, 40047\, United States
CATEGORIES:Food & Drink,Shopping
END:VEVENT
BEGIN:VEVENT
DTSTART;TZID=America/New_York:20260419T110000
DTEND;TZID=America/New_York:20260419T170000
DTSTAMP:20260423T101036
CREATED:20260326T023652Z
LAST-MODIFIED:20260403T142347Z
UID:10004805-1776596400-1776618000@things-to-lou.com
SUMMARY:April Witch Market
DESCRIPTION:Restock on your handmade oils\, crystals\, jewelry\, luck charms or the unlucky charms\, and/or get a reading. \nSupport the Local Brewery\, Witches\, Artist\, and Spiritual Creators \nA Vendor Spotlight will be posted early in the month \nFree to Attend/Family Friendly Event \nCome by and pre game with Goodwood Brews before the sky lights up:) \n11am – 5pm \n  \n 
URL:https://things-to-lou.com/events/april-witch-market/
LOCATION:The Enchanted Forest & Music Hall\, 41 W 1st St\, New Albany\, New Albany\, IN\, 47150\, United States
CATEGORIES:Beer / Brewery,Market,Shopping
ATTACH;FMTTYPE=image/jpeg:https://things-to-lou.com/wp-content/uploads/2026/04/april26-e1775218095463.jpg
END:VEVENT
BEGIN:VEVENT
DTSTART;TZID=America/New_York:20260419T130000
DTEND;TZID=America/New_York:20260419T150000
DTSTAMP:20260423T101036
CREATED:20260325T202711Z
LAST-MODIFIED:20260326T031950Z
UID:10004789-1776603600-1776610800@things-to-lou.com
SUMMARY:Louisville Bats | home game
DESCRIPTION:The 2026 Louisville Bats season has arrived! Here is the full home game schedule! \n\nOpening Night / Pregame Live Music\nMar 27\nvs.Omaha\n7:15 pm EDT \n— \nKid’s Opening Day / Magnet Schedule Giveaway \nSat\nMar 28\nvs.Omaha\n1:05 pm EDT \n— \nPregame Autograph Session\n$4 Philly’s Best non-alcoholic slushies \nSun\nMar 29\nvs.Omaha\n1:05 pm EDT \n— \nTue\nMar 31\nvs.Iowa\n6:35 pm EDT \nMargarita Madness\nTaco Tuesday Special \n— \nWed\nApr 1\nvs.Iowa\n12:05 pm EDT \nSenior Ticket Offer\nBaseball Bingo \n— \nThu\nApr 2\nvs.Iowa\n6:35 pm EDT \nThrifty Thursday Ticket Offer\nThrifty Thursday \n— \nFri\nApr 3\nvs.Iowa\n7:15 pm EDT \nHealth Care Appreciation Night\nPregame Live Music \n— \nSat\nApr 4\nvs.Iowa\n1:05 pm EDT \nBluey Night\n2026 Schedule Cup Giveaway \n— \nSun\nApr 5\nvs.Iowa\n1:05 pm EDT \n$4 Philly’s Best non-alcoholic slushies\nKids Run the Bases \n—————– \nTue\nApr 14\nvs.Toledo\n6:05 pm EDT \nMargarita Madness\nTaco Tuesday Special \n— \nWed\nApr 15\nvs.Toledo\n11:05 am EDT \nEducation Day\nSenior Ticket Offer \n— \nThu\nApr 16\nvs.Toledo\n6:35 pm EDT \nDog Night and Mashers Night\nThrifty Thursday Ticket Offer \n— \nFri\nApr 17\nvs.Toledo\n6:35 pm EDT \nDerby 152 Night\nGametime Happy Hour \n— \nSat\nApr 18\nvs.Toledo\n2:05 pm EDT \nThunder at Louisville Slugger Field\nPost-game Concert\n— \nSun\nApr 19\nvs.Toledo\n1:05 pm EDT \n$4 Philly’s Best non-alcoholic slushies\nKids Run the Bases \n— \nTue\nMay 5\nvs.Nashville\n6:05 pm EDT \nCinco De Mayo\nMargarita Madness \n— \nWed\nMay 6\nvs.Nashville\n11:05 am EDT \nEducation Day\nSenior Ticket Offer \n— \nThu\nMay 7\nvs.Nashville\n6:35 pm EDT \nDog Night #2\nThrifty Thursday Ticket Offer \n— \nFri\nMay 8\nvs.Nashville\n7:15 pm EDT \nRedbirds Night\nPregame Live Music \n— \nSat\nMay 9\nvs.Nashville\n7:15 pm EDT \nMash & Bash\nParty @ the Park \n—\nSun\nMay 10\nvs.Nashville\n1:05 pm EDT \nMother’s Day\nPostgame Play Catch with Mom\n— \nTue\nMay 12\nvs.Indianapolis\n6:05 pm EDT \nNothing Night\nMargarita Madness \n—\nWed\nMay 13\nvs.Indianapolis\n11:05 am EDT \nEducation Day\nSenior Ticket Offer\n— \nThu\nMay 14\nvs.Indianapolis\n6:35 pm EDT \nThrifty Thursday Ticket Offer\nThrifty Thursday \n—\nFri\nMay 15\nvs.Indianapolis\n7:15 pm EDT \nPregame Live Music\nGametime Happy Hour \n—\nSat\nMay 16\nvs.Indianapolis\n7:15 pm EDT \nStar Wars Night\nSpace Sword Giveaway \n—\nSun\nMay 17\nvs.Indianapolis\n1:05 pm EDT \n$4 Philly’s Best non-alcoholic slushies\nKids Run the Bases \n— \nTue\nMay 26\nvs.St. Paul\n6:35 pm EDT \nPurr at the Park\nMargarita Madness \n—\nWed\nMay 27\nvs.St. Paul\n12:05 pm EDT \nSenior Ticket Offer\nBaseball Bingo \n—\nThu\nMay 28\nvs.St. Paul\n6:35 pm EDT \nALS Night\nThrifty Thursday Ticket Offer \n—\nFri\nMay 29\nvs.St. Paul\n7:15 pm EDT \nMilitary Appreciation Night\nBirdzerk! \n—\nSat\nMay 30\nvs.St. Paul\n7:15 pm EDT \nWe Love Lou Night\nWhite Replica Jersey Giveaway \n—\nSun\nMay 31\nvs.St. Paul\n1:05 pm EDT \nBuddy’s Birthday Bash\n$4 Philly’s Best non-alcoholic slushies\n— \nTue\nJun 9\nvs.Iowa\n6:35 pm EDT \nMargarita Madness\nTaco Tuesday Special\n— \nWed\nJun 10\nvs.Iowa\n6:35 pm EDT \nSenior Ticket Offer\nBaseball Bingo \n—\nThu\nJun 11\nvs.Iowa\n6:35 pm EDT \nThrifty Thursday Ticket Offer\nThrifty Thursday\n— \nFri\nJun 12\nvs.Iowa\n7:15 pm EDT \nYouth Soccer Night\nPregame Live Music \n—\nSat\nJun 13\nvs.Iowa\n7:15 pm EDT \nHumidity Has Arrived Night\nHumidity Widget Hat Giveaway \n—\nSun\nJun 14\nvs.Iowa\n1:05 pm EDT \nFathers Day\nPost-game Catch with Dad\n— \nTue\nJun 23\nvs.St. Paul\n6:35 pm EDT \nMargarita Madness\nTaco Tuesday Special \n—\nWed\nJun 24\nvs.St. Paul\n12:05 pm EDT \nSenior Ticket Offer\nBaseball Bingo\n— \nThu\nJun 25\nvs.St. Paul\n6:35 pm EDT \nThrifty Thursday Ticket Offer\nThrifty Thursday\n— \nFri\nJun 26\nvs.St. Paul\n7:15 pm EDT \nThe Life of a Louisville Bat\nGametime Happy Hour \n—\nSat\nJun 27\nvs.St. Paul\n5:05 pm EDT \nBackyard Baseball Night\nThe Bronson Arroyo Band \n—\nSun\nJun 28\nvs.St. Paul\n1:05 pm EDT \n$4 Philly’s Best non-alcoholic slushies\nKids Run the Bases \n— \nTue\nJul 7\nvs.Omaha\n6:35 pm EDT \nMargarita Madness\nTaco Tuesday Special \n—\nWed\nJul 8\nvs.Omaha\n6:35 pm EDT \nSenior Ticket Offer\nBaseball Bingo \n—\nThu\nJul 9\nvs.Omaha\n6:35 pm EDT \nThrifty Thursday Ticket Offer\nThrifty Thursday\n— \nFri\nJul 10\nvs.Omaha\n7:15 pm EDT \nSurviving Island Humidity Night\nRupert Boneham Meet & Greet\n— \nSat\nJul 11\nvs.Omaha\n7:15 pm EDT \nTBIA Night\nParty @ the Park \n—\nSun\nJul 12\nvs.Omaha\n1:05 pm EDT \nRoot Beer Float Day\nRoot Beer Float Ticket Package \n— \nTue\nJul 28\nvs.Indianapolis\n6:35 pm EDT \nPeanut Allergy Awareness Night\nMargarita Madness\n— \nWed\nJul 29\nvs.Indianapolis\n6:35 pm EDT \nSenior Ticket Offer\nBaseball Bingo\n— \nThu\nJul 30\nvs.Indianapolis\n6:35 pm EDT \nMashers Night\nThrifty Thursday Ticket Offer \n—\nFri\nJul 31\nvs.Indianapolis\n7:15 pm EDT \nHumidity #3: Beachin @ the Ballpark\nPregame Live Music \n—\nSat\nAug 1\nvs.Indianapolis\n7:15 pm EDT \nPaw Patrol Night\nChase Character Appearance \n— \nSun\nAug 2\nvs.Indianapolis\n1:05 pm EDT \n$4 Philly’s Best non-alcoholic slushies\nKids Run the Bases \n— \nTue\nAug 11\nvs.Toledo\n6:35 pm EDT \nMargarita Madness\nTaco Tuesday Special \n— \nWed\nAug 12\nvs.Toledo\n6:35 pm EDT \nSenior Ticket Offer\nBaseball Bingo \n— \nThu\nAug 13\nvs.Toledo\n6:35 pm EDT \nDog Night #3\nThrifty Thursday Ticket Offer \n— \nFri\nAug 14\nvs.Toledo\n7:15 pm EDT \nPregame Live Music\nGametime Happy Hour \n— \nSat\nAug 15\nvs.Toledo\n7:15 pm EDT \nTerry Francona Bobblehead Giveaway\nParty @ the Park \n— \nSun\nAug 16\nvs.Toledo\n1:05 pm EDT \n$4 Philly’s Best non-alcoholic slushies\nKids Run the Bases \n— \nTue\nAug 25\nvs.Gwinnett\n6:35 pm EDT \nCopa Night #2\nCopa Mesh Hat Giveaway \n— \nWed\nAug 26\nvs.Gwinnett\n6:35 pm EDT \nALS Night\nSenior Ticket Offer \n— \nThu\nAug 27\nvs.Gwinnett\n6:35 pm EDT \nThe Nine Night\nThrifty Thursday Ticket Offer \n— \nFri\nAug 28\nvs.Gwinnett\n7:15 pm EDT \nGametime Happy Hour\nPat Kelsey Bobblehead Giveaway \n— \nSat\nAug 29\nvs.Gwinnett\n7:15 pm EDT \nPeanuts Halloween Night\nSnoopy Appearance \n— \nSun\nAug 30\nvs.Gwinnett\n1:05 pm EDT \n$4 Philly’s Best non-alcoholic slushies\nKids Run the Bases \n— \nTue\nSep 8\nvs.Columbus\n6:35 pm EDT \nCopa Night #3\nCopa Replica Jersey Giveaway \n— \nWed\nSep 9\nvs.Columbus\n12:05 pm EDT \nSenior Ticket Offer\nBaseball Bingo \n— \nThu\nSep 10\nvs.Columbus\n6:35 pm EDT \nHops & Hounds\nThrifty Thursday Ticket Offer \n— \nFri\nSep 11\nvs.Columbus\n7:15 pm EDT \n1st Responders Night\nBirdzerk! \n— \nSat\nSep 12\nvs.Columbus\n7:15 pm EDT \nFan Appreciation Weekend \n— \nSun\nSep 13\nvs.Columbus\n1:05 pm EDT \nFan Appreciation Weekend\n$4 Philly’s Best non-alcoholic slushies \n———————————– \n  \n 
URL:https://things-to-lou.com/events/louisville-bats-home-game/2026-04-19/
LOCATION:Louisville Slugger Field\, 103 N Preston St\, Louisville\, KY\, 40202\, United States
CATEGORIES:Family & Children,Sports
END:VEVENT
BEGIN:VEVENT
DTSTART;TZID=America/New_York:20260419T130000
DTEND;TZID=America/New_York:20260419T160000
DTSTAMP:20260423T101036
CREATED:20260402T193214Z
LAST-MODIFIED:20260402T193847Z
UID:10004934-1776603600-1776614400@things-to-lou.com
SUMMARY:Join a Silly Pickles pickleball league! | save $10 with this promo code! | Pickle & Pong
DESCRIPTION:Sign up for Silly Pickles pickleball here! \n\nEach week\, you’ll have one hour of scheduled play within a new group of four\, for 2v2 doubles games.\nAll skill levels are welcome! 🚀 Total beginners to DUPR 4.0 legends\, we’ll match you at your level with other players every week.\n\n\nThere are TWO different leagues you can sign up for — more info here. \nUse code GETSILLY-JOHN to save $10 on your registration!\n\nLeague 1:\n📍 Location: Play Pickleball Club\n12100 Plantside Dr\, Louisville\, KY 40299 \n📅 Schedule: 8 Weeks of Play\nStart Date: 04/26/2026\nEnd Date: 06/16/2026 \n⏱ Timing: 6-9pm on Tuesdays\nYou’ll play one full hour each week. Time slots rotate weekly (6-7pm\, 7-8pm\, etc). \n\nLeague 2: \n📍 Location: Pickle & Pong\n13141 Aiken Road\, Louisville\, KY 40243 \n📅 Schedule: 8 Weeks of Play\nStart Date: 04/19/2026\nEnd Date: 06/14/2026 (Skipping 05/24) \n⏱ Timing: 1-4pm on Sundays\nYou’ll play one full hour each week. Time slots rotate weekly (1-2pm\, 2-3pm\, etc). \n\nUse code GETSILLY-JOHN to save $10 on your registration!\n\nDetails on the promo code: \n\nNo minimum purchase requirement\nOne per customer\n$10.00 off Spring Pickleball Leagues 2026\n\nDisclosure: ThingsToLou LLC is an authorized affiliate for Silly Pickles and may receive a commission on sales made on the Silly Pickles website \n\nDID YOU MISS THE BOAT ON THIS SEASON’S LEAGUES? That’s ok! \nGo ahead and sign up for the summer leagues here! \n  \n 
URL:https://things-to-lou.com/events/join-a-silly-pickles-pickleball-league-save-10-with-this-promo-code-pickle-pong/2026-04-19/
LOCATION:Pickle & Pong\, 13141 Aiken Rd\, Louisville\, KY\, 40223\, United States
CATEGORIES:Exercise,PROMO CODE,Wellness
ATTACH;FMTTYPE=image/png:https://things-to-lou.com/wp-content/uploads/2026/04/1768420889_kOIoU-e1775156839382.png
END:VEVENT
BEGIN:VEVENT
DTSTART;TZID=America/New_York:20260419T180000
DTEND;TZID=America/New_York:20260419T200000
DTSTAMP:20260423T101036
CREATED:20260330T161626Z
LAST-MODIFIED:20260330T161626Z
UID:10004871-1776621600-1776628800@things-to-lou.com
SUMMARY:Candle-Making with Maddox & Rose plus CATS
DESCRIPTION:Create your own signature candle scents (to take home) as the wonderful people from Maddox & Rose (NULU) guide you through this unique candle-making exPURRience! \nWhile your candles set\, everyone will enjoy cuddles in our cat lounge! \n\nClass begins at 6:00pm\nKitten cuddles at 7:00pm\n\n**NOTE: This event is for people ages 13 and up. \nNOTE: THE ENTRANCE IS TO THE LEFT OF THE BUILDING. COME THROUGH THE IRON GATE PAST THE STAIRS AND ENTER THROUGH THE SIDE DOOR ON THE CATIO. IF YOU HAVE PHYSICAL NEEDS\, PLEASE KNOCK ON THE FRONT DOOR FOR ASSISTANCE. \nThe purrfect time to enjoy this special event at the PDC! \n  \n\n$60 per person (no splitting of the event fee\, please) and includes: \n\nClass instruction and guidance by Maddox & Rose\n2 custom-blended keepsake candles\nOne full session with our rescue cats\nHappy Meow-R specials (for ages 21 and up)\n\n==================================== \nParticipants also receive 30% off refilling their candles at the Maddox and Rose when they bring the canister back to M&R! \n*By making this reservation\, you hereby agree to comply with all expectations and regulations for visiting the Purrfect Day Cafe. \n*We do not provide a refund for a no-show. \n*You have a 15-minute grace period before your session could be resold\, so message at info@purrfectdaycafe.com if you are running late. \n*We do not provide a refund for a cancellation that is less than 48 hours from your actual time of your visit\, nor do we allow a refund on a rescheduled reservation that was changed by the staff as a courtesy within the original 48 hour reserved guidelines. \n*You DO receive a refund (minus a 4% processing fee) if you cancel more than 48 hours from the originally scheduled time of your visit. \n 
URL:https://things-to-lou.com/events/candle-making-with-maddox-rose-plus-cats/
LOCATION:Purrfect Day Cafe\, 1741 Bardstown Rd.\, Louisville\, KY\, 40205\, United States
CATEGORIES:Pets,Workshop
ATTACH;FMTTYPE=image/jpeg:https://things-to-lou.com/wp-content/uploads/2025/01/cat3-e1735889733214.jpg
END:VEVENT
BEGIN:VEVENT
DTSTART;TZID=America/New_York:20260419T180000
DTEND;TZID=America/New_York:20260419T210000
DTSTAMP:20260423T101036
CREATED:20260325T194459Z
LAST-MODIFIED:20260325T194459Z
UID:10004774-1776621600-1776632400@things-to-lou.com
SUMMARY:KY Shakespeare in the Parks: "The Tempest"
DESCRIPTION:Kentucky Shakespeare\, the Official Shakespeare Festival of the Commonwealth\, presents the annual FREE Shakespeare in the Parks tour of THE TEMPEST\, touring to a record 46 parks this spring and coming to Iroquois Amphitheater on April 19th! \n“O brave new world\, that has such people in’t!” \nShakespeare’s final play is a testament to the redeeming power of love and forgiveness – featuring fools\, spirits\, monsters\, shipwrecks\, and magical spells. This one-act magical comedy is performed with five actors in neighborhood parks across the region this spring. \nThese are FREE\, Family-friendly performances for the community and do not require reservations or tickets. \nThe show is approximately 80 minutes long without an intermission. \n\n  \nApril 19 \nDoors: 6:00 pm \nShow: 6:30 pm \n 
URL:https://things-to-lou.com/events/ky-shakespeare-in-the-parks-the-tempest/
LOCATION:Iroquois Amphitheater\, 1080 Amphitheater Rd\, Louisville\, KY\, 40214\, United States
CATEGORIES:Art,Family & Children,Theatre
END:VEVENT
BEGIN:VEVENT
DTSTART;TZID=America/New_York:20260419T190000
DTEND;TZID=America/New_York:20260419T200000
DTSTAMP:20260423T101036
CREATED:20260330T171404Z
LAST-MODIFIED:20260330T171818Z
UID:10004877-1776625200-1776628800@things-to-lou.com
SUMMARY:Feed/Brush/Interact with cattle at TC Highlands Farm!
DESCRIPTION:See the cattle in their natural environment and get the opportunity to interact with them. One booking spot is for a group of 1 to 5 people will get hands on with a few of the tamer cows\, be able to feed them treats\, brush them\, take your own pics with them and we will teach you about their breed. \n\nUSE CODE “ThingsToLou10” to save $15 off your booking!\n\nChildren need to be at least 5 years old. \nWe will answer any questions you may have about their breed or how we care for them. You will get to see the herd and how they interact with each other. We have several colors and different ages of Highlands to see. Safety will be ensured during your visit as your group leader will show you how to interact with them. Please wear comfortable shoes that are suitable for the cattle pasture\, flip flops or sandals are not recommended. Depending on where on the farm the cattle are\, your visit may include a short walk to the next field over or a short gator ride to the pasture. There is a small chance that we could get rained out and if that happens we will work with everyone to reschedule the visits. We do have a clean porta potty available. \n5 people max in a group. \nNo refunds will be given once booked\, but if you give us 24 hrs notice if something should come up\, we can reschedule you. \nYou may bring apples or carrots\, fig bars\, white bread or horse treats to feed them snacks. They will love you for it! \nWe have logo merchandise for sale such as t shirts\, coffee mugs\, stickers\, hats\, highland cow stuffed animals and sweatshirts. We take cash\, Venmo or Paypal for the merchandise. \n$150 \n\nAbout TC Highlands Farm: \nWe raise registered Scottish Highland Cattle in Shelby County\, Kentucky. We strive to stay true to the breed and to raise quality cattle\, no mini’s here! We do a lot at the farm including showing in AHCA sanctioned shows and of course agritourism when we aren’t breeding and calving. We are excited to share the breed we are so passionate about with you. \nWe hope to give you something different\, an experience you will remember! Pricing for visits to the farm is by the group\, not per person. Message us with any questions\, we would love to help you get set up for a farm visit you will not forget! \nVisit spots are priced per group not per person. \nAll visits are PRIVATE\, you will get an assigned group leader who will stay with you the whole time. \nTC Highlands Farm contact:  \nKristin Carmack\nTCHighlandsFarm@gmail.com \n  \n 
URL:https://things-to-lou.com/events/24540/2026-04-19/
LOCATION:TC Highlands Farm\, 1777 Bunk Rd KY\, Pleasureville\, KY\, 40057\, United States
CATEGORIES:Family & Children
ATTACH;FMTTYPE=image/jpeg:https://things-to-lou.com/wp-content/uploads/2026/03/img_7655-e1774890797978.jpg
ORGANIZER;CN="TC Highlands Farm":MAILTO:TCHighlandsFarm@gmail.com
END:VEVENT
BEGIN:VEVENT
DTSTART;TZID=America/New_York:20260419T190000
DTEND;TZID=America/New_York:20260419T210000
DTSTAMP:20260423T101036
CREATED:20260109T212910Z
LAST-MODIFIED:20260109T212910Z
UID:10003884-1776625200-1776632400@things-to-lou.com
SUMMARY:Brown-Forman Midnite Ramble Series presents Rhiannon Giddens
DESCRIPTION:Rhiannon Giddens has made a singular\, iconic career out of stretching her brand of folk music\, with its miles-deep historical roots and contemporary sensibilities\, into just about every field imaginable. A two-time GRAMMY Award and Pulitzer Prize-winning singer and instrumentalist\, MacArthur “Genius” grant recipient\, and composer of opera\, ballet\, and film\, Giddens has centered her work around the mission of lifting up people whose contributions to American musical history have previously been overlooked or erased\, and advocating for a more accurate understanding of the country’s musical origins through art. \nAs Pitchfork once said\, “few artists are so fearless and so ravenous in their exploration”—a journey that has led to NPR naming her one of its 25 Most Influential Women Musicians of the 21st Century and to American Songwriter calling her “one of the most important musical minds currently walking the planet.” \nhttps://www.outermostagency.com/rhiannon-giddens \n***description from website
URL:https://things-to-lou.com/events/brown-forman-midnite-ramble-series-presents-rhiannon-giddens/
LOCATION:Old Forester’s Paristown Hall\, 724 Brent St\, Louisville\, KY\, 40204\, United States
CATEGORIES:Music
END:VEVENT
END:VCALENDAR