BEGIN:VCALENDAR
VERSION:2.0
PRODID:-//Things To Lou - ECPv6.15.20//NONSGML v1.0//EN
CALSCALE:GREGORIAN
METHOD:PUBLISH
X-WR-CALNAME:Things To Lou
X-ORIGINAL-URL:https://things-to-lou.com
X-WR-CALDESC:Events for Things To Lou
REFRESH-INTERVAL;VALUE=DURATION:PT1H
X-Robots-Tag:noindex
X-PUBLISHED-TTL:PT1H
BEGIN:VTIMEZONE
TZID:America/New_York
BEGIN:DAYLIGHT
TZOFFSETFROM:-0500
TZOFFSETTO:-0400
TZNAME:EDT
DTSTART:20250309T070000
END:DAYLIGHT
BEGIN:STANDARD
TZOFFSETFROM:-0400
TZOFFSETTO:-0500
TZNAME:EST
DTSTART:20251102T060000
END:STANDARD
BEGIN:DAYLIGHT
TZOFFSETFROM:-0500
TZOFFSETTO:-0400
TZNAME:EDT
DTSTART:20260308T070000
END:DAYLIGHT
BEGIN:STANDARD
TZOFFSETFROM:-0400
TZOFFSETTO:-0500
TZNAME:EST
DTSTART:20261101T060000
END:STANDARD
BEGIN:DAYLIGHT
TZOFFSETFROM:-0500
TZOFFSETTO:-0400
TZNAME:EDT
DTSTART:20270314T070000
END:DAYLIGHT
BEGIN:STANDARD
TZOFFSETFROM:-0400
TZOFFSETTO:-0500
TZNAME:EST
DTSTART:20271107T060000
END:STANDARD
END:VTIMEZONE
BEGIN:VEVENT
DTSTART;TZID=America/New_York:20260422T000000
DTEND;TZID=America/New_York:20260424T235959
DTSTAMP:20260422T060142
CREATED:20251212T224136Z
LAST-MODIFIED:20251212T224136Z
UID:10003360-1776816000-1777075199@things-to-lou.com
SUMMARY:Beyond the Barrel: Walking Bourbon Tour with Food Pairings | promo code! | multiple dates
DESCRIPTION:Go beyond the barrel to dive into bourbon’s storied history and learn all the stories they won’t tell you on a Kentucky Bourbon Trail distillery tour! \nAs the sun sets over the vibrant NuLu neighborhood\, you’ll visit award-winning restaurants\, hidden speakeasies\, rooftop terraces\, and cozy tasting rooms. \n\nBook your tour here!\nUse code “thingstolou10” to save 10%!\n\nUncover the secrets of Kentucky bourbon.\n  \n\nTrace the origins of bourbon whiskey from its roots in the Appalachian foothills to today’s thriving bourbon scene\nUnlock bourbon’s versatility and depth through paired bites\, pours\, and cocktails\nTry modern re-interpretations of classic Louisville bourbon cocktails such as the Old Fashioned and the Mint Julep\nSample bourbon’s full range of versatility\, including clarified\, fat-washed\, river-aged\, wheated\, infused\, and finished bourbons\nLand a few coveted tables at some of the most celebrated eateries in town\, including restaurants by Michelin Star and James Beard winning Chefs\n\n\nDETAILS\nDistance: 1 mile \nDuration: 3 hours \nFood: 5 stops\, 8 tastings \nDrinks: 2 bourbon pours\, 4 cocktails \nCapacity: 12 \nTime: 5 & 5:30 PM\, Wed-Fri \nAccessibility: 21+\, wheelchair friendly \n\nBook your tour here!\nUse code “thingstolou10” to save 10%!
URL:https://things-to-lou.com/events/beyond-the-barrel-walking-bourbon-tour-with-food-pairings-promo-code-multiple-dates-35/
LOCATION:KY
CATEGORIES:Walking Tour / Food Tour
ATTACH;FMTTYPE=image/jpeg:https://things-to-lou.com/wp-content/uploads/2025/12/FULL-SIZE-Beyond-the-Barrel-Tour-5-e1765577928790.jpg
END:VEVENT
BEGIN:VEVENT
DTSTART;TZID=America/New_York:20260422T110000
DTEND;TZID=America/New_York:20260422T120000
DTSTAMP:20260422T060142
CREATED:20260330T172324Z
LAST-MODIFIED:20260330T172643Z
UID:10004890-1776855600-1776859200@things-to-lou.com
SUMMARY:Feed/Brush/Interact with cattle at TC Highlands Farm!
DESCRIPTION:See the cattle in their natural environment and get the opportunity to interact with them. One booking spot is for a group of 1 to 5 people will get hands on with a few of the tamer cows\, be able to feed them treats\, brush them\, take your own pics with them and we will teach you about their breed. \n*New for this year are our Weekly Morning Farm Visits* \nThe weekend and evening spots fill up quickly and there are only so many of them. We are offering for those who can take off of work a chance to beat the crowd a discount on a farm visit. \n\nUSE CODE “ThingsToLou10” to save $15 off your booking!\n\nChildren need to be at least 5 years old. \nWe will answer any questions you may have about their breed or how we care for them. You will get to see the herd and how they interact with each other. We have several colors and different ages of Highlands to see. Safety will be ensured during your visit as your group leader will show you how to interact with them. Please wear comfortable shoes that are suitable for the cattle pasture\, flip flops or sandals are not recommended. Depending on where on the farm the cattle are\, your visit may include a short walk to the next field over or a short gator ride to the pasture. There is a small chance that we could get rained out and if that happens we will work with everyone to reschedule the visits. We do have a clean porta potty available. \n5 people max in a group. \nNo refunds will be given once booked\, but if you give us 24 hrs notice if something should come up\, we can reschedule you. \nYou may bring apples or carrots\, fig bars\, white bread or horse treats to feed them snacks. They will love you for it! \nWe have logo merchandise for sale such as t shirts\, coffee mugs\, stickers\, hats\, highland cow stuffed animals and sweatshirts. We take cash\, Venmo or Paypal for the merchandise. \n$125 \n\nAbout TC Highlands Farm: \nWe raise registered Scottish Highland Cattle in Shelby County\, Kentucky. We strive to stay true to the breed and to raise quality cattle\, no mini’s here! We do a lot at the farm including showing in AHCA sanctioned shows and of course agritourism when we aren’t breeding and calving. We are excited to share the breed we are so passionate about with you. \nWe hope to give you something different\, an experience you will remember! Pricing for visits to the farm is by the group\, not per person. Message us with any questions\, we would love to help you get set up for a farm visit you will not forget! \nVisit spots are priced per group not per person. \nAll visits are PRIVATE\, you will get an assigned group leader who will stay with you the whole time. \nTC Highlands Farm contact:  \nKristin Carmack\nTCHighlandsFarm@gmail.com \n  \n  \n 
URL:https://things-to-lou.com/events/feed-brush-interact-with-cattle-at-tc-highlands-farm/2026-04-22/1/
LOCATION:TC Highlands Farm\, 1777 Bunk Rd KY\, Pleasureville\, KY\, 40057\, United States
CATEGORIES:Family & Children
ATTACH;FMTTYPE=image/jpeg:https://things-to-lou.com/wp-content/uploads/2026/03/img_7653-e1774890806850.jpg
ORGANIZER;CN="TC Highlands Farm":MAILTO:TCHighlandsFarm@gmail.com
END:VEVENT
BEGIN:VEVENT
DTSTART;TZID=America/New_York:20260422T120000
DTEND;TZID=America/New_York:20260422T130000
DTSTAMP:20260422T060142
CREATED:20260330T172324Z
LAST-MODIFIED:20260330T172643Z
UID:10004891-1776859200-1776862800@things-to-lou.com
SUMMARY:Feed/Brush/Interact with cattle at TC Highlands Farm!
DESCRIPTION:See the cattle in their natural environment and get the opportunity to interact with them. One booking spot is for a group of 1 to 5 people will get hands on with a few of the tamer cows\, be able to feed them treats\, brush them\, take your own pics with them and we will teach you about their breed. \n*New for this year are our Weekly Morning Farm Visits* \nThe weekend and evening spots fill up quickly and there are only so many of them. We are offering for those who can take off of work a chance to beat the crowd a discount on a farm visit. \n\nUSE CODE “ThingsToLou10” to save $15 off your booking!\n\nChildren need to be at least 5 years old. \nWe will answer any questions you may have about their breed or how we care for them. You will get to see the herd and how they interact with each other. We have several colors and different ages of Highlands to see. Safety will be ensured during your visit as your group leader will show you how to interact with them. Please wear comfortable shoes that are suitable for the cattle pasture\, flip flops or sandals are not recommended. Depending on where on the farm the cattle are\, your visit may include a short walk to the next field over or a short gator ride to the pasture. There is a small chance that we could get rained out and if that happens we will work with everyone to reschedule the visits. We do have a clean porta potty available. \n5 people max in a group. \nNo refunds will be given once booked\, but if you give us 24 hrs notice if something should come up\, we can reschedule you. \nYou may bring apples or carrots\, fig bars\, white bread or horse treats to feed them snacks. They will love you for it! \nWe have logo merchandise for sale such as t shirts\, coffee mugs\, stickers\, hats\, highland cow stuffed animals and sweatshirts. We take cash\, Venmo or Paypal for the merchandise. \n$125 \n\nAbout TC Highlands Farm: \nWe raise registered Scottish Highland Cattle in Shelby County\, Kentucky. We strive to stay true to the breed and to raise quality cattle\, no mini’s here! We do a lot at the farm including showing in AHCA sanctioned shows and of course agritourism when we aren’t breeding and calving. We are excited to share the breed we are so passionate about with you. \nWe hope to give you something different\, an experience you will remember! Pricing for visits to the farm is by the group\, not per person. Message us with any questions\, we would love to help you get set up for a farm visit you will not forget! \nVisit spots are priced per group not per person. \nAll visits are PRIVATE\, you will get an assigned group leader who will stay with you the whole time. \nTC Highlands Farm contact:  \nKristin Carmack\nTCHighlandsFarm@gmail.com \n  \n  \n 
URL:https://things-to-lou.com/events/feed-brush-interact-with-cattle-at-tc-highlands-farm/2026-04-22/2/
LOCATION:TC Highlands Farm\, 1777 Bunk Rd KY\, Pleasureville\, KY\, 40057\, United States
CATEGORIES:Family & Children
ATTACH;FMTTYPE=image/jpeg:https://things-to-lou.com/wp-content/uploads/2026/03/img_7653-e1774890806850.jpg
ORGANIZER;CN="TC Highlands Farm":MAILTO:TCHighlandsFarm@gmail.com
END:VEVENT
BEGIN:VEVENT
DTSTART;TZID=America/New_York:20260422T150000
DTEND;TZID=America/New_York:20260422T220000
DTSTAMP:20260422T060142
CREATED:20260416T044407Z
LAST-MODIFIED:20260416T044407Z
UID:10005035-1776870000-1776895200@things-to-lou.com
SUMMARY:Grand Opening: Big Rock Bar
DESCRIPTION:It’s official! ⁠ ⁠ Big Rock Bar is having our Grand Opening on April 22nd! \nWe’re open 3-10pm\, and we’re celebrating all night long:⁠ \n🍺 $1 off Big Rock house beer⁠ \n🍹 $1 off house cocktails⁠ \n🎁 Free stickers while they last⁠ ⁠ \n\nAnd we’re giving away a $50 Big Rock gift card!⁠ ⁠ \nHere’s how to enter: tag us in a post or story on April 22nd and you’re in. One winner\, announced on April 23rd.⁠ ⁠ \n\n  \nCome in\, see the new space\, and grab a beer us with! 🍺⁠ ⁠ \n📍 2120 Bardstown Rd⁠
URL:https://things-to-lou.com/events/grand-opening-big-rock-bar/
LOCATION:Big Rock Bar & Brew\, 2120 Bardstown Rd\, Louisville\, KY\, 40205\, United States
CATEGORIES:Beer / Brewery,Food & Drink,Grand Openings
ATTACH;FMTTYPE=image/png:https://things-to-lou.com/wp-content/uploads/2026/04/big-rock-grand-opening-e1776314656436.png
END:VEVENT
BEGIN:VEVENT
DTSTART;TZID=America/New_York:20260422T173000
DTEND;TZID=America/New_York:20260422T210000
DTSTAMP:20260422T060142
CREATED:20260408T210919Z
LAST-MODIFIED:20260408T210919Z
UID:10004996-1776879000-1776891600@things-to-lou.com
SUMMARY:Bar Music Bingo Party @ High Stakes Rooftop
DESCRIPTION:Get ready for a high-energy night of music\, drinks\, and rooftop fun at High Stakes Rooftop\, located on the 6th floor of the Tempo by Hilton in NuLu\, on Wednesday\, April 22nd! \nWe’re turning up the volume with Bar Music Bingo featuring the ultimate playlist of bar anthems\, throwback bangers\, sing-along favorites\, and guilty pleasures that will have the whole rooftop vibing. \n\nCheck-In: 5:30 PM\nBingo Starts: 6:00 PM\n\nNo boring numbers here—when you hear the song\, mark your card and get ready to sing it loud\, cheer your friends on\, and chase that bingo. Expect a lively crowd\, big energy\, and plenty of moments where the whole rooftop is singing along together. \nFuel the party with themed drink specials from our friends at Tito’s and Red Bull\, grab your crew\, and get ready for a night of music\, laughs\, and rooftop bragging rights. Come early\, bring your best sing-along energy\, and let’s make Wednesday night in NuLu the most fun night of the week. \n 
URL:https://things-to-lou.com/events/bar-music-bingo-party-high-stakes-rooftop/
LOCATION:High Stakes Rooftop Grill\, 710 E Jefferson St\, Louisville\, KY\, 40202\, United States
CATEGORIES:Food & Drink,Games/Pinball/Bingo/etc.
ATTACH;FMTTYPE=image/png:https://things-to-lou.com/wp-content/uploads/2026/04/aaaaaaaaaaaaaaaaaaaaaaaaaaaaaaaaaaaaa-e1775656269303.png
END:VEVENT
BEGIN:VEVENT
DTSTART;TZID=America/New_York:20260422T183000
DTEND;TZID=America/New_York:20260422T203000
DTSTAMP:20260422T060142
CREATED:20260312T035046Z
LAST-MODIFIED:20260312T035046Z
UID:10004758-1776882600-1776889800@things-to-lou.com
SUMMARY:Date My Friend | dating event
DESCRIPTION:Date My Friend is free event designed to bring people together\, have a good time and make a few IRL connections along the way. \n\nWhat to expect: Friends will present to a live audience in 5 minutes or less why they think their single friend is so fantastic then we’ll open it to mingle and meet. \nWhen: Wednesday\, April 22\, 2026 at 6:30pm \nWhere: West Sixth Nulu in Louisville\, KY: westsixth.com/nulu \nHow to join: This event is free to anyone who wants to attend. RSVP and if you want to present or have a friend who wants to pitch you\, will out this form and we’ll be in touch!
URL:https://things-to-lou.com/events/date-my-friend-dating-event/
LOCATION:West 6th Nulu\, 817 E Market St\, Suite 101\, Louisville\, KY\, 40206\, United States
CATEGORIES:Beer / Brewery,Dating Event
ATTACH;FMTTYPE=image/jpeg:https://things-to-lou.com/wp-content/uploads/2026/03/9d1e3def-99b2-4728-b6f6-d00f88eefbeb-e1773287190786.jpg
END:VEVENT
END:VCALENDAR