BEGIN:VCALENDAR
VERSION:2.0
PRODID:-//Things To Lou - ECPv6.15.20//NONSGML v1.0//EN
CALSCALE:GREGORIAN
METHOD:PUBLISH
X-WR-CALNAME:Things To Lou
X-ORIGINAL-URL:https://things-to-lou.com
X-WR-CALDESC:Events for Things To Lou
REFRESH-INTERVAL;VALUE=DURATION:PT1H
X-Robots-Tag:noindex
X-PUBLISHED-TTL:PT1H
BEGIN:VTIMEZONE
TZID:America/New_York
BEGIN:DAYLIGHT
TZOFFSETFROM:-0500
TZOFFSETTO:-0400
TZNAME:EDT
DTSTART:20250309T070000
END:DAYLIGHT
BEGIN:STANDARD
TZOFFSETFROM:-0400
TZOFFSETTO:-0500
TZNAME:EST
DTSTART:20251102T060000
END:STANDARD
BEGIN:DAYLIGHT
TZOFFSETFROM:-0500
TZOFFSETTO:-0400
TZNAME:EDT
DTSTART:20260308T070000
END:DAYLIGHT
BEGIN:STANDARD
TZOFFSETFROM:-0400
TZOFFSETTO:-0500
TZNAME:EST
DTSTART:20261101T060000
END:STANDARD
BEGIN:DAYLIGHT
TZOFFSETFROM:-0500
TZOFFSETTO:-0400
TZNAME:EDT
DTSTART:20270314T070000
END:DAYLIGHT
BEGIN:STANDARD
TZOFFSETFROM:-0400
TZOFFSETTO:-0500
TZNAME:EST
DTSTART:20271107T060000
END:STANDARD
END:VTIMEZONE
BEGIN:VEVENT
DTSTART;TZID=America/New_York:20260422T000000
DTEND;TZID=America/New_York:20260424T235959
DTSTAMP:20260424T015742
CREATED:20251212T224136Z
LAST-MODIFIED:20251212T224136Z
UID:10003360-1776816000-1777075199@things-to-lou.com
SUMMARY:Beyond the Barrel: Walking Bourbon Tour with Food Pairings | promo code! | multiple dates
DESCRIPTION:Go beyond the barrel to dive into bourbon’s storied history and learn all the stories they won’t tell you on a Kentucky Bourbon Trail distillery tour! \nAs the sun sets over the vibrant NuLu neighborhood\, you’ll visit award-winning restaurants\, hidden speakeasies\, rooftop terraces\, and cozy tasting rooms. \n\nBook your tour here!\nUse code “thingstolou10” to save 10%!\n\nUncover the secrets of Kentucky bourbon.\n  \n\nTrace the origins of bourbon whiskey from its roots in the Appalachian foothills to today’s thriving bourbon scene\nUnlock bourbon’s versatility and depth through paired bites\, pours\, and cocktails\nTry modern re-interpretations of classic Louisville bourbon cocktails such as the Old Fashioned and the Mint Julep\nSample bourbon’s full range of versatility\, including clarified\, fat-washed\, river-aged\, wheated\, infused\, and finished bourbons\nLand a few coveted tables at some of the most celebrated eateries in town\, including restaurants by Michelin Star and James Beard winning Chefs\n\n\nDETAILS\nDistance: 1 mile \nDuration: 3 hours \nFood: 5 stops\, 8 tastings \nDrinks: 2 bourbon pours\, 4 cocktails \nCapacity: 12 \nTime: 5 & 5:30 PM\, Wed-Fri \nAccessibility: 21+\, wheelchair friendly \n\nBook your tour here!\nUse code “thingstolou10” to save 10%!
URL:https://things-to-lou.com/events/beyond-the-barrel-walking-bourbon-tour-with-food-pairings-promo-code-multiple-dates-35/
LOCATION:KY
CATEGORIES:Walking Tour / Food Tour
ATTACH;FMTTYPE=image/jpeg:https://things-to-lou.com/wp-content/uploads/2025/12/FULL-SIZE-Beyond-the-Barrel-Tour-5-e1765577928790.jpg
END:VEVENT
BEGIN:VEVENT
DTSTART;TZID=America/New_York:20260423T000000
DTEND;TZID=America/New_York:20260424T235959
DTSTAMP:20260424T015742
CREATED:20251212T213732Z
LAST-MODIFIED:20251212T213732Z
UID:10003313-1776902400-1777075199@things-to-lou.com
SUMMARY:The Bourbon Trolley: Distillery Tour\, Tasting Rooms & Bourbon Experiences | promo code! (multiple tour times)
DESCRIPTION:Use code “thingstolou10” to save 10%!\nBook your tour here!\n\nStep aboard Louisville’s historic trolley to explore distilleries\, tasting rooms\, & bourbon-infused bites! \nAs you roll through downtown\, NuLu\, and Butchertown\, you’ll get exclusive access to tasting rooms\, tour a bourbon distillery\, and sample treats with a bourbon twist. \nEach stop features pours\, tours\, cocktails\, stories\, and plenty of Bourbon City surprises. \nDETAILS\n🥃 Duration: 3 hours\n🥃 Distance: 0.25 miles of walking\n🥃 Trolley: 24-hour LouHop pass included\n🥃 Bourbon Experiences: 5 stops\, including a distillery tour & tasting rooms\n🥃 Tastings: 9 bourbon pours\, 2 cocktails and 9 small food samples\n🥃 Capacity: 12\n🥃 Time: 1:30-4:30 PM\, Thursdays & Fridays\n🥃 Accessibility: 21+. Wheelchair accessible with advanced notice. \nWHAT TO EXPECT\n\nStep inside a bourbon distillery (that’s almost always sold out) for a customized tour and guided tasting\nSip bourbon flights and exclusive cocktails in hidden speakeasies and tasting rooms at some of America’s oldest bourbon brands\nGo beyond the glass with tastings of barrel-aged sauces\, spices\, and treats that showcase bourbon’s influence on Kentucky cuisine.\nExplore Downtown\, NuLu\, and Butchertown in comfort aboard a climate-controlled historic trolley. Plus\, continue exploring with a 24-hour LouHop pass after your tour.\n\n\nLouisville’s Most Unique Bourbon Tour\nPerfect for both bourbon newcomers and seasoned enthusiasts\, this guided trolley tour through Downtown\, NuLu\, and Butchertown offers exclusive access to tasting rooms\, speakeasies\, artisans\, and a distillery you won’t find on any other Kentucky bourbon experience. \nOver the 3 hours you’ll spend with us\, you’ll enjoy …\n\nExclusive bourbon tastings & cocktails\nDistillery tour & guided tasting\nHistoric trolley ride with expert guides\n24-hour LouHop hop-on\, hop-off pass to use after your tour\n\n\nAn UNFORGETTABLE trolley tour!\n5-Star Experience \nExclusive access\, custom crafted cocktails\, and experiences. \nHistoric Trolley \nTake in the views as you roll through town in climate-controlled comfort. \nBourbon \nEnjoy bourbon flights\, a distillery tour\, craft cocktails\, and bourbon-infused samples. \nSmall Group \nCapped at 12 people for a more personalized experience. \nBook your tour here!
URL:https://things-to-lou.com/events/the-bourbon-trolley-distillery-tour-tasting-rooms-bourbon-experiences-promo-code-multiple-tour-times-15/
LOCATION:KY
CATEGORIES:Walking Tour / Food Tour
ATTACH;FMTTYPE=image/jpeg:https://things-to-lou.com/wp-content/uploads/2025/12/FULL-SIZE-Bourbon-Trolley-21-e1765572460116.jpg
END:VEVENT
BEGIN:VEVENT
DTSTART;TZID=America/New_York:20260424T000000
DTEND;TZID=America/New_York:20260426T235959
DTSTAMP:20260424T015742
CREATED:20251212T221020Z
LAST-MODIFIED:20251212T221020Z
UID:10003336-1776988800-1777247999@things-to-lou.com
SUMMARY:SECRETS OF LOUISVILLE Food & History Tour in Nulu | promo code! (multiple times)
DESCRIPTION:Experience Louisville’s story one bite at a time.\nThis tour offers a delicious introduction to the quintessential foods and drinks that define both Louisville and Kentucky. \nStroll through the trendy NuLu and historic Butchertown neighborhoods while sampling famous dishes that originated right here in Louisville— from the foothills of Appalachia to the glitz and glamour of Prohibition-era Louisville. \nEnjoy tastings from six unique stops and how Louisville’s heritage and history have shaped these iconic foods. \n\n  \nBook your tour here!\nUse promo code “thingstolou10” and save 10% on your tickets!\nThe best way to discover Louisville’s essential flavors – without the hassle of driving around – even if you’re short on time! This tour frequently sells out\, so reserve your spot early. \n  \n\nQUICK DETAILS\n\nDistance: 1.5 miles\, flat\nDuration: 3 hours\nFood Stops: 6 stops for local dishes & drinks\nCapacity: 12 per tour\nTime: 1 PM\, Fridays-Sundays\nAccessibility: Wheelchair and stroller friendly. All ages welcome. Ages 2 and under are free.\n\n\nWhere\nMeet at 636 E Main St\, Louisville\, KY 40202 \nWhen​\nFridays\, Saturdays\, and Sundays at 1 PM \n\nWhat’s This Tour All About?\nIs it a food tour or a history tour? The answer\, of course\, is both! This tour is the perfect blend of tastes and tales. \nOver the 3 hours you’ll spend with us\, you’ll enjoy … \n\n8 Delicious dishes representing Kentucky’s heritage (come hungry)\nBarrel-aged craft beer tasting and 2 refreshing alcoholic slushies\nThe unfiltered history of two of Louisville’s most historic neighborhoods\nJokes that we proof-tested on other people first\, probably\nAudio headset (the better to hear your guide – and those jokes)\n\n\nWhat to Expect \nWe’ll be making 6 delicious stops! You can also expect… \nFood & Drinks\nCome hungry & thirsty! (Mocktails also available) \nAudio Headset​\nThe lightweight headset helps you hear us from a distance. \nSmall Group\nOur tours max out at 12 people. \nWalking\n1-1.5 Miles. Wear comfy shoes!
URL:https://things-to-lou.com/events/secrets-of-louisville-food-history-tour-in-nulu-promo-code-multiple-times-52/
LOCATION:KY
CATEGORIES:Walking Tour / Food Tour
ATTACH;FMTTYPE=image/jpeg:https://things-to-lou.com/wp-content/uploads/2025/12/NuLu-Food-Tour-FULL-SIZE-9-e1765576289467.jpg
END:VEVENT
BEGIN:VEVENT
DTSTART;TZID=America/New_York:20260424T180000
DTEND;TZID=America/New_York:20260424T220000
DTSTAMP:20260424T015742
CREATED:20260325T192815Z
LAST-MODIFIED:20260325T192815Z
UID:10004768-1777053600-1777068000@things-to-lou.com
SUMMARY:Strings in the Spring | outdoor concert
DESCRIPTION:Spring shows up a little louder this year. \nA free event built around the sounds\, stories\, and spirit of Kentucky and Appalachia. We’re bringing together artists who carry that culture forward! \n\nHannah Howard\nKatie Didit & The Bluegills\nMoose Miller\nPlus a special performance by the Louisville Leopard Percussionists\n\nChristy’s Garden sets the stage. Derby season energy in the air. Good people\, local craft\, educational \, health initiatives and music that brings people together. \nThis isn’t just a show. It’s a reminder of where we come from and what we can build together when we show up for it. \nFriday\, April 24\n6PM\nFREE \nCome early. Stay late. Bring somebody with you and bring a chair and blanket to sit on the turf and catch some of the best vibes in the city. \nDonations accepted to support the Appalachian Pioneer Program and the work being done across Kentucky and beyond. \n#StringsInTheSpring #Appalachia #KentuckyMusic #LouisvilleKY #LiveMusicKY \n**description from Instagram post \n 
URL:https://things-to-lou.com/events/strings-in-the-spring-outdoor-concert/
LOCATION:Paristown Arts District – Christy’s Garden\, 720 Brent St\, Louisville\, KY\, 40204\, United States
CATEGORIES:Family & Children,Music
END:VEVENT
BEGIN:VEVENT
DTSTART;TZID=America/New_York:20260424T190000
DTEND;TZID=America/New_York:20260424T210000
DTSTAMP:20260424T015742
CREATED:20260122T034811Z
LAST-MODIFIED:20260122T034811Z
UID:10004081-1777057200-1777064400@things-to-lou.com
SUMMARY:Anthony Jeselnik comedy show
DESCRIPTION:Get Tickets Here \n\nAnthony Jeselnik is a critically acclaimed stand-up comedian. Over the past 25 years\, he has performed all across the globe and has written\, produced\, and starred in three Netflix comedy specials: Thoughts and Prayers\, Fire in the Maternity Ward\, and his latest\, Bones and All. \nJeselnik also wrote\, produced\, and starred in the comedy special Caligula and the stand-up album Shakespeare. \nIn addition to his stand-up\, Jeselnik is an Emmy-nominated writer who created\, produced\, and starred in the cult-classic television series Good Talk with Anthony Jeselnik and The Jeselnik Offensive\, alongside his breakout performances on The Roast of Donald Trump and The Roast of Charlie Sheen.
URL:https://things-to-lou.com/events/anthony-jeselnik-comedy-show/2026-04-24/1/
LOCATION:Louisville Comedy Club\, 110 W Main St\, Louisville\, KY\, 40202\, United States
CATEGORIES:Comedy
END:VEVENT
BEGIN:VEVENT
DTSTART;TZID=America/New_York:20260424T190000
DTEND;TZID=America/New_York:20260424T220000
DTSTAMP:20260424T015742
CREATED:20260109T230541Z
LAST-MODIFIED:20260109T230541Z
UID:10003943-1777057200-1777068000@things-to-lou.com
SUMMARY:Brandon Lake - King of Hearts Tour
DESCRIPTION:Join Brandon Lake with special guest Pat Barrett & Franni Cash for the King of Hearts Tour. Hitting 48 cities across Fall of 2025 and Spring of 2026 including a stop in Louisville\, Kentucky at the KFC Yum! Center on Friday\, April 24\, 2026. \nThis tour will feature many of your favorite songs like Gratitude\, Graves Into Gardens and COUNT ‘EM\, as well as new songs from his newly announced album\, King of Hearts (Hard Fought Hallelujah\, That’s Who I Praise). \n\n  \nBrandon Lake – King of Hearts Tour\nWith Special Guest Pat Barrett & Franni Cash \nDate\nApr 24\, 2026 \nEvent Starts\n7:00 PM \nDoors Open\n6:00 PM \n 
URL:https://things-to-lou.com/events/brandon-lake-king-of-hearts-tour/
LOCATION:KFC Yum! Center\, 1 Arena Plaza\, Louisville\, KY\, 40202\, United States
CATEGORIES:Music
END:VEVENT
BEGIN:VEVENT
DTSTART;TZID=America/New_York:20260424T193000
DTEND;TZID=America/New_York:20260424T233000
DTSTAMP:20260424T015742
CREATED:20260105T072129Z
LAST-MODIFIED:20260105T072129Z
UID:10003699-1777059000-1777073400@things-to-lou.com
SUMMARY:The Dose: A Psychedelic Comedy Experience (two shows: 7:30pm & 10pm)
DESCRIPTION:A mind-bending journey of experimentation\, laughter\, and healing. Set in a vibrant and surreal venue\, THE DOSE is a fully immersive psychedelic experience featuring a carefully curated line-up of some of the best comedians in the country (seen on HBO\, Comedy Central\, Late Night\, Netflix\, Don’t Tell\, and more!). \nAt THE DOSE we facilitate the perfect set and setting for both the comedians and the audience to find the funny within their expanding minds. Our Master of Ceremonies and creator of THE DOSE is Steven Gillespie (CONAN\, AMAZON PRIME)\, a nationally touring stand-up comedian and a psychedelic connoisseur. \nTHE DOSE is more than a comedy show\, it’s a multi-media event featuring our very own DJ and he will play before\, during\, and sometimes even after the show! Don’t miss the pre-show DJ set (starts at 6:45pm doors)\, it’s becoming more and more popular. It features live music\, visuals\, vendors\, and flow performers. \nWe encourage all types of festival performers and artists to come show off their work during the pre-show DJ set (Jugglers\, Dancers\, Hula Hoopers\, sound bathers\, Poi\, psychedelic artists etc.). \nCome take a trip with us as we transcend the ordinary\, dance on the edges of perception\, and explore the healing properties of our boundless imaginations. \nAnd also to just laugh and be silly \nTHE DOSE: We’ll Take Ours. Don’t Forget Yours \n\n  \n7:30pm Show – Doors/Preshow DJ Set 6:30pm \n10pm Show – Doors/Preshow DJ set 9:15pm
URL:https://things-to-lou.com/events/the-dose-a-psychedelic-comedy-experience-two-shows-730pm-10pm/
LOCATION:Planet Of The Tapes\, 640 Barret Ave\, Louisville\, KY\, 40204\, United States
CATEGORIES:Comedy
END:VEVENT
BEGIN:VEVENT
DTSTART;TZID=America/New_York:20260424T213000
DTEND;TZID=America/New_York:20260424T233000
DTSTAMP:20260424T015742
CREATED:20260122T034811Z
LAST-MODIFIED:20260122T034811Z
UID:10004082-1777066200-1777073400@things-to-lou.com
SUMMARY:Anthony Jeselnik comedy show
DESCRIPTION:Get Tickets Here \n\nAnthony Jeselnik is a critically acclaimed stand-up comedian. Over the past 25 years\, he has performed all across the globe and has written\, produced\, and starred in three Netflix comedy specials: Thoughts and Prayers\, Fire in the Maternity Ward\, and his latest\, Bones and All. \nJeselnik also wrote\, produced\, and starred in the comedy special Caligula and the stand-up album Shakespeare. \nIn addition to his stand-up\, Jeselnik is an Emmy-nominated writer who created\, produced\, and starred in the cult-classic television series Good Talk with Anthony Jeselnik and The Jeselnik Offensive\, alongside his breakout performances on The Roast of Donald Trump and The Roast of Charlie Sheen.
URL:https://things-to-lou.com/events/anthony-jeselnik-comedy-show/2026-04-24/2/
LOCATION:Louisville Comedy Club\, 110 W Main St\, Louisville\, KY\, 40202\, United States
CATEGORIES:Comedy
END:VEVENT
END:VCALENDAR