BEGIN:VCALENDAR
VERSION:2.0
PRODID:-//Things To Lou - ECPv6.15.17//NONSGML v1.0//EN
CALSCALE:GREGORIAN
METHOD:PUBLISH
X-ORIGINAL-URL:https://things-to-lou.com
X-WR-CALDESC:Events for Things To Lou
REFRESH-INTERVAL;VALUE=DURATION:PT1H
X-Robots-Tag:noindex
X-PUBLISHED-TTL:PT1H
BEGIN:VTIMEZONE
TZID:America/New_York
BEGIN:DAYLIGHT
TZOFFSETFROM:-0500
TZOFFSETTO:-0400
TZNAME:EDT
DTSTART:20250309T070000
END:DAYLIGHT
BEGIN:STANDARD
TZOFFSETFROM:-0400
TZOFFSETTO:-0500
TZNAME:EST
DTSTART:20251102T060000
END:STANDARD
BEGIN:DAYLIGHT
TZOFFSETFROM:-0500
TZOFFSETTO:-0400
TZNAME:EDT
DTSTART:20260308T070000
END:DAYLIGHT
BEGIN:STANDARD
TZOFFSETFROM:-0400
TZOFFSETTO:-0500
TZNAME:EST
DTSTART:20261101T060000
END:STANDARD
BEGIN:DAYLIGHT
TZOFFSETFROM:-0500
TZOFFSETTO:-0400
TZNAME:EDT
DTSTART:20270314T070000
END:DAYLIGHT
BEGIN:STANDARD
TZOFFSETFROM:-0400
TZOFFSETTO:-0500
TZNAME:EST
DTSTART:20271107T060000
END:STANDARD
END:VTIMEZONE
BEGIN:VEVENT
DTSTART;TZID=America/New_York:20260306T170000
DTEND;TZID=America/New_York:20260306T200000
DTSTAMP:20260302T183900
CREATED:20260214T052923Z
LAST-MODIFIED:20260214T052923Z
UID:10004730-1772816400-1772827200@things-to-lou.com
SUMMARY:Louisville Pride Art Exhibition: Voices of our Community
DESCRIPTION:The Louisville Pride Foundation warmly invites you to join us for our first Art Exhibition on March 6th from 5PM-8PM! \nShowcasing local Louisville artists\, this exhibition focuses on individual experiences\, perspectives\, and visions on community\, identity\, and community. \nSupport the local art scene and the Louisville Pride Center while enjoying complimentary hors d’oeuvres. \nNo registration required\, and admission is FREE!
URL:https://things-to-lou.com/events/louisville-pride-art-exhibition-voices-of-our-community/
LOCATION:Louisville Pride Center\, 1244 S 3rd St\, STE 200\, Louisville\, KY\, 40203\, United States
CATEGORIES:Art,LGBTQIA+
ATTACH;FMTTYPE=image/jpeg:https://things-to-lou.com/wp-content/uploads/2026/02/art-exhibition-e1771047670456.jpg
END:VEVENT
BEGIN:VEVENT
DTSTART;TZID=America/New_York:20260307T090000
DTEND;TZID=America/New_York:20260307T160000
DTSTAMP:20260302T183900
CREATED:20260124T014719Z
LAST-MODIFIED:20260124T014719Z
UID:10004130-1772874000-1772899200@things-to-lou.com
SUMMARY:Hot Glass MAKE IT! | glass blowing class | Birds (multiple class times)
DESCRIPTION:Tweet Tweet. Spring is here! Take home your own sculpted glass Bird. \nItems will be ready for pick-up one week after the class. \nStudents must be 18+\, or 15+ if taken with a parent or guardian. \n  \n***description from website \n  \nGET TICKETS HERE
URL:https://things-to-lou.com/events/hot-glass-make-it-glass-blowing-class-birds-multiple-class-times/2026-03-07/
LOCATION:ACME Artworks Hot Shop\, 953 S Clay ST\, Louisville\, KY\, 40203\, United States
CATEGORIES:Art,Workshop
END:VEVENT
BEGIN:VEVENT
DTSTART;TZID=America/New_York:20260314T090000
DTEND;TZID=America/New_York:20260314T160000
DTSTAMP:20260302T183900
CREATED:20260124T014719Z
LAST-MODIFIED:20260124T014719Z
UID:10004131-1773478800-1773504000@things-to-lou.com
SUMMARY:Hot Glass MAKE IT! | glass blowing class | Birds (multiple class times)
DESCRIPTION:Tweet Tweet. Spring is here! Take home your own sculpted glass Bird. \nItems will be ready for pick-up one week after the class. \nStudents must be 18+\, or 15+ if taken with a parent or guardian. \n  \n***description from website \n  \nGET TICKETS HERE
URL:https://things-to-lou.com/events/hot-glass-make-it-glass-blowing-class-birds-multiple-class-times/2026-03-14/
LOCATION:ACME Artworks Hot Shop\, 953 S Clay ST\, Louisville\, KY\, 40203\, United States
CATEGORIES:Art,Workshop
END:VEVENT
BEGIN:VEVENT
DTSTART;TZID=America/New_York:20260321T090000
DTEND;TZID=America/New_York:20260321T160000
DTSTAMP:20260302T183900
CREATED:20260124T014719Z
LAST-MODIFIED:20260124T014719Z
UID:10004132-1774083600-1774108800@things-to-lou.com
SUMMARY:Hot Glass MAKE IT! | glass blowing class | Birds (multiple class times)
DESCRIPTION:Tweet Tweet. Spring is here! Take home your own sculpted glass Bird. \nItems will be ready for pick-up one week after the class. \nStudents must be 18+\, or 15+ if taken with a parent or guardian. \n  \n***description from website \n  \nGET TICKETS HERE
URL:https://things-to-lou.com/events/hot-glass-make-it-glass-blowing-class-birds-multiple-class-times/2026-03-21/
LOCATION:ACME Artworks Hot Shop\, 953 S Clay ST\, Louisville\, KY\, 40203\, United States
CATEGORIES:Art,Workshop
END:VEVENT
BEGIN:VEVENT
DTSTART;TZID=America/New_York:20260328T090000
DTEND;TZID=America/New_York:20260328T160000
DTSTAMP:20260302T183900
CREATED:20260124T014719Z
LAST-MODIFIED:20260124T014719Z
UID:10004133-1774688400-1774713600@things-to-lou.com
SUMMARY:Hot Glass MAKE IT! | glass blowing class | Birds (multiple class times)
DESCRIPTION:Tweet Tweet. Spring is here! Take home your own sculpted glass Bird. \nItems will be ready for pick-up one week after the class. \nStudents must be 18+\, or 15+ if taken with a parent or guardian. \n  \n***description from website \n  \nGET TICKETS HERE
URL:https://things-to-lou.com/events/hot-glass-make-it-glass-blowing-class-birds-multiple-class-times/2026-03-28/
LOCATION:ACME Artworks Hot Shop\, 953 S Clay ST\, Louisville\, KY\, 40203\, United States
CATEGORIES:Art,Workshop
END:VEVENT
BEGIN:VEVENT
DTSTART;TZID=America/New_York:20261003T090000
DTEND;TZID=America/New_York:20261003T160000
DTSTAMP:20260302T183900
CREATED:20260124T013902Z
LAST-MODIFIED:20260124T013902Z
UID:10004118-1791018000-1791043200@things-to-lou.com
SUMMARY:Hot Glass MAKE IT! | glass blowing class | Pumpkins (multiple class times)
DESCRIPTION:It’s Fall! Make and decorate your own unique glass Pumpkin \nItems will be ready for pick-up one week after the class. \nMust be 18 or older\, or 15+ with a parent or guardian. \n  \n***description from website \n  \nGET TICKETS HERE
URL:https://things-to-lou.com/events/hot-glass-make-it-glass-blowing-class-pumpkins-multiple-class-times/2026-10-03/
LOCATION:ACME Artworks Hot Shop\, 953 S Clay ST\, Louisville\, KY\, 40203\, United States
CATEGORIES:Art,Workshop
ATTACH;FMTTYPE=image/jpeg:https://things-to-lou.com/wp-content/uploads/2026/01/img_5907-e1769217863518.jpg
END:VEVENT
BEGIN:VEVENT
DTSTART;TZID=America/New_York:20261010T090000
DTEND;TZID=America/New_York:20261010T160000
DTSTAMP:20260302T183900
CREATED:20260124T013902Z
LAST-MODIFIED:20260124T013902Z
UID:10004119-1791622800-1791648000@things-to-lou.com
SUMMARY:Hot Glass MAKE IT! | glass blowing class | Pumpkins (multiple class times)
DESCRIPTION:It’s Fall! Make and decorate your own unique glass Pumpkin \nItems will be ready for pick-up one week after the class. \nMust be 18 or older\, or 15+ with a parent or guardian. \n  \n***description from website \n  \nGET TICKETS HERE
URL:https://things-to-lou.com/events/hot-glass-make-it-glass-blowing-class-pumpkins-multiple-class-times/2026-10-10/
LOCATION:ACME Artworks Hot Shop\, 953 S Clay ST\, Louisville\, KY\, 40203\, United States
CATEGORIES:Art,Workshop
ATTACH;FMTTYPE=image/jpeg:https://things-to-lou.com/wp-content/uploads/2026/01/img_5907-e1769217863518.jpg
END:VEVENT
BEGIN:VEVENT
DTSTART;TZID=America/New_York:20261017T090000
DTEND;TZID=America/New_York:20261017T160000
DTSTAMP:20260302T183900
CREATED:20260124T013902Z
LAST-MODIFIED:20260124T013902Z
UID:10004120-1792227600-1792252800@things-to-lou.com
SUMMARY:Hot Glass MAKE IT! | glass blowing class | Pumpkins (multiple class times)
DESCRIPTION:It’s Fall! Make and decorate your own unique glass Pumpkin \nItems will be ready for pick-up one week after the class. \nMust be 18 or older\, or 15+ with a parent or guardian. \n  \n***description from website \n  \nGET TICKETS HERE
URL:https://things-to-lou.com/events/hot-glass-make-it-glass-blowing-class-pumpkins-multiple-class-times/2026-10-17/
LOCATION:ACME Artworks Hot Shop\, 953 S Clay ST\, Louisville\, KY\, 40203\, United States
CATEGORIES:Art,Workshop
ATTACH;FMTTYPE=image/jpeg:https://things-to-lou.com/wp-content/uploads/2026/01/img_5907-e1769217863518.jpg
END:VEVENT
BEGIN:VEVENT
DTSTART;TZID=America/New_York:20261024T090000
DTEND;TZID=America/New_York:20261024T160000
DTSTAMP:20260302T183900
CREATED:20260124T013902Z
LAST-MODIFIED:20260124T013902Z
UID:10004121-1792832400-1792857600@things-to-lou.com
SUMMARY:Hot Glass MAKE IT! | glass blowing class | Pumpkins (multiple class times)
DESCRIPTION:It’s Fall! Make and decorate your own unique glass Pumpkin \nItems will be ready for pick-up one week after the class. \nMust be 18 or older\, or 15+ with a parent or guardian. \n  \n***description from website \n  \nGET TICKETS HERE
URL:https://things-to-lou.com/events/hot-glass-make-it-glass-blowing-class-pumpkins-multiple-class-times/2026-10-24/
LOCATION:ACME Artworks Hot Shop\, 953 S Clay ST\, Louisville\, KY\, 40203\, United States
CATEGORIES:Art,Workshop
ATTACH;FMTTYPE=image/jpeg:https://things-to-lou.com/wp-content/uploads/2026/01/img_5907-e1769217863518.jpg
END:VEVENT
BEGIN:VEVENT
DTSTART;TZID=America/New_York:20261031T090000
DTEND;TZID=America/New_York:20261031T160000
DTSTAMP:20260302T183900
CREATED:20260124T013347Z
LAST-MODIFIED:20260124T013347Z
UID:10004117-1793437200-1793462400@things-to-lou.com
SUMMARY:Hot Glass MAKE IT! | glass blowing class | Jack O' Lanterns (multiple class times)
DESCRIPTION:It’s the Spooky Season! Make and decorate your own unique glass Jack O’ Lantern or Pumpkin. \nStudents must be 18+\, or 15+ if taken with a parent or guardian. \nItems will be available for pick up one week after the class. \n  \n**description from website \n  \nGET TICKETS HERE
URL:https://things-to-lou.com/events/hot-glass-make-it-glass-blowing-class-jack-o-lanterns-multiple-class-times/
LOCATION:ACME Artworks Hot Shop\, 953 S Clay ST\, Louisville\, KY\, 40203\, United States
CATEGORIES:Art,Workshop
ATTACH;FMTTYPE=image/jpeg:https://things-to-lou.com/wp-content/uploads/2026/01/img_5907-e1769217863518.jpg
END:VEVENT
BEGIN:VEVENT
DTSTART;TZID=America/New_York:20261107T090000
DTEND;TZID=America/New_York:20261107T160000
DTSTAMP:20260302T183900
CREATED:20260124T013902Z
LAST-MODIFIED:20260124T013902Z
UID:10004122-1794042000-1794067200@things-to-lou.com
SUMMARY:Hot Glass MAKE IT! | glass blowing class | Pumpkins (multiple class times)
DESCRIPTION:It’s Fall! Make and decorate your own unique glass Pumpkin \nItems will be ready for pick-up one week after the class. \nMust be 18 or older\, or 15+ with a parent or guardian. \n  \n***description from website \n  \nGET TICKETS HERE
URL:https://things-to-lou.com/events/hot-glass-make-it-glass-blowing-class-pumpkins-multiple-class-times/2026-11-07/
LOCATION:ACME Artworks Hot Shop\, 953 S Clay ST\, Louisville\, KY\, 40203\, United States
CATEGORIES:Art,Workshop
ATTACH;FMTTYPE=image/jpeg:https://things-to-lou.com/wp-content/uploads/2026/01/img_5907-e1769217863518.jpg
END:VEVENT
BEGIN:VEVENT
DTSTART;TZID=America/New_York:20261114T090000
DTEND;TZID=America/New_York:20261114T160000
DTSTAMP:20260302T183900
CREATED:20260124T013902Z
LAST-MODIFIED:20260124T013902Z
UID:10004123-1794646800-1794672000@things-to-lou.com
SUMMARY:Hot Glass MAKE IT! | glass blowing class | Pumpkins (multiple class times)
DESCRIPTION:It’s Fall! Make and decorate your own unique glass Pumpkin \nItems will be ready for pick-up one week after the class. \nMust be 18 or older\, or 15+ with a parent or guardian. \n  \n***description from website \n  \nGET TICKETS HERE
URL:https://things-to-lou.com/events/hot-glass-make-it-glass-blowing-class-pumpkins-multiple-class-times/2026-11-14/
LOCATION:ACME Artworks Hot Shop\, 953 S Clay ST\, Louisville\, KY\, 40203\, United States
CATEGORIES:Art,Workshop
ATTACH;FMTTYPE=image/jpeg:https://things-to-lou.com/wp-content/uploads/2026/01/img_5907-e1769217863518.jpg
END:VEVENT
BEGIN:VEVENT
DTSTART;TZID=America/New_York:20261121T090000
DTEND;TZID=America/New_York:20261121T160000
DTSTAMP:20260302T183900
CREATED:20260124T015054Z
LAST-MODIFIED:20260124T015054Z
UID:10004134-1795251600-1795276800@things-to-lou.com
SUMMARY:Hot Glass MAKE IT! | glass blowing class | ORNAMENTS AND FLOATS! (multiple class times)
DESCRIPTION:Make your own blown glass Orb. Students can make Ornaments\, Suncatchers\, or Floats. \nItems will be ready for pick-up one week after the class. \nMust be 18 or older\, or 15+ with a parent or guardian. \n  \n***Description from website \n  \nGET TICKETS HERE
URL:https://things-to-lou.com/events/hot-glass-make-it-glass-blowing-class-ornaments-and-floats-multiple-class-times/2026-11-21/
LOCATION:ACME Artworks Hot Shop\, 953 S Clay ST\, Louisville\, KY\, 40203\, United States
CATEGORIES:Art,Workshop
ATTACH;FMTTYPE=image/jpeg:https://things-to-lou.com/wp-content/uploads/2026/01/img_5906-e1769217847414.jpg
END:VEVENT
BEGIN:VEVENT
DTSTART;TZID=America/New_York:20261128T090000
DTEND;TZID=America/New_York:20261128T160000
DTSTAMP:20260302T183900
CREATED:20260124T015054Z
LAST-MODIFIED:20260124T015054Z
UID:10004135-1795856400-1795881600@things-to-lou.com
SUMMARY:Hot Glass MAKE IT! | glass blowing class | ORNAMENTS AND FLOATS! (multiple class times)
DESCRIPTION:Make your own blown glass Orb. Students can make Ornaments\, Suncatchers\, or Floats. \nItems will be ready for pick-up one week after the class. \nMust be 18 or older\, or 15+ with a parent or guardian. \n  \n***Description from website \n  \nGET TICKETS HERE
URL:https://things-to-lou.com/events/hot-glass-make-it-glass-blowing-class-ornaments-and-floats-multiple-class-times/2026-11-28/
LOCATION:ACME Artworks Hot Shop\, 953 S Clay ST\, Louisville\, KY\, 40203\, United States
CATEGORIES:Art,Workshop
ATTACH;FMTTYPE=image/jpeg:https://things-to-lou.com/wp-content/uploads/2026/01/img_5906-e1769217847414.jpg
END:VEVENT
BEGIN:VEVENT
DTSTART;TZID=America/New_York:20261205T090000
DTEND;TZID=America/New_York:20261205T160000
DTSTAMP:20260302T183900
CREATED:20260124T015054Z
LAST-MODIFIED:20260124T015054Z
UID:10004136-1796461200-1796486400@things-to-lou.com
SUMMARY:Hot Glass MAKE IT! | glass blowing class | ORNAMENTS AND FLOATS! (multiple class times)
DESCRIPTION:Make your own blown glass Orb. Students can make Ornaments\, Suncatchers\, or Floats. \nItems will be ready for pick-up one week after the class. \nMust be 18 or older\, or 15+ with a parent or guardian. \n  \n***Description from website \n  \nGET TICKETS HERE
URL:https://things-to-lou.com/events/hot-glass-make-it-glass-blowing-class-ornaments-and-floats-multiple-class-times/2026-12-05/
LOCATION:ACME Artworks Hot Shop\, 953 S Clay ST\, Louisville\, KY\, 40203\, United States
CATEGORIES:Art,Workshop
ATTACH;FMTTYPE=image/jpeg:https://things-to-lou.com/wp-content/uploads/2026/01/img_5906-e1769217847414.jpg
END:VEVENT
BEGIN:VEVENT
DTSTART;TZID=America/New_York:20261212T090000
DTEND;TZID=America/New_York:20261212T160000
DTSTAMP:20260302T183900
CREATED:20260124T015054Z
LAST-MODIFIED:20260124T015054Z
UID:10004137-1797066000-1797091200@things-to-lou.com
SUMMARY:Hot Glass MAKE IT! | glass blowing class | ORNAMENTS AND FLOATS! (multiple class times)
DESCRIPTION:Make your own blown glass Orb. Students can make Ornaments\, Suncatchers\, or Floats. \nItems will be ready for pick-up one week after the class. \nMust be 18 or older\, or 15+ with a parent or guardian. \n  \n***Description from website \n  \nGET TICKETS HERE
URL:https://things-to-lou.com/events/hot-glass-make-it-glass-blowing-class-ornaments-and-floats-multiple-class-times/2026-12-12/
LOCATION:ACME Artworks Hot Shop\, 953 S Clay ST\, Louisville\, KY\, 40203\, United States
CATEGORIES:Art,Workshop
ATTACH;FMTTYPE=image/jpeg:https://things-to-lou.com/wp-content/uploads/2026/01/img_5906-e1769217847414.jpg
END:VEVENT
BEGIN:VEVENT
DTSTART;TZID=America/New_York:20261219T090000
DTEND;TZID=America/New_York:20261219T160000
DTSTAMP:20260302T183900
CREATED:20260124T015054Z
LAST-MODIFIED:20260124T015054Z
UID:10004138-1797670800-1797696000@things-to-lou.com
SUMMARY:Hot Glass MAKE IT! | glass blowing class | ORNAMENTS AND FLOATS! (multiple class times)
DESCRIPTION:Make your own blown glass Orb. Students can make Ornaments\, Suncatchers\, or Floats. \nItems will be ready for pick-up one week after the class. \nMust be 18 or older\, or 15+ with a parent or guardian. \n  \n***Description from website \n  \nGET TICKETS HERE
URL:https://things-to-lou.com/events/hot-glass-make-it-glass-blowing-class-ornaments-and-floats-multiple-class-times/2026-12-19/
LOCATION:ACME Artworks Hot Shop\, 953 S Clay ST\, Louisville\, KY\, 40203\, United States
CATEGORIES:Art,Workshop
ATTACH;FMTTYPE=image/jpeg:https://things-to-lou.com/wp-content/uploads/2026/01/img_5906-e1769217847414.jpg
END:VEVENT
END:VCALENDAR