BEGIN:VCALENDAR
VERSION:2.0
PRODID:-//Things To Lou - ECPv6.15.20//NONSGML v1.0//EN
CALSCALE:GREGORIAN
METHOD:PUBLISH
X-WR-CALNAME:Things To Lou
X-ORIGINAL-URL:https://things-to-lou.com
X-WR-CALDESC:Events for Things To Lou
REFRESH-INTERVAL;VALUE=DURATION:PT1H
X-Robots-Tag:noindex
X-PUBLISHED-TTL:PT1H
BEGIN:VTIMEZONE
TZID:America/New_York
BEGIN:DAYLIGHT
TZOFFSETFROM:-0500
TZOFFSETTO:-0400
TZNAME:EDT
DTSTART:20240310T070000
END:DAYLIGHT
BEGIN:STANDARD
TZOFFSETFROM:-0400
TZOFFSETTO:-0500
TZNAME:EST
DTSTART:20241103T060000
END:STANDARD
BEGIN:DAYLIGHT
TZOFFSETFROM:-0500
TZOFFSETTO:-0400
TZNAME:EDT
DTSTART:20250309T070000
END:DAYLIGHT
BEGIN:STANDARD
TZOFFSETFROM:-0400
TZOFFSETTO:-0500
TZNAME:EST
DTSTART:20251102T060000
END:STANDARD
BEGIN:DAYLIGHT
TZOFFSETFROM:-0500
TZOFFSETTO:-0400
TZNAME:EDT
DTSTART:20260308T070000
END:DAYLIGHT
BEGIN:STANDARD
TZOFFSETFROM:-0400
TZOFFSETTO:-0500
TZNAME:EST
DTSTART:20261101T060000
END:STANDARD
END:VTIMEZONE
BEGIN:VEVENT
DTSTART;TZID=America/New_York:20251205T160000
DTEND;TZID=America/New_York:20251205T220000
DTSTAMP:20260423T035007
CREATED:20251202T073414Z
LAST-MODIFIED:20251202T073414Z
UID:10003271-1764950400-1764972000@things-to-lou.com
SUMMARY:8th Annual TOYS FOR TOTS Throw Down!
DESCRIPTION:It’s our 8th annual Toys For Tots throw down! \n•Bring a toy\, get a ticket to win\n•Wear an ugly sweater and enter the contest\n•Beer specials from all of our awesome sponsors\n•Live music @9pm \nSo come on out & have fun with us for a great cause! \n**description from Facebook event
URL:https://things-to-lou.com/events/8th-annual-toys-for-tots-throw-down/
LOCATION:Joe’s Older Than Dirt\, 8131 New Lagrange Road\, Louisville\, KY\, 40222\, United States
CATEGORIES:Beer / Brewery,Charity Fundraiser,Food & Drink,Holiday Season
END:VEVENT
BEGIN:VEVENT
DTSTART;TZID=America/New_York:20251205T193000
DTEND;TZID=America/New_York:20251205T210000
DTSTAMP:20260423T035007
CREATED:20251202T071645Z
LAST-MODIFIED:20251202T071645Z
UID:10003267-1764963000-1764968400@things-to-lou.com
SUMMARY:Dec. 5 Clarksville Comedy Open Mic
DESCRIPTION:Join Louisville Laughs as we hold our first event at a new venue — the TEN20 Clarksville Taproom. \nThe space is just across the Ohio River from downtown Louisville. \nJoin us for a night of laughter\, craft beer\, and pizza. \n  \n***description from website
URL:https://things-to-lou.com/events/dec-5-clarksville-comedy-open-mic/
LOCATION:ten20 Craft Brewery – Clarksville\, 1400 Main Street\, Clarksville\, KY\, 47129\, United States
CATEGORIES:Beer / Brewery,Comedy,Food & Drink
END:VEVENT
BEGIN:VEVENT
DTSTART;TZID=America/New_York:20251207T140000
DTEND;TZID=America/New_York:20251207T180000
DTSTAMP:20260423T035007
CREATED:20251202T184123Z
LAST-MODIFIED:20251202T184123Z
UID:10003274-1765116000-1765130400@things-to-lou.com
SUMMARY:4th Annual OLB Christmas Cookie 5K
DESCRIPTION:Lace up\, layer up\, and join us for our favorite holiday tradition: the 4th Annual OLB Christmas Cookie 5K Run. \nYour $30 registration includes a shirt\, a beer\, and a donation to the Ronald McDonald House Charities of Kentuckiana. \nThis year’s run honors our friend and Run Club regular\, Heather Nicole. Heather’s kindness\, humor\, and signature purple leggings have cheered on runners old and new. In her honor\, a portion of proceeds will support RMHCK\, and we’ll be collecting toys to brighten the holidays for local families. \nBring a new toy\, game\, or puzzle to drop off anytime between now and race day. Then join us for a 5K loop through the Historic Old Louisville neighborhood and Central Park. \nNo timing chips\, no pressure: just good people\, good beer\, and plenty of cookies at the finish line. \nSign up before November 20 to guarantee a t-shirt! \n\nDETAILS: \n🎄 4th Annual OLB Christmas Cookie 5K Run 🎄 \nSunday\, December 7 | 2–6PM | Check-in starts at 1PM \nOld Louisville Brewery | 625 W Magnolia Ave | $30 Registration \nsponsored by Old Louisville Brewery\, Jacob M. Mercier Realtor\, and BSQRD \n**Facebook event
URL:https://things-to-lou.com/events/4th-annual-olb-christmas-cookie-5k/
LOCATION:Old Louisville Brewery\, 625 W Magnolia Ave\, Louisville\, KY\, 40208\, United States
CATEGORIES:Beer / Brewery,Exercise,Running
END:VEVENT
END:VCALENDAR