BEGIN:VCALENDAR
VERSION:2.0
PRODID:-//Things To Lou - ECPv6.15.20//NONSGML v1.0//EN
CALSCALE:GREGORIAN
METHOD:PUBLISH
X-ORIGINAL-URL:https://things-to-lou.com
X-WR-CALDESC:Events for Things To Lou
REFRESH-INTERVAL;VALUE=DURATION:PT1H
X-Robots-Tag:noindex
X-PUBLISHED-TTL:PT1H
BEGIN:VTIMEZONE
TZID:America/New_York
BEGIN:DAYLIGHT
TZOFFSETFROM:-0500
TZOFFSETTO:-0400
TZNAME:EDT
DTSTART:20250309T070000
END:DAYLIGHT
BEGIN:STANDARD
TZOFFSETFROM:-0400
TZOFFSETTO:-0500
TZNAME:EST
DTSTART:20251102T060000
END:STANDARD
BEGIN:DAYLIGHT
TZOFFSETFROM:-0500
TZOFFSETTO:-0400
TZNAME:EDT
DTSTART:20260308T070000
END:DAYLIGHT
BEGIN:STANDARD
TZOFFSETFROM:-0400
TZOFFSETTO:-0500
TZNAME:EST
DTSTART:20261101T060000
END:STANDARD
BEGIN:DAYLIGHT
TZOFFSETFROM:-0500
TZOFFSETTO:-0400
TZNAME:EDT
DTSTART:20270314T070000
END:DAYLIGHT
BEGIN:STANDARD
TZOFFSETFROM:-0400
TZOFFSETTO:-0500
TZNAME:EST
DTSTART:20271107T060000
END:STANDARD
END:VTIMEZONE
BEGIN:VEVENT
DTSTART;TZID=America/New_York:20260202T180000
DTEND;TZID=America/New_York:20260202T190000
DTSTAMP:20260420T010303
CREATED:20251231T070129Z
LAST-MODIFIED:20251231T070129Z
UID:10003480-1770055200-1770058800@things-to-lou.com
SUMMARY:Marketplace Hall Yoga (all levels)
DESCRIPTION:Yoga at West Sixth NuLu \n6 – 7pm \nEvent occurs weekly on Monday \nMarketplace Hall Yoga with Harley Gilman. Donation-based\, beginner friendly flow — just come with a mat and any props you’d like to have \nNo registration required \nAll levels are welcome
URL:https://things-to-lou.com/events/marketplace-hall-yoga-all-levels/2026-02-02/
LOCATION:West 6th Nulu\, 817 E Market St\, Suite 101\, Louisville\, KY\, 40206\, United States
CATEGORIES:Beer / Brewery,Exercise
END:VEVENT
BEGIN:VEVENT
DTSTART;TZID=America/New_York:20260205T180000
DTEND;TZID=America/New_York:20260205T220000
DTSTAMP:20260420T010303
CREATED:20260120T034547Z
LAST-MODIFIED:20260120T034547Z
UID:10004046-1770314400-1770328800@things-to-lou.com
SUMMARY:KSBCF Braille and Ales
DESCRIPTION:Join us for a night of knowledge and good beer. We will have a brewer guided beer and hot dog tasting from our friends at Trellis Brewing. We will also have stations to learn more about living in Louisville as a blind or low vision person. From Braille to Assistive Technology to White Canes\, come learn and have fun! \nThere is plenty of free parking at the brewery. \nOrganized by Kentucky School for the Blind Charitable Foundation\nSince 1984\, we’ve set out to level the educational playing field for blind and visually impaired students\, so they have the same advantages in the classroom as their sighted peers. \nSometimes it’s as easy as providing a braille writer to a budding poet or connecting families to resources. Sometimes it’s as lifechanging as awarding scholarships to promising students or funding grants to those who share our mission. It’s all in an effort to make the future brighter for visually impaired student and those lucky enough to work with them. \n***description from event website
URL:https://things-to-lou.com/events/ksbcf-braille-and-ales/
LOCATION:Trellis Brewing\, 827 Logan Street\, Louisville\, KY\, 40204\, United States
CATEGORIES:Accessibility,Beer / Brewery,Food & Drink
END:VEVENT
BEGIN:VEVENT
DTSTART;TZID=America/New_York:20260205T183000
DTEND;TZID=America/New_York:20260205T193000
DTSTAMP:20260420T010303
CREATED:20260124T023753Z
LAST-MODIFIED:20260124T023753Z
UID:10004140-1770316200-1770319800@things-to-lou.com
SUMMARY:Ten20 Run Club | one\, three\, & five mile routes + all are welcome
DESCRIPTION:We may not know how much snow is going to fall this weekend\, but we do know that run club is tonight and is always fun (and currently snow free). \nCome out tonight and join us for one last run before the brutal cold and snow move in this weekend. \n🔸  Remember to download our new app (link in bio) to stay up to date on any and all things run club and\, most importantly\, to check-in to be eligible for rewards! \n– 3 runs = $5 off drink\n– 12 runs = run club shirt\n– more to be announced \nYou can also quickly access routes\, event calendars\, and important updates; all from your phone. \nTEN20 Run Club – every Thursday at 6:30pm at TEN20 Craft Brewery located at 1020 E. Washington St. \nWe have 1\, 3\, and 5 mile routes and ALL ARE WELCOME!!!! \n#run #running #fleetfeet #beerrun #runclub \n***Description from IG Post \nMORE INFO ON THE CLUB
URL:https://things-to-lou.com/events/ten20-run-club-one-three-five-mile-routes-all-are-welcome/2026-02-05/
LOCATION:ten20 Craft Brewery\, 1020 E Washington Street\, Louisville\, KY\, 40206\, United States
CATEGORIES:Beer / Brewery,Exercise,Running,Wellness
END:VEVENT
BEGIN:VEVENT
DTSTART;TZID=America/New_York:20260209T180000
DTEND;TZID=America/New_York:20260209T190000
DTSTAMP:20260420T010303
CREATED:20251231T070129Z
LAST-MODIFIED:20251231T070129Z
UID:10003481-1770660000-1770663600@things-to-lou.com
SUMMARY:Marketplace Hall Yoga (all levels)
DESCRIPTION:Yoga at West Sixth NuLu \n6 – 7pm \nEvent occurs weekly on Monday \nMarketplace Hall Yoga with Harley Gilman. Donation-based\, beginner friendly flow — just come with a mat and any props you’d like to have \nNo registration required \nAll levels are welcome
URL:https://things-to-lou.com/events/marketplace-hall-yoga-all-levels/2026-02-09/
LOCATION:West 6th Nulu\, 817 E Market St\, Suite 101\, Louisville\, KY\, 40206\, United States
CATEGORIES:Beer / Brewery,Exercise
END:VEVENT
BEGIN:VEVENT
DTSTART;TZID=America/New_York:20260209T190000
DTEND;TZID=America/New_York:20260209T210000
DTSTAMP:20260420T010303
CREATED:20260108T181917Z
LAST-MODIFIED:20260108T181917Z
UID:10003863-1770663600-1770670800@things-to-lou.com
SUMMARY:Pre-Dating: FIND YOUR VALENTINE Speed Dating for Singles Ages 37 - 52
DESCRIPTION:Looking to meet fellow Louisville singles ages 37 to 52 at our special FIND YOUR VALENTINE Speed Dating event? \nJoin us for a fun and engaging evening at Trellis Brewing. Enjoy relaxed 6 minute conversations with up to 14 potential matches in a warm\, welcoming atmosphere. \nWhether you are seeking friendship\, romance\, or something more meaningful\, this is a great way to connect in person with no apps and no pressure\, just real conversation. \nMark your calendar for Monday\, February 9 and get ready for an evening filled with laughs\, great company\, and the chance to meet someone special. \nWith more than 38\,000 events hosted\, we know how to create the perfect setting for genuine connections. \nYou never really know where cupids arrow is going to strike next so why not give this a try? Do not miss out on a night that could lead to something great. ♥
URL:https://things-to-lou.com/events/pre-dating-find-your-valentine-speed-dating-for-singles-ages-37-52/
LOCATION:Trellis Brewing\, 827 Logan Street\, Louisville\, KY\, 40204\, United States
CATEGORIES:Beer / Brewery,Dating Event
END:VEVENT
BEGIN:VEVENT
DTSTART;TZID=America/New_York:20260209T190000
DTEND;TZID=America/New_York:20260209T210000
DTSTAMP:20260420T010303
CREATED:20260116T233738Z
LAST-MODIFIED:20260116T233738Z
UID:10004012-1770663600-1770670800@things-to-lou.com
SUMMARY:FIND YOUR VALENTINE SPEED DATING: Singles Age 37-52
DESCRIPTION:Meet up to 12 potential matches. Join the thousands of people that have found LOVE at PRE-DATING events. Will you be our next success story? \nSPECIAL EVENT: FIND YOUR VALENTINE SPEED DATING FOR LOUISVILLE KY SINGLES AGES 37-52\nPRE-DATING The World’s Oldest\, Largest\, & Best Speed Dating Company\, Since 2001! Are you ready to make something happen? \nTry the modern\, civilized way to meet someone wonderful. Singles across the country know the best way to meet – our IRL speed dating events. Simple\, easy\, effective. Don’t waste time swiping left and right hoping for love to find you\, the person you’re looking for may be at our PRE-DATING event. Get a ticket and find out! \nHOW IT WORKS\nPRE-DATING introduces you to at least 5 and up to 12 potential matches\, all local\, quality people. You’ll talk to each one during 6-minute “pre-dates” – just enough time to find out if you want to talk more and see if there’s a spark. Tell us which person gave you those excited butterflies in your stomach\, and we do the rest! You’ll love the exciting energy and friendly vibe at a PRE-DATING singles event. \nTrust the experts at PRE-DATING to host a wonderful evening full of excitement and brewing romance — a fun night out in a safe environment. You’ll love this very efficient and fast way to date. No pressure\, no games\, just a great time. \nPRE-DATING has hosted +38\,000 speed dating events! Join the thousands of people that have found their person at our events. Will you be our next success story? \nPRE-DATING events have been featured on CNN\, BBC\, The Wall Street Journal\, CBS\, Axios\, Bravo\, TLC’s 90 Day Finace The Single Life\, Miami New Times\, Tampa Bay Times\, Southbend Times\, Citylink Magazine\, Essence\, Best of Baltimore\, AM New York\, Chicago Tribune\, WINK FM\, Woman’s World Magazine\, and 100s more! \n  \nMore Louisville Kentucky PRE-DATING Singles Events
URL:https://things-to-lou.com/events/find-your-valentine-speed-dating-singles-age-37-52/
LOCATION:Trellis Brewing\, 827 Logan Street\, Louisville\, KY\, 40204\, United States
CATEGORIES:Beer / Brewery,Dating Event
END:VEVENT
BEGIN:VEVENT
DTSTART;TZID=America/New_York:20260212T183000
DTEND;TZID=America/New_York:20260212T193000
DTSTAMP:20260420T010303
CREATED:20260124T023753Z
LAST-MODIFIED:20260124T023753Z
UID:10004141-1770921000-1770924600@things-to-lou.com
SUMMARY:Ten20 Run Club | one\, three\, & five mile routes + all are welcome
DESCRIPTION:We may not know how much snow is going to fall this weekend\, but we do know that run club is tonight and is always fun (and currently snow free). \nCome out tonight and join us for one last run before the brutal cold and snow move in this weekend. \n🔸  Remember to download our new app (link in bio) to stay up to date on any and all things run club and\, most importantly\, to check-in to be eligible for rewards! \n– 3 runs = $5 off drink\n– 12 runs = run club shirt\n– more to be announced \nYou can also quickly access routes\, event calendars\, and important updates; all from your phone. \nTEN20 Run Club – every Thursday at 6:30pm at TEN20 Craft Brewery located at 1020 E. Washington St. \nWe have 1\, 3\, and 5 mile routes and ALL ARE WELCOME!!!! \n#run #running #fleetfeet #beerrun #runclub \n***Description from IG Post \nMORE INFO ON THE CLUB
URL:https://things-to-lou.com/events/ten20-run-club-one-three-five-mile-routes-all-are-welcome/2026-02-12/
LOCATION:ten20 Craft Brewery\, 1020 E Washington Street\, Louisville\, KY\, 40206\, United States
CATEGORIES:Beer / Brewery,Exercise,Running,Wellness
END:VEVENT
BEGIN:VEVENT
DTSTART;TZID=America/New_York:20260215T120000
DTEND;TZID=America/New_York:20260215T150000
DTSTAMP:20260420T010303
CREATED:20260130T172039Z
LAST-MODIFIED:20260130T172143Z
UID:10004204-1771156800-1771167600@things-to-lou.com
SUMMARY:Girl Fight Wrestling presents: YOUR LOST VALENTINE
DESCRIPTION:Join us for our return on February 15th! We will have a custom cocktail and mocktail for the show! \nPlus the brewery will have other drinks and food available! \n\nDoors: 12\nBell: 12:30\n\n  \nGet Tickets Here \n\nGirl Fight Wrestling: \n\nInstagram\nFacebook\nFacebook Event
URL:https://things-to-lou.com/events/girl-fight-wrestling-presents-your-lost-valentine/
LOCATION:Our Lady of Perpetual Hops\, 300 Foundation Court\, New Albany\, KY\, 47150\, United States
CATEGORIES:Beer / Brewery,Entertainment,Wrestling / MMA
ATTACH;FMTTYPE=image/jpeg:https://things-to-lou.com/wp-content/uploads/2026/01/a5f7c5b8-2562-4583-871d-c96a6de1a5e6-e1769793726446.jpg
END:VEVENT
BEGIN:VEVENT
DTSTART;TZID=America/New_York:20260216T180000
DTEND;TZID=America/New_York:20260216T190000
DTSTAMP:20260420T010303
CREATED:20251231T070129Z
LAST-MODIFIED:20251231T070129Z
UID:10003482-1771264800-1771268400@things-to-lou.com
SUMMARY:Marketplace Hall Yoga (all levels)
DESCRIPTION:Yoga at West Sixth NuLu \n6 – 7pm \nEvent occurs weekly on Monday \nMarketplace Hall Yoga with Harley Gilman. Donation-based\, beginner friendly flow — just come with a mat and any props you’d like to have \nNo registration required \nAll levels are welcome
URL:https://things-to-lou.com/events/marketplace-hall-yoga-all-levels/2026-02-16/
LOCATION:West 6th Nulu\, 817 E Market St\, Suite 101\, Louisville\, KY\, 40206\, United States
CATEGORIES:Beer / Brewery,Exercise
END:VEVENT
BEGIN:VEVENT
DTSTART;TZID=America/New_York:20260219T183000
DTEND;TZID=America/New_York:20260219T193000
DTSTAMP:20260420T010303
CREATED:20260124T023753Z
LAST-MODIFIED:20260124T023753Z
UID:10004142-1771525800-1771529400@things-to-lou.com
SUMMARY:Ten20 Run Club | one\, three\, & five mile routes + all are welcome
DESCRIPTION:We may not know how much snow is going to fall this weekend\, but we do know that run club is tonight and is always fun (and currently snow free). \nCome out tonight and join us for one last run before the brutal cold and snow move in this weekend. \n🔸  Remember to download our new app (link in bio) to stay up to date on any and all things run club and\, most importantly\, to check-in to be eligible for rewards! \n– 3 runs = $5 off drink\n– 12 runs = run club shirt\n– more to be announced \nYou can also quickly access routes\, event calendars\, and important updates; all from your phone. \nTEN20 Run Club – every Thursday at 6:30pm at TEN20 Craft Brewery located at 1020 E. Washington St. \nWe have 1\, 3\, and 5 mile routes and ALL ARE WELCOME!!!! \n#run #running #fleetfeet #beerrun #runclub \n***Description from IG Post \nMORE INFO ON THE CLUB
URL:https://things-to-lou.com/events/ten20-run-club-one-three-five-mile-routes-all-are-welcome/2026-02-19/
LOCATION:ten20 Craft Brewery\, 1020 E Washington Street\, Louisville\, KY\, 40206\, United States
CATEGORIES:Beer / Brewery,Exercise,Running,Wellness
END:VEVENT
BEGIN:VEVENT
DTSTART;TZID=America/New_York:20260223T180000
DTEND;TZID=America/New_York:20260223T190000
DTSTAMP:20260420T010303
CREATED:20251231T070129Z
LAST-MODIFIED:20251231T070129Z
UID:10003483-1771869600-1771873200@things-to-lou.com
SUMMARY:Marketplace Hall Yoga (all levels)
DESCRIPTION:Yoga at West Sixth NuLu \n6 – 7pm \nEvent occurs weekly on Monday \nMarketplace Hall Yoga with Harley Gilman. Donation-based\, beginner friendly flow — just come with a mat and any props you’d like to have \nNo registration required \nAll levels are welcome
URL:https://things-to-lou.com/events/marketplace-hall-yoga-all-levels/2026-02-23/
LOCATION:West 6th Nulu\, 817 E Market St\, Suite 101\, Louisville\, KY\, 40206\, United States
CATEGORIES:Beer / Brewery,Exercise
END:VEVENT
BEGIN:VEVENT
DTSTART;TZID=America/New_York:20260226T183000
DTEND;TZID=America/New_York:20260226T193000
DTSTAMP:20260420T010303
CREATED:20260124T023753Z
LAST-MODIFIED:20260124T023753Z
UID:10004143-1772130600-1772134200@things-to-lou.com
SUMMARY:Ten20 Run Club | one\, three\, & five mile routes + all are welcome
DESCRIPTION:We may not know how much snow is going to fall this weekend\, but we do know that run club is tonight and is always fun (and currently snow free). \nCome out tonight and join us for one last run before the brutal cold and snow move in this weekend. \n🔸  Remember to download our new app (link in bio) to stay up to date on any and all things run club and\, most importantly\, to check-in to be eligible for rewards! \n– 3 runs = $5 off drink\n– 12 runs = run club shirt\n– more to be announced \nYou can also quickly access routes\, event calendars\, and important updates; all from your phone. \nTEN20 Run Club – every Thursday at 6:30pm at TEN20 Craft Brewery located at 1020 E. Washington St. \nWe have 1\, 3\, and 5 mile routes and ALL ARE WELCOME!!!! \n#run #running #fleetfeet #beerrun #runclub \n***Description from IG Post \nMORE INFO ON THE CLUB
URL:https://things-to-lou.com/events/ten20-run-club-one-three-five-mile-routes-all-are-welcome/2026-02-26/
LOCATION:ten20 Craft Brewery\, 1020 E Washington Street\, Louisville\, KY\, 40206\, United States
CATEGORIES:Beer / Brewery,Exercise,Running,Wellness
END:VEVENT
END:VCALENDAR