BEGIN:VCALENDAR
VERSION:2.0
PRODID:-//Things To Lou - ECPv6.15.20//NONSGML v1.0//EN
CALSCALE:GREGORIAN
METHOD:PUBLISH
X-WR-CALNAME:Things To Lou
X-ORIGINAL-URL:https://things-to-lou.com
X-WR-CALDESC:Events for Things To Lou
REFRESH-INTERVAL;VALUE=DURATION:PT1H
X-Robots-Tag:noindex
X-PUBLISHED-TTL:PT1H
BEGIN:VTIMEZONE
TZID:America/New_York
BEGIN:DAYLIGHT
TZOFFSETFROM:-0500
TZOFFSETTO:-0400
TZNAME:EDT
DTSTART:20250309T070000
END:DAYLIGHT
BEGIN:STANDARD
TZOFFSETFROM:-0400
TZOFFSETTO:-0500
TZNAME:EST
DTSTART:20251102T060000
END:STANDARD
BEGIN:DAYLIGHT
TZOFFSETFROM:-0500
TZOFFSETTO:-0400
TZNAME:EDT
DTSTART:20260308T070000
END:DAYLIGHT
BEGIN:STANDARD
TZOFFSETFROM:-0400
TZOFFSETTO:-0500
TZNAME:EST
DTSTART:20261101T060000
END:STANDARD
BEGIN:DAYLIGHT
TZOFFSETFROM:-0500
TZOFFSETTO:-0400
TZNAME:EDT
DTSTART:20270314T070000
END:DAYLIGHT
BEGIN:STANDARD
TZOFFSETFROM:-0400
TZOFFSETTO:-0500
TZNAME:EST
DTSTART:20271107T060000
END:STANDARD
END:VTIMEZONE
BEGIN:VEVENT
DTSTART;TZID=America/New_York:20260425T170000
DTEND;TZID=America/New_York:20260425T210000
DTSTAMP:20260425T204111
CREATED:20260424T165819Z
LAST-MODIFIED:20260424T165942Z
UID:10005050-1777136400-1777150800@things-to-lou.com
SUMMARY:TAILS & ALES | hosted by the Jake Luxemburger Foundation | sponsored by Houndstown
DESCRIPTION:🐾🍻 TAILS & ALES is almost here!! 🍻🐾 \nGet ready for one of the BEST nights of the season — full of wagging tails\, cold drinks\, and good vibes! \nJoin us April 25th from 5–9 PM at 3rd Turn Oldham Gardens for a family-friendly event you won’t want to miss: \n✨ Raffles\n🎶 Great music\n🌮 Delicious food\n🎈 Tons of kid-friendly activities \nThis amazing event is hosted by the Jake Luxemburger Foundation\, sponsored by our friends at Houndstown\, and benefits our rescue 💚 \nAnd of course… the real stars of the show 🐶 \nWe’ll have plenty of adoptable puppies and dogs on site just waiting to meet you — your new best friend might be there! \nGrab your friends\, bring the family\, and come support rescue in the most fun way possible \n***description from Facebook post
URL:https://things-to-lou.com/events/25136/
LOCATION:3rd Turn Brewing: Oldham Gardens\, 6300 Old Lagrange Rd\, Crestwood\, KY\, 40014\, United States
CATEGORIES:Beer / Brewery,Charity Fundraiser,Family & Children,Pets
ATTACH;FMTTYPE=image/jpeg:https://things-to-lou.com/wp-content/uploads/2026/04/17f043c5-4749-40d3-8dba-aec3180d08eb-e1777049261721.jpg
END:VEVENT
END:VCALENDAR