BEGIN:VCALENDAR
VERSION:2.0
PRODID:-//Things To Lou - ECPv6.15.20//NONSGML v1.0//EN
CALSCALE:GREGORIAN
METHOD:PUBLISH
X-ORIGINAL-URL:https://things-to-lou.com
X-WR-CALDESC:Events for Things To Lou
REFRESH-INTERVAL;VALUE=DURATION:PT1H
X-Robots-Tag:noindex
X-PUBLISHED-TTL:PT1H
BEGIN:VTIMEZONE
TZID:America/New_York
BEGIN:DAYLIGHT
TZOFFSETFROM:-0500
TZOFFSETTO:-0400
TZNAME:EDT
DTSTART:20250309T070000
END:DAYLIGHT
BEGIN:STANDARD
TZOFFSETFROM:-0400
TZOFFSETTO:-0500
TZNAME:EST
DTSTART:20251102T060000
END:STANDARD
BEGIN:DAYLIGHT
TZOFFSETFROM:-0500
TZOFFSETTO:-0400
TZNAME:EDT
DTSTART:20260308T070000
END:DAYLIGHT
BEGIN:STANDARD
TZOFFSETFROM:-0400
TZOFFSETTO:-0500
TZNAME:EST
DTSTART:20261101T060000
END:STANDARD
BEGIN:DAYLIGHT
TZOFFSETFROM:-0500
TZOFFSETTO:-0400
TZNAME:EDT
DTSTART:20270314T070000
END:DAYLIGHT
BEGIN:STANDARD
TZOFFSETFROM:-0400
TZOFFSETTO:-0500
TZNAME:EST
DTSTART:20271107T060000
END:STANDARD
END:VTIMEZONE
BEGIN:VEVENT
DTSTART;TZID=America/New_York:20260213T113000
DTEND;TZID=America/New_York:20260213T123000
DTSTAMP:20260425T172300
CREATED:20260123T012258Z
LAST-MODIFIED:20260123T012258Z
UID:10004106-1770982200-1770985800@things-to-lou.com
SUMMARY:Cupid's Crush: a valentine cocktail class | Bulleit Distilling
DESCRIPTION:For the love of bourbon – Book Now! This cocktail class sells out every year\, so we’re now offering three days to choose from. \nThis is a fun\, interactive class in a group setting\, perfect for a pair or a group of friends! \nFri 2/13\, Sat 2/14\, Sun 2/15 \nFor reservations\, visit our website. \n***Description from IG Post \n\nGrab your Valentine and add some spice to your cocktail skills! Learn proper tools\, techniques\, and flavor balance while you create a delicious rye whiskey cocktail. \nSweet treat charcuterie and take home gift included. \nAt a glance \n\n1 hour\n2 – 10 Guests per booking\nFeb 13 – 11:30am\, 2:30pm\nFeb 14 – 2:30pm\nFeb 15 – 2:30pm\n\n 
URL:https://things-to-lou.com/events/cupids-crush-a-valentine-cocktail-class-bulleit-distilling/2026-02-13/1/
LOCATION:Bulleit Distilling Co Visitor Center\, 3464 Benson Pike\, Shelbyville\, KY\, 40065\, United States
CATEGORIES:Bourbon,Mixology,Workshop
END:VEVENT
BEGIN:VEVENT
DTSTART;TZID=America/New_York:20260213T143000
DTEND;TZID=America/New_York:20260213T153000
DTSTAMP:20260425T172300
CREATED:20260123T012258Z
LAST-MODIFIED:20260123T012258Z
UID:10004107-1770993000-1770996600@things-to-lou.com
SUMMARY:Cupid's Crush: a valentine cocktail class | Bulleit Distilling
DESCRIPTION:For the love of bourbon – Book Now! This cocktail class sells out every year\, so we’re now offering three days to choose from. \nThis is a fun\, interactive class in a group setting\, perfect for a pair or a group of friends! \nFri 2/13\, Sat 2/14\, Sun 2/15 \nFor reservations\, visit our website. \n***Description from IG Post \n\nGrab your Valentine and add some spice to your cocktail skills! Learn proper tools\, techniques\, and flavor balance while you create a delicious rye whiskey cocktail. \nSweet treat charcuterie and take home gift included. \nAt a glance \n\n1 hour\n2 – 10 Guests per booking\nFeb 13 – 11:30am\, 2:30pm\nFeb 14 – 2:30pm\nFeb 15 – 2:30pm\n\n 
URL:https://things-to-lou.com/events/cupids-crush-a-valentine-cocktail-class-bulleit-distilling/2026-02-13/2/
LOCATION:Bulleit Distilling Co Visitor Center\, 3464 Benson Pike\, Shelbyville\, KY\, 40065\, United States
CATEGORIES:Bourbon,Mixology,Workshop
END:VEVENT
BEGIN:VEVENT
DTSTART;TZID=America/New_York:20260213T160000
DTEND;TZID=America/New_York:20260213T180000
DTSTAMP:20260425T172300
CREATED:20260210T064350Z
LAST-MODIFIED:20260210T064406Z
UID:10004710-1770998400-1771005600@things-to-lou.com
SUMMARY:Grand Opening: Cheers Wine & Spirits – Forest Green
DESCRIPTION:🚨🔥 LOUISVILLE — DON’T BLINK 🔥🚨 \nTHIS. IS. IT. \nCheers Wine & Spirits – Forest Green is having GRAND OPENING and we’re going ALL IN 🥃🔥 \n📅 FEBRUARY 13TH\n⏰ 4PM – 6PM\n📍 10041 Forest Green BLVD | LOUISVILLE\, KY \n💎 WHAT’S GOING DOWN:\n🔥 RARE & ALLOCATED BOTTLE RAFFLES\n🎟️ ONE TICKET PER PERSON FROM 9AM .\n⏰ RAFFLE DRAWS START AT 6PM .\n🥃 DISTRIBUTOR TASTINGS 4PM to 6PM\n🎁 FREE GIVEAWAYS\n🍾 STACKED BOURBON & SPIRITS LINEUP \n👇👇👇\nTAG your crew\nSHARE this post\nPULL UP READY \nLet’s make this a night to remember 🥂🔥 \nCHEERS WINE AND SPIRITS FOREST GREEN\n10041 FOREST GREEN BLVD\nLOUISVILLE KENTUCKY 40223 \n#CheersForestGreen #BourbonDrop #AllocatedBourbon #LouisvilleWhiskey #GrandOpening \n  \n***description from IG post
URL:https://things-to-lou.com/events/grand-opening-cheers-wine-spirits/
LOCATION:Cheers Wine & Spirits Forest Green\, 10041 Forest Green Blvd\, Louisville\, KY\, 40223\, United States
CATEGORIES:Bourbon,Food & Drink
END:VEVENT
BEGIN:VEVENT
DTSTART;TZID=America/New_York:20260213T170000
DTEND;TZID=America/New_York:20260214T000000
DTSTAMP:20260425T172300
CREATED:20260206T050217Z
LAST-MODIFIED:20260206T050217Z
UID:10004675-1771002000-1771027200@things-to-lou.com
SUMMARY:Valentines & Galentines Evening
DESCRIPTION:Please join us for an intimate speakeasy cocktail bar for Valentine’s & Galentine’s Evening: \n\n2 paid cocktails for $26 \n\n“Dipped In Love”\n\nA chocolate dipped strawberry Old Fashioned\n\n\n“The Velvet Kiss”\n\nPolish vodka\, spiced pear liqueur\, tart cherry juice\, cinnamon\, and cardamom bitters\n\n\n\n  \nSparkling wine with strawberry \n\n$7 a glass or $36 a bottle\n\n  \n“Lovers and Friends” shot \n\n$8\nTequila\, watermelon puree\, lime\, fire tincture\, tajin\n\n\nDates: \n\nFeb 12 – 15\, 2026\n\nTime:\n\nSipping Room –    Monday-Sunday 11AM-7PM\nSpeakeasy –    Thursday-Saturday 5PM-12AM\, Sunday-5PM-10PM\n\nLocation:\n\nCirca 1856\, 821 E. Market St\, Louisville\, KY\n\n\n  \nOld-fashioned romance. Shaken not stirred.
URL:https://things-to-lou.com/events/valentines-galentines-evening/2026-02-13/
LOCATION:Circa 1856 Louisville\, Louisville\, KY\, 40202\, United States
CATEGORIES:Bourbon,Food & Drink
ATTACH;FMTTYPE=image/png:https://things-to-lou.com/wp-content/uploads/2026/02/Valentines-Galentines-week-long-event-e1770353193534.png
END:VEVENT
BEGIN:VEVENT
DTSTART;TZID=America/New_York:20260213T183000
DTEND;TZID=America/New_York:20260213T220000
DTSTAMP:20260425T172300
CREATED:20260127T060759Z
LAST-MODIFIED:20260127T060759Z
UID:10004190-1771007400-1771020000@things-to-lou.com
SUMMARY:Fork & Barrel: Bourbon Dinner
DESCRIPTION:Join us for a behind the scenes tasting event with Buffalo Trace Distillery and Fork & Barrel. \nCome enjoy a unique dining experience with the Buffalo Trace Family and custom pairings created by Fork & Barrel. \nAs you arrive sip on our custom Where the Buffalo Roam Cocktail as you begin your journey with Master Distiller from Buffalo Trace and Chef Geoffrey Heyde. \n\nReservations Required.\nCost is $95 per person.\nFriday February 13th at 6:30pm\n\n___________________________ \nFIRST PAIRING:\nCRAB CAKE \nCrab Cake\, Grilled Onion & Lemon Aioli \nWITH \nW.L. WELLER “THE ORIGINAL WHEATED BOURBON” SPECIAL RESERVE \n___________________________ \nSECOND PAIRING:\nCORN CAKE \nChorizo Corn Cake\, Aged Cheddar\, Pickled Red Onions\,\nArugula Salad\, Sweet Herb Vinaigrette \nWITH \nBLANTON’S ORIGINAL SINGLE BARREL \n___________________________ \nTHIRD PAIRING:\nSHORT RIB \nRed Wine Braised Sticky Beef Short Ribs\, Dark Fruit Glaze\,\nDuchess Potatoes\, Grilled Asparagus \nWITH \nCOLONEL E.H. TAYLOR\, JR. SINGLE BARREL\, B.I.B. \n___________________________ \nFOURTH PAIRING:\nDUBAI CHOCOLATE \nDark Chocolate Mousse\, Pistachio Cream\, Dark Cherries\, Kadaif \nWITH \nSTAGG \nMust be 21 to attend \n***description from IG post
URL:https://things-to-lou.com/events/fork-barrel-bourbon-dinner/
LOCATION:Fork & Barrel\, 1722 Frankfort Avenue\, Louisville\, KY\, 40206\, United States
CATEGORIES:Bourbon,Food & Drink
END:VEVENT
END:VCALENDAR