BEGIN:VCALENDAR
VERSION:2.0
PRODID:-//Things To Lou - ECPv6.15.20//NONSGML v1.0//EN
CALSCALE:GREGORIAN
METHOD:PUBLISH
X-WR-CALNAME:Things To Lou
X-ORIGINAL-URL:https://things-to-lou.com
X-WR-CALDESC:Events for Things To Lou
REFRESH-INTERVAL;VALUE=DURATION:PT1H
X-Robots-Tag:noindex
X-PUBLISHED-TTL:PT1H
BEGIN:VTIMEZONE
TZID:America/New_York
BEGIN:DAYLIGHT
TZOFFSETFROM:-0500
TZOFFSETTO:-0400
TZNAME:EDT
DTSTART:20240310T070000
END:DAYLIGHT
BEGIN:STANDARD
TZOFFSETFROM:-0400
TZOFFSETTO:-0500
TZNAME:EST
DTSTART:20241103T060000
END:STANDARD
BEGIN:DAYLIGHT
TZOFFSETFROM:-0500
TZOFFSETTO:-0400
TZNAME:EDT
DTSTART:20250309T070000
END:DAYLIGHT
BEGIN:STANDARD
TZOFFSETFROM:-0400
TZOFFSETTO:-0500
TZNAME:EST
DTSTART:20251102T060000
END:STANDARD
BEGIN:DAYLIGHT
TZOFFSETFROM:-0500
TZOFFSETTO:-0400
TZNAME:EDT
DTSTART:20260308T070000
END:DAYLIGHT
BEGIN:STANDARD
TZOFFSETFROM:-0400
TZOFFSETTO:-0500
TZNAME:EST
DTSTART:20261101T060000
END:STANDARD
END:VTIMEZONE
BEGIN:VEVENT
DTSTART;TZID=America/New_York:20251204T190000
DTEND;TZID=America/New_York:20251204T220000
DTSTAMP:20260425T070209
CREATED:20251018T034112Z
LAST-MODIFIED:20251018T034112Z
UID:10003133-1764874800-1764885600@things-to-lou.com
SUMMARY:Cactus Tate comedy show
DESCRIPTION:
URL:https://things-to-lou.com/events/cactus-tate-comedy-show/
LOCATION:Louisville Comedy Club\, 110 W Main St\, Louisville\, KY\, 40202\, United States
CATEGORIES:Comedy
END:VEVENT
BEGIN:VEVENT
DTSTART;TZID=America/New_York:20251205T193000
DTEND;TZID=America/New_York:20251205T210000
DTSTAMP:20260425T070209
CREATED:20251202T071645Z
LAST-MODIFIED:20251202T071645Z
UID:10003267-1764963000-1764968400@things-to-lou.com
SUMMARY:Dec. 5 Clarksville Comedy Open Mic
DESCRIPTION:Join Louisville Laughs as we hold our first event at a new venue — the TEN20 Clarksville Taproom. \nThe space is just across the Ohio River from downtown Louisville. \nJoin us for a night of laughter\, craft beer\, and pizza. \n  \n***description from website
URL:https://things-to-lou.com/events/dec-5-clarksville-comedy-open-mic/
LOCATION:ten20 Craft Brewery – Clarksville\, 1400 Main Street\, Clarksville\, KY\, 47129\, United States
CATEGORIES:Beer / Brewery,Comedy,Food & Drink
END:VEVENT
BEGIN:VEVENT
DTSTART;TZID=America/New_York:20251206T193000
DTEND;TZID=America/New_York:20251206T233000
DTSTAMP:20260425T070209
CREATED:20251018T032321Z
LAST-MODIFIED:20251018T032321Z
UID:10003122-1765049400-1765063800@things-to-lou.com
SUMMARY:Jessica Michelle Singleton comedy show (multiple shows)
DESCRIPTION:
URL:https://things-to-lou.com/events/jessica-michelle-singleton-comedy-show-multiple-shows/
LOCATION:Planet Of The Tapes\, 640 Barret Ave\, Louisville\, KY\, 40204\, United States
CATEGORIES:Comedy
END:VEVENT
BEGIN:VEVENT
DTSTART;TZID=America/New_York:20251216T190000
DTEND;TZID=America/New_York:20251216T220000
DTSTAMP:20260425T070209
CREATED:20251018T034013Z
LAST-MODIFIED:20251018T034013Z
UID:10003132-1765911600-1765922400@things-to-lou.com
SUMMARY:Fiona Cauley comedy show
DESCRIPTION:
URL:https://things-to-lou.com/events/fiona-cauley-comedy-show/
LOCATION:Louisville Comedy Club\, 110 W Main St\, Louisville\, KY\, 40202\, United States
CATEGORIES:Comedy
END:VEVENT
BEGIN:VEVENT
DTSTART;TZID=America/New_York:20251218T190000
DTEND;TZID=America/New_York:20251218T220000
DTSTAMP:20260425T070209
CREATED:20251018T033901Z
LAST-MODIFIED:20251018T033901Z
UID:10003131-1766084400-1766095200@things-to-lou.com
SUMMARY:The Office Trivia with "Todd Packer" - David Koechner
DESCRIPTION:What’s up my trivia nerds? Test your knowledge of The Office with the Pack-Man himself\, David Koechner. \nTeams will compete for prizes – while also hearing behind-the-scenes stories from David about playing the hit show’s favorite obnoxious paper salesman (and Michael’s bff)\, Todd Packer. \nAfter multiple trivia rounds\, top teams will need to channel their favorite The Office characters and test their acting chops in order to be crowned – by David – trivia champions. \nThe show also features a Q&A\, meet and greet and pictures with the Pack-Man! This event is approximately 90 minutes. \n\nShows starting at 9:30pm or later are 21+\, and shows starting earlier are 18+ with a valid ID. \nSeats only guaranteed until showtime. Ticket price is more expensive at the door (if any remain). \nPremium seating is in the front couple of rows. GA is first come\, first serve. \nThere are no refunds on any ticket purchases. \n2-item minimum in showroom. This can be food\, alcohol\, or non-alcoholic beverages. \n\nShow/Doors Times \n7:00 PM Show/6:00 PM Doors \n  \n***description from LCC website
URL:https://things-to-lou.com/events/the-office-trivia-with-todd-packer-david-koechner/
LOCATION:Louisville Comedy Club\, 110 W Main St\, Louisville\, KY\, 40202\, United States
CATEGORIES:Comedy,Fandom,Trivia Event
END:VEVENT
BEGIN:VEVENT
DTSTART;TZID=America/New_York:20251219T000000
DTEND;TZID=America/New_York:20251221T235959
DTSTAMP:20260425T070209
CREATED:20251018T033612Z
LAST-MODIFIED:20251018T033612Z
UID:10003130-1766102400-1766361599@things-to-lou.com
SUMMARY:David Koechner comedy show (multiple shows)
DESCRIPTION:Shows starting at 9:30pm or later are 21+\, and shows starting earlier are 18+ with a valid ID.\nSeats only guaranteed until showtime. Ticket price is more expensive at the door (if any remain).\nPremium seating is in the front couple of rows. GA is first come\, first serve.\nThere are no refunds on any ticket purchases.\n2-item minimum in showroom. This can be food\, alcohol\, or non-alcoholic beverages. \n\nShow/Doors Times \n7:00 PM Show/6:00 PM Doors\n9:45 PM Show/9:00 PM Doors
URL:https://things-to-lou.com/events/david-koechner-comedy-show-multiple-shows/
LOCATION:Louisville Comedy Club\, 110 W Main St\, Louisville\, KY\, 40202\, United States
CATEGORIES:Comedy
END:VEVENT
BEGIN:VEVENT
DTSTART;TZID=America/New_York:20251226T000000
DTEND;TZID=America/New_York:20251227T235959
DTSTAMP:20260425T070209
CREATED:20251018T033411Z
LAST-MODIFIED:20251018T033411Z
UID:10003129-1766707200-1766879999@things-to-lou.com
SUMMARY:Chris Kattan comedy show (multiple shows)
DESCRIPTION:Feature: TBA \nShows starting at 9:30pm or later are 21+\, and shows starting earlier are 18+ with a valid ID.\nSeats only guaranteed until showtime. Ticket price is more expensive at the door (if any remain).\nPremium seating is in the front couple of rows. GA is first come\, first serve.\nThere are no refunds on any ticket purchases.\n2-item minimum in showroom. This can be food\, alcohol\, or non-alcoholic beverages. \n\nShow/Doors Times \n7:00 PM Show/6:00 PM Doors\n9:45 PM Show/9:00 PM Doors
URL:https://things-to-lou.com/events/chris-kattan-comedy-show-multiple-shows/
LOCATION:Louisville Comedy Club\, 110 W Main St\, Louisville\, KY\, 40202\, United States
CATEGORIES:Comedy
END:VEVENT
END:VCALENDAR