BEGIN:VCALENDAR
VERSION:2.0
PRODID:-//Things To Lou - ECPv6.15.20//NONSGML v1.0//EN
CALSCALE:GREGORIAN
METHOD:PUBLISH
X-ORIGINAL-URL:https://things-to-lou.com
X-WR-CALDESC:Events for Things To Lou
REFRESH-INTERVAL;VALUE=DURATION:PT1H
X-Robots-Tag:noindex
X-PUBLISHED-TTL:PT1H
BEGIN:VTIMEZONE
TZID:America/New_York
BEGIN:DAYLIGHT
TZOFFSETFROM:-0500
TZOFFSETTO:-0400
TZNAME:EDT
DTSTART:20250309T070000
END:DAYLIGHT
BEGIN:STANDARD
TZOFFSETFROM:-0400
TZOFFSETTO:-0500
TZNAME:EST
DTSTART:20251102T060000
END:STANDARD
BEGIN:DAYLIGHT
TZOFFSETFROM:-0500
TZOFFSETTO:-0400
TZNAME:EDT
DTSTART:20260308T070000
END:DAYLIGHT
BEGIN:STANDARD
TZOFFSETFROM:-0400
TZOFFSETTO:-0500
TZNAME:EST
DTSTART:20261101T060000
END:STANDARD
BEGIN:DAYLIGHT
TZOFFSETFROM:-0500
TZOFFSETTO:-0400
TZNAME:EDT
DTSTART:20270314T070000
END:DAYLIGHT
BEGIN:STANDARD
TZOFFSETFROM:-0400
TZOFFSETTO:-0500
TZNAME:EST
DTSTART:20271107T060000
END:STANDARD
END:VTIMEZONE
BEGIN:VEVENT
DTSTART;TZID=America/New_York:20260305T190000
DTEND;TZID=America/New_York:20260305T210000
DTSTAMP:20260419T121209
CREATED:20260122T035918Z
LAST-MODIFIED:20260122T035918Z
UID:10004097-1772737200-1772744400@things-to-lou.com
SUMMARY:Craig Robinson comedy show
DESCRIPTION:Get Tickets Here \n\nBeginning as a stand-up comedian\, Robinson first made his mark in the comedy circuit at the 1998 Montreal “Just For Laughs” Festival. \nNow headlining venues and festivals across the country\, he does both solo acts as well as full-band sets with his band “The Nasty Delicious.” Before deciding to pursue his comedy career full time\, Robinson was a K-8 teacher in the Chicago Public School System. \nHe earned his undergraduate degree from Illinois State University and his Masters of Education from St. Xavier University. It was while Craig was studying education in Chicago that he also discovered his love of acting and comedy when he joined the famed Second City Theatre. \nCraig is best known for his portrayal of Daryl Philban in NBC’s “The Office” but has also starred in such movies as KNOCKED UP\, THIS IS THE END\, HOT TUB TIME MACHINE\, HOT TUB TIME MACHINE 2\, MORRIS FROM AMERICA\, TRAGEDY GIRLS\, DOLEMITE IS MY NAME! with Eddie Murphy\, TIMMY FAILURE\, and MONA LISA AND THE BOOD MOON with Kate Hudson. \nCraig also starred in his very own sitcom\, MR. ROBINSON on NBC\, as well as GHOSTED on FOX.
URL:https://things-to-lou.com/events/craig-robinson-comedy-show/2026-03-05/
LOCATION:Louisville Comedy Club\, 110 W Main St\, Louisville\, KY\, 40202\, United States
CATEGORIES:Comedy
END:VEVENT
BEGIN:VEVENT
DTSTART;TZID=America/New_York:20260306T190000
DTEND;TZID=America/New_York:20260306T210000
DTSTAMP:20260419T121209
CREATED:20260122T035918Z
LAST-MODIFIED:20260122T035918Z
UID:10004098-1772823600-1772830800@things-to-lou.com
SUMMARY:Craig Robinson comedy show
DESCRIPTION:Get Tickets Here \n\nBeginning as a stand-up comedian\, Robinson first made his mark in the comedy circuit at the 1998 Montreal “Just For Laughs” Festival. \nNow headlining venues and festivals across the country\, he does both solo acts as well as full-band sets with his band “The Nasty Delicious.” Before deciding to pursue his comedy career full time\, Robinson was a K-8 teacher in the Chicago Public School System. \nHe earned his undergraduate degree from Illinois State University and his Masters of Education from St. Xavier University. It was while Craig was studying education in Chicago that he also discovered his love of acting and comedy when he joined the famed Second City Theatre. \nCraig is best known for his portrayal of Daryl Philban in NBC’s “The Office” but has also starred in such movies as KNOCKED UP\, THIS IS THE END\, HOT TUB TIME MACHINE\, HOT TUB TIME MACHINE 2\, MORRIS FROM AMERICA\, TRAGEDY GIRLS\, DOLEMITE IS MY NAME! with Eddie Murphy\, TIMMY FAILURE\, and MONA LISA AND THE BOOD MOON with Kate Hudson. \nCraig also starred in his very own sitcom\, MR. ROBINSON on NBC\, as well as GHOSTED on FOX.
URL:https://things-to-lou.com/events/craig-robinson-comedy-show/2026-03-06/1/
LOCATION:Louisville Comedy Club\, 110 W Main St\, Louisville\, KY\, 40202\, United States
CATEGORIES:Comedy
END:VEVENT
BEGIN:VEVENT
DTSTART;TZID=America/New_York:20260306T200000
DTEND;TZID=America/New_York:20260306T230000
DTSTAMP:20260419T121209
CREATED:20260109T011550Z
LAST-MODIFIED:20260109T012759Z
UID:10003880-1772827200-1772838000@things-to-lou.com
SUMMARY:"Dont Tell Comedy" Show - Shively
DESCRIPTION:📍 Secret Locations. \nShhh…it’s a surprise. As you can see\, we only advertise the general area or neighborhood for each show. The precise location and other important show details will be sent to you at 8:00 AM the day of the show. If you don’t see it in your inbox you can find the info on show day right here. \n🤫 Secret Comedians. \nNo spoilers! All comedians remain unknown until the moment they take the stage. But don’t fret\, we carefully curate lineups of 4-7 different comics to create a hilarious and diverse show. The best part is—you never know who might show up! \nYou might discover your next favorite underground comedian or see a fan favorite. We specialize in introducing audiences to the best-emerging talent from cities around the world through a mix of the best local and nationally touring comedians. \n🌟 Unique Live Experience. \nHonestly\, we’re over the whole debt-inducing two-drink minimum thing. We’re dedicated to providing you with a unique and fun live comedy experience—one which doesn’t require you to take out a second mortgage. We thrive on good vibes and welcome you to be a part of the DTC community. \n\nABOUT THE SHIVELY SHOW:\n📍 Local Business. This show will be at an indoor location. The precise address is emailed to ticket holders at 8:00 AM on the day of the event. You will also be able to pull the show address at that time using your email address on our website. \n🍻 Alcohol is not permitted and will not be for sale. Non-alcoholic drinks will be available. \n🪑 This show will have chairs provided. \n♿︎ This show is wheelchair accessible. \n🎤 21+ show.
URL:https://things-to-lou.com/events/dont-tell-comedy-show-shively/
LOCATION:Secret Location
CATEGORIES:Comedy
END:VEVENT
BEGIN:VEVENT
DTSTART;TZID=America/New_York:20260306T213000
DTEND;TZID=America/New_York:20260306T233000
DTSTAMP:20260419T121209
CREATED:20260122T035918Z
LAST-MODIFIED:20260122T035918Z
UID:10004099-1772832600-1772839800@things-to-lou.com
SUMMARY:Craig Robinson comedy show
DESCRIPTION:Get Tickets Here \n\nBeginning as a stand-up comedian\, Robinson first made his mark in the comedy circuit at the 1998 Montreal “Just For Laughs” Festival. \nNow headlining venues and festivals across the country\, he does both solo acts as well as full-band sets with his band “The Nasty Delicious.” Before deciding to pursue his comedy career full time\, Robinson was a K-8 teacher in the Chicago Public School System. \nHe earned his undergraduate degree from Illinois State University and his Masters of Education from St. Xavier University. It was while Craig was studying education in Chicago that he also discovered his love of acting and comedy when he joined the famed Second City Theatre. \nCraig is best known for his portrayal of Daryl Philban in NBC’s “The Office” but has also starred in such movies as KNOCKED UP\, THIS IS THE END\, HOT TUB TIME MACHINE\, HOT TUB TIME MACHINE 2\, MORRIS FROM AMERICA\, TRAGEDY GIRLS\, DOLEMITE IS MY NAME! with Eddie Murphy\, TIMMY FAILURE\, and MONA LISA AND THE BOOD MOON with Kate Hudson. \nCraig also starred in his very own sitcom\, MR. ROBINSON on NBC\, as well as GHOSTED on FOX.
URL:https://things-to-lou.com/events/craig-robinson-comedy-show/2026-03-06/2/
LOCATION:Louisville Comedy Club\, 110 W Main St\, Louisville\, KY\, 40202\, United States
CATEGORIES:Comedy
END:VEVENT
BEGIN:VEVENT
DTSTART;TZID=America/New_York:20260307T190000
DTEND;TZID=America/New_York:20260307T210000
DTSTAMP:20260419T121209
CREATED:20260122T035918Z
LAST-MODIFIED:20260122T035918Z
UID:10004100-1772910000-1772917200@things-to-lou.com
SUMMARY:Craig Robinson comedy show
DESCRIPTION:Get Tickets Here \n\nBeginning as a stand-up comedian\, Robinson first made his mark in the comedy circuit at the 1998 Montreal “Just For Laughs” Festival. \nNow headlining venues and festivals across the country\, he does both solo acts as well as full-band sets with his band “The Nasty Delicious.” Before deciding to pursue his comedy career full time\, Robinson was a K-8 teacher in the Chicago Public School System. \nHe earned his undergraduate degree from Illinois State University and his Masters of Education from St. Xavier University. It was while Craig was studying education in Chicago that he also discovered his love of acting and comedy when he joined the famed Second City Theatre. \nCraig is best known for his portrayal of Daryl Philban in NBC’s “The Office” but has also starred in such movies as KNOCKED UP\, THIS IS THE END\, HOT TUB TIME MACHINE\, HOT TUB TIME MACHINE 2\, MORRIS FROM AMERICA\, TRAGEDY GIRLS\, DOLEMITE IS MY NAME! with Eddie Murphy\, TIMMY FAILURE\, and MONA LISA AND THE BOOD MOON with Kate Hudson. \nCraig also starred in his very own sitcom\, MR. ROBINSON on NBC\, as well as GHOSTED on FOX.
URL:https://things-to-lou.com/events/craig-robinson-comedy-show/2026-03-07/1/
LOCATION:Louisville Comedy Club\, 110 W Main St\, Louisville\, KY\, 40202\, United States
CATEGORIES:Comedy
END:VEVENT
BEGIN:VEVENT
DTSTART;TZID=America/New_York:20260307T213000
DTEND;TZID=America/New_York:20260307T233000
DTSTAMP:20260419T121209
CREATED:20260122T035918Z
LAST-MODIFIED:20260122T035918Z
UID:10004101-1772919000-1772926200@things-to-lou.com
SUMMARY:Craig Robinson comedy show
DESCRIPTION:Get Tickets Here \n\nBeginning as a stand-up comedian\, Robinson first made his mark in the comedy circuit at the 1998 Montreal “Just For Laughs” Festival. \nNow headlining venues and festivals across the country\, he does both solo acts as well as full-band sets with his band “The Nasty Delicious.” Before deciding to pursue his comedy career full time\, Robinson was a K-8 teacher in the Chicago Public School System. \nHe earned his undergraduate degree from Illinois State University and his Masters of Education from St. Xavier University. It was while Craig was studying education in Chicago that he also discovered his love of acting and comedy when he joined the famed Second City Theatre. \nCraig is best known for his portrayal of Daryl Philban in NBC’s “The Office” but has also starred in such movies as KNOCKED UP\, THIS IS THE END\, HOT TUB TIME MACHINE\, HOT TUB TIME MACHINE 2\, MORRIS FROM AMERICA\, TRAGEDY GIRLS\, DOLEMITE IS MY NAME! with Eddie Murphy\, TIMMY FAILURE\, and MONA LISA AND THE BOOD MOON with Kate Hudson. \nCraig also starred in his very own sitcom\, MR. ROBINSON on NBC\, as well as GHOSTED on FOX.
URL:https://things-to-lou.com/events/craig-robinson-comedy-show/2026-03-07/2/
LOCATION:Louisville Comedy Club\, 110 W Main St\, Louisville\, KY\, 40202\, United States
CATEGORIES:Comedy
END:VEVENT
BEGIN:VEVENT
DTSTART;TZID=America/New_York:20260312T180000
DTEND;TZID=America/New_York:20260312T200000
DTSTAMP:20260419T121209
CREATED:20260214T052520Z
LAST-MODIFIED:20260214T052520Z
UID:10004729-1773338400-1773345600@things-to-lou.com
SUMMARY:Open Mic Night
DESCRIPTION:Join us for an Open Mic Night at the Louisville Pride Center! \nWe’re hosting a space for the community to present their music\, poetry\, comedy\, and more. \nSign up to present or just come hang out. Light refreshments will be provided. \nSign up here: https://forms.office.com/Pages/ResponsePage.aspx?id=ZGHd32u0sEeJe5qOUHIklAZ1b8nxkOFHupuQRn70bP9URVRMU0RZQjE4S0Q1VlRNME9QQkZUTkhKMC4u
URL:https://things-to-lou.com/events/open-mic-night/
LOCATION:Louisville Pride Center\, 1244 S 3rd St\, STE 200\, Louisville\, KY\, 40203\, United States
CATEGORIES:Comedy,Entertainment,Karaoke,LGBTQIA+,Music
ATTACH;FMTTYPE=image/png:https://things-to-lou.com/wp-content/uploads/2026/02/lpf-open-mic-night-3-12-e1771047677777.png
END:VEVENT
BEGIN:VEVENT
DTSTART;TZID=America/New_York:20260314T193000
DTEND;TZID=America/New_York:20260314T230000
DTSTAMP:20260419T121209
CREATED:20260311T061423Z
LAST-MODIFIED:20260311T062103Z
UID:10004745-1773516600-1773529200@things-to-lou.com
SUMMARY:Dan Alten comedy show (2 show times) | with Uncool Randy\, Aimee Jewell
DESCRIPTION:Dan Alten is an intelligent goofball from Kentucky who has been traveling the country for the past decade bringing his charming nonsense to everywhere from theaters to punk basements to art galleries to beloved comedy clubs. Doing over 200 shows a year bringing his tight night surreal fun to the people\, like if the Ramones were one guy with a mustache and good jokes. \nHe has opened for Kyle Kinane\, Bobcat\, Sam Tallent\, Rory Scovel\, Sarah Sherman from SNL\, Johnny Pemberton\, Hari Kondabolu\, rapper Open Mike Eagle\, DJ Doug Pound & David Leibe Hart from Tim & Eric\, various punk bands with silly names\, and a guy at an open mic who tried to throw his father’s ashes into the crowd. \nHe has recorded 2 albums\, written a zine\, and filmed a pilot for an Amazon Prime stand up show that was lost to history. But most importantly he’s funny. You will enjoy him. And if not you can mud wrestle him after the show. \n***Description from Planet of the Tapes website \n  \n\nGET TICKETS HERE \n\nFrom Instagram post: \nEverything is incredibly whack and folks are stressed and depressed. I’m no hero\, but I am here to offer you an evening of levity and light in these uncertain times. I promise to bring you a night of non political\, positively spirited laughs. No bullying crowd work. No “pushing buttons”. No “telling it like it is”. Just fun silly surreal clever charming well thought out nonsense delivered by someone trying to make you happy. Let’s all laugh together Louisville. I sincerely hope to see you soon. \n#louisvilleky #louisville
URL:https://things-to-lou.com/events/dan-alten-comedy-show-2-show-times/
LOCATION:Planet Of The Tapes\, 640 Barret Ave\, Louisville\, KY\, 40204\, United States
CATEGORIES:Comedy
ATTACH;FMTTYPE=image/jpeg:https://things-to-lou.com/wp-content/uploads/2026/03/8cbdcf02-2296-4b2b-ae57-b471c0b6a584-e1773209859398.jpg
END:VEVENT
BEGIN:VEVENT
DTSTART;TZID=America/New_York:20260320T190000
DTEND;TZID=America/New_York:20260320T210000
DTSTAMP:20260419T121209
CREATED:20260122T035030Z
LAST-MODIFIED:20260122T035030Z
UID:10004085-1774033200-1774040400@things-to-lou.com
SUMMARY:Ms. Pat comedy show
DESCRIPTION:Get Tickets Here \n\nDeclared by The Huffington Post as “the real hero of sitcom TV\,” Patricia Williams (aka Ms. Pat) is a comedian\, author\, radio host\, podcaster\, and actress. Her critically acclaimed multi-cam series The Ms. Pat Show\, produced by Lee Daniels and Brian Grazer\, premiered its fourth season in May 2024. The series is streaming on BET+ and Paramount+ with an edited version airing on BET linear. The premiere of the show shattered viewership records on the streamer\, almost crashing the app and has garnered Emmy Nominations in the “Outstanding Direction for a Comedy Series” category in 2022\, 2023\, and 2024. The Ms. Pat Show\, based on Pat’s real-life story of an inner-city drug dealer turned suburban mom\, has been a hit with fans and critics alike. The Hollywood Reporter raved “Think Roseanne of the 1980s and 1990s\, but even rawer” and Essence Magazine gushed “Ms. Pat is headed for the comedy stratosphere.” \nFollowing the success of The Ms. Pat Show\, BET/Paramount Global signed Pat to a multi-genre overall deal under which she will produce\, write and perform in new series and other projects—both scripted and unscripted— across all platforms. Under this deal\, she debuted her weekly court show Ms. Pat Settles It on BET linear on October 18th\, 2023. In the beloved tradition of Judge Judy\, Judge Joe Brown\, and Steve Harvey\, Pat takes hold of the gavel to settle people’s everyday disputes. Using her signature raw\, unfiltered\, hilarious sensibility that has made her a fan-favorite and critical darling\, Pat and a jury of her comedy friends resolve high stakes disputes including who is financially responsible for dog poop on that rug\, do food stamps count as payment\, and what is proper hair wig etiquette. Another hit for the rapidly emerging entertainment mogul\, the series premiered as the No. 2 show on primetime television for Black viewers as well as Black women in the 18-49 demographic. \nPat also recently costarred in the remake of the 90’s classic film Don’t Tell Mom the Babysitter’s Dead alongside Nicole Ritchie and June Squibb and her hour standup special Y’All Wanna Hear Something Crazy?\, Directed by Robert Townsend and Produced by Wanda Sykes\, is currently streaming on Netflix. The New York Times described the hour as “superb material” while Indiewire offered “There are a lot of comedy specials on Netflix these days\, but Ms. Pat breaks through the noise.” In addition to her standup and TV projects\, Pat also hosts her own top-rated comedy podcast The Patdown.
URL:https://things-to-lou.com/events/ms-pat-comedy-show/2026-03-20/1/
LOCATION:Louisville Comedy Club\, 110 W Main St\, Louisville\, KY\, 40202\, United States
CATEGORIES:Comedy
END:VEVENT
BEGIN:VEVENT
DTSTART;TZID=America/New_York:20260320T213000
DTEND;TZID=America/New_York:20260320T233000
DTSTAMP:20260419T121209
CREATED:20260122T035030Z
LAST-MODIFIED:20260122T035030Z
UID:10004086-1774042200-1774049400@things-to-lou.com
SUMMARY:Ms. Pat comedy show
DESCRIPTION:Get Tickets Here \n\nDeclared by The Huffington Post as “the real hero of sitcom TV\,” Patricia Williams (aka Ms. Pat) is a comedian\, author\, radio host\, podcaster\, and actress. Her critically acclaimed multi-cam series The Ms. Pat Show\, produced by Lee Daniels and Brian Grazer\, premiered its fourth season in May 2024. The series is streaming on BET+ and Paramount+ with an edited version airing on BET linear. The premiere of the show shattered viewership records on the streamer\, almost crashing the app and has garnered Emmy Nominations in the “Outstanding Direction for a Comedy Series” category in 2022\, 2023\, and 2024. The Ms. Pat Show\, based on Pat’s real-life story of an inner-city drug dealer turned suburban mom\, has been a hit with fans and critics alike. The Hollywood Reporter raved “Think Roseanne of the 1980s and 1990s\, but even rawer” and Essence Magazine gushed “Ms. Pat is headed for the comedy stratosphere.” \nFollowing the success of The Ms. Pat Show\, BET/Paramount Global signed Pat to a multi-genre overall deal under which she will produce\, write and perform in new series and other projects—both scripted and unscripted— across all platforms. Under this deal\, she debuted her weekly court show Ms. Pat Settles It on BET linear on October 18th\, 2023. In the beloved tradition of Judge Judy\, Judge Joe Brown\, and Steve Harvey\, Pat takes hold of the gavel to settle people’s everyday disputes. Using her signature raw\, unfiltered\, hilarious sensibility that has made her a fan-favorite and critical darling\, Pat and a jury of her comedy friends resolve high stakes disputes including who is financially responsible for dog poop on that rug\, do food stamps count as payment\, and what is proper hair wig etiquette. Another hit for the rapidly emerging entertainment mogul\, the series premiered as the No. 2 show on primetime television for Black viewers as well as Black women in the 18-49 demographic. \nPat also recently costarred in the remake of the 90’s classic film Don’t Tell Mom the Babysitter’s Dead alongside Nicole Ritchie and June Squibb and her hour standup special Y’All Wanna Hear Something Crazy?\, Directed by Robert Townsend and Produced by Wanda Sykes\, is currently streaming on Netflix. The New York Times described the hour as “superb material” while Indiewire offered “There are a lot of comedy specials on Netflix these days\, but Ms. Pat breaks through the noise.” In addition to her standup and TV projects\, Pat also hosts her own top-rated comedy podcast The Patdown.
URL:https://things-to-lou.com/events/ms-pat-comedy-show/2026-03-20/2/
LOCATION:Louisville Comedy Club\, 110 W Main St\, Louisville\, KY\, 40202\, United States
CATEGORIES:Comedy
END:VEVENT
BEGIN:VEVENT
DTSTART;TZID=America/New_York:20260321T190000
DTEND;TZID=America/New_York:20260321T210000
DTSTAMP:20260419T121209
CREATED:20260122T035030Z
LAST-MODIFIED:20260122T035030Z
UID:10004087-1774119600-1774126800@things-to-lou.com
SUMMARY:Ms. Pat comedy show
DESCRIPTION:Get Tickets Here \n\nDeclared by The Huffington Post as “the real hero of sitcom TV\,” Patricia Williams (aka Ms. Pat) is a comedian\, author\, radio host\, podcaster\, and actress. Her critically acclaimed multi-cam series The Ms. Pat Show\, produced by Lee Daniels and Brian Grazer\, premiered its fourth season in May 2024. The series is streaming on BET+ and Paramount+ with an edited version airing on BET linear. The premiere of the show shattered viewership records on the streamer\, almost crashing the app and has garnered Emmy Nominations in the “Outstanding Direction for a Comedy Series” category in 2022\, 2023\, and 2024. The Ms. Pat Show\, based on Pat’s real-life story of an inner-city drug dealer turned suburban mom\, has been a hit with fans and critics alike. The Hollywood Reporter raved “Think Roseanne of the 1980s and 1990s\, but even rawer” and Essence Magazine gushed “Ms. Pat is headed for the comedy stratosphere.” \nFollowing the success of The Ms. Pat Show\, BET/Paramount Global signed Pat to a multi-genre overall deal under which she will produce\, write and perform in new series and other projects—both scripted and unscripted— across all platforms. Under this deal\, she debuted her weekly court show Ms. Pat Settles It on BET linear on October 18th\, 2023. In the beloved tradition of Judge Judy\, Judge Joe Brown\, and Steve Harvey\, Pat takes hold of the gavel to settle people’s everyday disputes. Using her signature raw\, unfiltered\, hilarious sensibility that has made her a fan-favorite and critical darling\, Pat and a jury of her comedy friends resolve high stakes disputes including who is financially responsible for dog poop on that rug\, do food stamps count as payment\, and what is proper hair wig etiquette. Another hit for the rapidly emerging entertainment mogul\, the series premiered as the No. 2 show on primetime television for Black viewers as well as Black women in the 18-49 demographic. \nPat also recently costarred in the remake of the 90’s classic film Don’t Tell Mom the Babysitter’s Dead alongside Nicole Ritchie and June Squibb and her hour standup special Y’All Wanna Hear Something Crazy?\, Directed by Robert Townsend and Produced by Wanda Sykes\, is currently streaming on Netflix. The New York Times described the hour as “superb material” while Indiewire offered “There are a lot of comedy specials on Netflix these days\, but Ms. Pat breaks through the noise.” In addition to her standup and TV projects\, Pat also hosts her own top-rated comedy podcast The Patdown.
URL:https://things-to-lou.com/events/ms-pat-comedy-show/2026-03-21/1/
LOCATION:Louisville Comedy Club\, 110 W Main St\, Louisville\, KY\, 40202\, United States
CATEGORIES:Comedy
END:VEVENT
BEGIN:VEVENT
DTSTART;TZID=America/New_York:20260321T213000
DTEND;TZID=America/New_York:20260321T233000
DTSTAMP:20260419T121209
CREATED:20260122T035030Z
LAST-MODIFIED:20260122T035030Z
UID:10004088-1774128600-1774135800@things-to-lou.com
SUMMARY:Ms. Pat comedy show
DESCRIPTION:Get Tickets Here \n\nDeclared by The Huffington Post as “the real hero of sitcom TV\,” Patricia Williams (aka Ms. Pat) is a comedian\, author\, radio host\, podcaster\, and actress. Her critically acclaimed multi-cam series The Ms. Pat Show\, produced by Lee Daniels and Brian Grazer\, premiered its fourth season in May 2024. The series is streaming on BET+ and Paramount+ with an edited version airing on BET linear. The premiere of the show shattered viewership records on the streamer\, almost crashing the app and has garnered Emmy Nominations in the “Outstanding Direction for a Comedy Series” category in 2022\, 2023\, and 2024. The Ms. Pat Show\, based on Pat’s real-life story of an inner-city drug dealer turned suburban mom\, has been a hit with fans and critics alike. The Hollywood Reporter raved “Think Roseanne of the 1980s and 1990s\, but even rawer” and Essence Magazine gushed “Ms. Pat is headed for the comedy stratosphere.” \nFollowing the success of The Ms. Pat Show\, BET/Paramount Global signed Pat to a multi-genre overall deal under which she will produce\, write and perform in new series and other projects—both scripted and unscripted— across all platforms. Under this deal\, she debuted her weekly court show Ms. Pat Settles It on BET linear on October 18th\, 2023. In the beloved tradition of Judge Judy\, Judge Joe Brown\, and Steve Harvey\, Pat takes hold of the gavel to settle people’s everyday disputes. Using her signature raw\, unfiltered\, hilarious sensibility that has made her a fan-favorite and critical darling\, Pat and a jury of her comedy friends resolve high stakes disputes including who is financially responsible for dog poop on that rug\, do food stamps count as payment\, and what is proper hair wig etiquette. Another hit for the rapidly emerging entertainment mogul\, the series premiered as the No. 2 show on primetime television for Black viewers as well as Black women in the 18-49 demographic. \nPat also recently costarred in the remake of the 90’s classic film Don’t Tell Mom the Babysitter’s Dead alongside Nicole Ritchie and June Squibb and her hour standup special Y’All Wanna Hear Something Crazy?\, Directed by Robert Townsend and Produced by Wanda Sykes\, is currently streaming on Netflix. The New York Times described the hour as “superb material” while Indiewire offered “There are a lot of comedy specials on Netflix these days\, but Ms. Pat breaks through the noise.” In addition to her standup and TV projects\, Pat also hosts her own top-rated comedy podcast The Patdown.
URL:https://things-to-lou.com/events/ms-pat-comedy-show/2026-03-21/2/
LOCATION:Louisville Comedy Club\, 110 W Main St\, Louisville\, KY\, 40202\, United States
CATEGORIES:Comedy
END:VEVENT
END:VCALENDAR