BEGIN:VCALENDAR
VERSION:2.0
PRODID:-//Things To Lou - ECPv6.15.20//NONSGML v1.0//EN
CALSCALE:GREGORIAN
METHOD:PUBLISH
X-WR-CALNAME:Things To Lou
X-ORIGINAL-URL:https://things-to-lou.com
X-WR-CALDESC:Events for Things To Lou
REFRESH-INTERVAL;VALUE=DURATION:PT1H
X-Robots-Tag:noindex
X-PUBLISHED-TTL:PT1H
BEGIN:VTIMEZONE
TZID:America/New_York
BEGIN:DAYLIGHT
TZOFFSETFROM:-0500
TZOFFSETTO:-0400
TZNAME:EDT
DTSTART:20240310T070000
END:DAYLIGHT
BEGIN:STANDARD
TZOFFSETFROM:-0400
TZOFFSETTO:-0500
TZNAME:EST
DTSTART:20241103T060000
END:STANDARD
BEGIN:DAYLIGHT
TZOFFSETFROM:-0500
TZOFFSETTO:-0400
TZNAME:EDT
DTSTART:20250309T070000
END:DAYLIGHT
BEGIN:STANDARD
TZOFFSETFROM:-0400
TZOFFSETTO:-0500
TZNAME:EST
DTSTART:20251102T060000
END:STANDARD
BEGIN:DAYLIGHT
TZOFFSETFROM:-0500
TZOFFSETTO:-0400
TZNAME:EDT
DTSTART:20260308T070000
END:DAYLIGHT
BEGIN:STANDARD
TZOFFSETFROM:-0400
TZOFFSETTO:-0500
TZNAME:EST
DTSTART:20261101T060000
END:STANDARD
END:VTIMEZONE
BEGIN:VEVENT
DTSTART;TZID=America/New_York:20250404T000000
DTEND;TZID=America/New_York:20250405T235959
DTSTAMP:20260419T141359
CREATED:20250403T141106Z
LAST-MODIFIED:20250403T141106Z
UID:10001804-1743724800-1743897599@things-to-lou.com
SUMMARY:LouLou Gonzalez @ Louisville Comedy Club (multiple shows)
DESCRIPTION:Get tickets here:  https://www.louisvillecomedy.com/events/109300?e=71274 \nFeature: TBA \nTickets: $25/$32 \nShows starting at 9:30pm or later are 21+\, and shows starting earlier are 18+ with a valid ID.\nSeats only guaranteed until showtime. Ticket price is more expensive at the door (if any remain).\nPremium seating is in the front couple of rows. GA is first come\, first serve.\nThere are no refunds on any ticket purchases.\n2-item minimum in showroom. This can be food\, alcohol\, or non-alcoholic beverages.\nShow/Doors Times \n7:00 PM Show/6:00 PM Doors\n9:45 PM Show/9:00 PM Doors \n  \n  \n***Description from website
URL:https://things-to-lou.com/events/loulou-gonzalez-louisville-comedy-club-multiple-shows/
LOCATION:Louisville Comedy Club\, 110 W Main St\, Louisville\, KY\, 40202\, United States
CATEGORIES:Comedy
END:VEVENT
BEGIN:VEVENT
DTSTART;TZID=America/New_York:20250405T190000
DTEND;TZID=America/New_York:20250405T220000
DTSTAMP:20260419T141359
CREATED:20250403T205405Z
LAST-MODIFIED:20250403T205405Z
UID:10001855-1743879600-1743890400@things-to-lou.com
SUMMARY:Loop Step-Grandad | improv DJ and comedy
DESCRIPTION:Ever wonder what happens when a looping wizard\, an improv comedian\, and a step-granddad with questionable fashion sense collide on stage? Meet Loop Step-Granddad\, a live\, fully interactive show blending spontaneous music\, audience-driven loops\, comedy\, and danceable melodic chaos inside the Zanzabar Arcade at Logan Street Market. \nArmed with a keyboard\, a microphone\, and no plan whatsoever\, Loop Step-Granddad mashes loops and samples to create songs in real-time. Play some pinball\, pick up some grub from lots of options throughout the market and provide suggestions to craft ridiculous songs and remixed absurdity on the spot. One moment\, you’re grooving to a funky synth jam—next thing you know\, you’re in a full-blown gospel rave about gas station hot dogs. It’s unpredictable\, it’s hilarious\, and it’s “allegedly” a good time. \nHere’s What to Expect: \n\nImprov comedy & spontaneous storytelling\nLive looping & genre-hopping beats\nDanceable madness & audience participation\nUnexpected remixes\, samples\, and sonic weirdness\n\nBest part? It’s FREE. Grab your friends (respectfully)\, bring your weirdest ideas (respectfully)\, and come ready to vibe—because with the Loop Step-Granddad\, every night is a one-of-a-kind musical experience. \n  \n***Description from website
URL:https://things-to-lou.com/events/loop-step-grandad-improv-dj-and-comedy/
LOCATION:Logan Street Market\, 1001 Logan Street\, Louisivlle\, KY\, 40204\, United States
CATEGORIES:Comedy,Music,Theatre
END:VEVENT
BEGIN:VEVENT
DTSTART;TZID=America/New_York:20250405T200000
DTEND;TZID=America/New_York:20250405T233000
DTSTAMP:20260419T141359
CREATED:20250404T034323Z
LAST-MODIFIED:20250404T034323Z
UID:10001889-1743883200-1743895800@things-to-lou.com
SUMMARY:Thots Bash 2025: Sexxx\, Hugs\, and Rock N Roll | a punk rock variety show
DESCRIPTION:Intrusive Thots have lived a life of sex\, hugs\, and rock and roll and they’re finally paying for it. A punk rock variety show\, wher the Thots are on the run from the law\, and ready to bare all… and hopefully get those indecency charges dropped. \nLive Music\, Sketch Comedy\, Burlesque\, Drag\, Puppetry\, and Attitude. \n  \n***Description from event page \n  \nFacebook event
URL:https://things-to-lou.com/events/thots-bash-2025-sexxx-hugs-and-rock-n-roll-a-punk-rock-variety-show/
LOCATION:Art Sanctuary\, 1433 S Shelby Street\, Louisville\, KY\, 40217\, United States
CATEGORIES:Burlesque,Comedy,Drag Show / Drag Brunch,Music
END:VEVENT
END:VCALENDAR