BEGIN:VCALENDAR
VERSION:2.0
PRODID:-//Things To Lou - ECPv6.15.20//NONSGML v1.0//EN
CALSCALE:GREGORIAN
METHOD:PUBLISH
X-ORIGINAL-URL:https://things-to-lou.com
X-WR-CALDESC:Events for Things To Lou
REFRESH-INTERVAL;VALUE=DURATION:PT1H
X-Robots-Tag:noindex
X-PUBLISHED-TTL:PT1H
BEGIN:VTIMEZONE
TZID:America/New_York
BEGIN:DAYLIGHT
TZOFFSETFROM:-0500
TZOFFSETTO:-0400
TZNAME:EDT
DTSTART:20250309T070000
END:DAYLIGHT
BEGIN:STANDARD
TZOFFSETFROM:-0400
TZOFFSETTO:-0500
TZNAME:EST
DTSTART:20251102T060000
END:STANDARD
BEGIN:DAYLIGHT
TZOFFSETFROM:-0500
TZOFFSETTO:-0400
TZNAME:EDT
DTSTART:20260308T070000
END:DAYLIGHT
BEGIN:STANDARD
TZOFFSETFROM:-0400
TZOFFSETTO:-0500
TZNAME:EST
DTSTART:20261101T060000
END:STANDARD
BEGIN:DAYLIGHT
TZOFFSETFROM:-0500
TZOFFSETTO:-0400
TZNAME:EDT
DTSTART:20270314T070000
END:DAYLIGHT
BEGIN:STANDARD
TZOFFSETFROM:-0400
TZOFFSETTO:-0500
TZNAME:EST
DTSTART:20271107T060000
END:STANDARD
END:VTIMEZONE
BEGIN:VEVENT
DTSTART;TZID=America/New_York:20260111T180000
DTEND;TZID=America/New_York:20260111T220000
DTSTAMP:20260423T095550
CREATED:20260108T070710Z
LAST-MODIFIED:20260108T070710Z
UID:10003797-1768154400-1768168800@things-to-lou.com
SUMMARY:Stand Up Comedy Show | *promo code! w/ Dan Alten + Jax Howie + Lucious Williams + Nathan Alexander + June Dempsey
DESCRIPTION:A delightful early evening of Stand Up Comedy this Sunday at 6pm at Portal with Louisville favorites Dan Alten\, Nathan Alexander\, Lucious Williams\, and June Dempsey\, hosted by Jax Howie. \n$10 online\, $15 at the door. \n6pm. 6:30 showtime. \nAll ages \n***description from IG post \n\nPROMO CODE: FUNNYBONE for $5 tickets.
URL:https://things-to-lou.com/events/stand-up-comedy-show-promo-code-w-dan-alten-jax-howie-lucious-williams-nathan-alexander-june-dempsey/
LOCATION:Portal + Art Portal\, 1512 PORTLAND AVENUE\, Louisville\, KY\, 40203\, United States
CATEGORIES:Comedy
ATTACH;FMTTYPE=image/jpeg:https://things-to-lou.com/wp-content/uploads/2026/01/b260385f-6750-4fc2-a7f7-6791c1bda252-e1767856042889.jpg
END:VEVENT
END:VCALENDAR