BEGIN:VCALENDAR
VERSION:2.0
PRODID:-//Things To Lou - ECPv6.15.20//NONSGML v1.0//EN
CALSCALE:GREGORIAN
METHOD:PUBLISH
X-ORIGINAL-URL:https://things-to-lou.com
X-WR-CALDESC:Events for Things To Lou
REFRESH-INTERVAL;VALUE=DURATION:PT1H
X-Robots-Tag:noindex
X-PUBLISHED-TTL:PT1H
BEGIN:VTIMEZONE
TZID:America/New_York
BEGIN:DAYLIGHT
TZOFFSETFROM:-0500
TZOFFSETTO:-0400
TZNAME:EDT
DTSTART:20250309T070000
END:DAYLIGHT
BEGIN:STANDARD
TZOFFSETFROM:-0400
TZOFFSETTO:-0500
TZNAME:EST
DTSTART:20251102T060000
END:STANDARD
BEGIN:DAYLIGHT
TZOFFSETFROM:-0500
TZOFFSETTO:-0400
TZNAME:EDT
DTSTART:20260308T070000
END:DAYLIGHT
BEGIN:STANDARD
TZOFFSETFROM:-0400
TZOFFSETTO:-0500
TZNAME:EST
DTSTART:20261101T060000
END:STANDARD
BEGIN:DAYLIGHT
TZOFFSETFROM:-0500
TZOFFSETTO:-0400
TZNAME:EDT
DTSTART:20270314T070000
END:DAYLIGHT
BEGIN:STANDARD
TZOFFSETFROM:-0400
TZOFFSETTO:-0500
TZNAME:EST
DTSTART:20271107T060000
END:STANDARD
END:VTIMEZONE
BEGIN:VEVENT
DTSTART;TZID=America/New_York:20260115T000000
DTEND;TZID=America/New_York:20260117T235959
DTSTAMP:20260419T171412
CREATED:20251018T033251Z
LAST-MODIFIED:20251018T033251Z
UID:10003128-1768435200-1768694399@things-to-lou.com
SUMMARY:Margaret Cho: Choligarchy comedy show (multiple shows)
DESCRIPTION:Feature: TBA \nShows starting at 9:30pm or later are 21+\, and shows starting earlier are 18+ with a valid ID. \nSeats only guaranteed until showtime. Ticket price is more expensive at the door (if any remain). \nPremium seating is in the front couple of rows. GA is first come\, first serve. \nThere are no refunds on any ticket purchases. \n2-item minimum in showroom. This can be food\, alcohol\, or non-alcoholic beverages. \n\nShow/Doors Times \n7:00 PM Show/6:00 PM Doors\n9:45 PM Show/9:00 PM Doors
URL:https://things-to-lou.com/events/margaret-cho-choligarchy-comedy-show-multiple-shows/
LOCATION:Louisville Comedy Club\, 110 W Main St\, Louisville\, KY\, 40202\, United States
CATEGORIES:Comedy
END:VEVENT
BEGIN:VEVENT
DTSTART;TZID=America/New_York:20260116T193000
DTEND;TZID=America/New_York:20260116T213000
DTSTAMP:20260419T171412
CREATED:20260105T073430Z
LAST-MODIFIED:20260105T073453Z
UID:10003707-1768591800-1768599000@things-to-lou.com
SUMMARY:Bo Johnson | comedy show
DESCRIPTION:Bo Johnson is a comedian from Seattle\, Washington. He can be found headlining clubs\, breweries\, and appropriately sized theaters across the United States and Canada. His stand up has been featured on Netflix Is A Joke Radio\, Kevin Hart Presents: Hart of the City on Comedy Central\, Don’t Tell Comedy Secret Sets\, and LOL Live! at the prestigious Just For Laughs comedy festival in Montreal. \nHe was a finalist in the 39th annual Seattle International Comedy Competition and is a regular at festivals including Bumbershoot\, SF Sketchfest\, the Double Down Comedy Experience sponsored by Zappos\, Life is Beautiful in Las Vegas\, Rifflandia in Victoria BC\, Prizefest\, and Big Pine Comedy Festival in Phoenix. With a growing online audience Bo’s jokes have been viewed millions of times online. \nSeparate from stand up comedy one time Bo and his best friend from high school snuck into a movie theater as one person. That video was broadcast on TV shows like the now cancelled Caught on Camera with Nick Cannon on NBC and lowest rated daytime talk show at the time\, The Meredith Veira Show. Bo still gets messages each year from friends seeing the video go viral on different meme accounts. \nNumerous magazines and newspapers also wrote about the hijinks\, including an article in Cosmopolitan titled\, “Man Sneaks His BFF Into Movie Theater by Stuffing Him Into His Pants.” More recently Bo trained his roommates dog by walking her to Shania Twain’s “Man! I feel like a Woman!” in a viral stunt earning over 7 millions views on Tik Tok and press coverage in both major and incredibly minor publications. \n***description from website
URL:https://things-to-lou.com/events/bo-johnson-comedy-show-2/2026-01-16/1/
LOCATION:Planet Of The Tapes\, 640 Barret Ave\, Louisville\, KY\, 40204\, United States
CATEGORIES:Comedy
END:VEVENT
BEGIN:VEVENT
DTSTART;TZID=America/New_York:20260116T193000
DTEND;TZID=America/New_York:20260116T233000
DTSTAMP:20260419T171413
CREATED:20251018T032218Z
LAST-MODIFIED:20251018T032218Z
UID:10003121-1768591800-1768606200@things-to-lou.com
SUMMARY:Bo Johnson comedy show
DESCRIPTION:
URL:https://things-to-lou.com/events/bo-johnson-comedy-show/
LOCATION:Planet Of The Tapes\, 640 Barret Ave\, Louisville\, KY\, 40204\, United States
CATEGORIES:Comedy
END:VEVENT
BEGIN:VEVENT
DTSTART;TZID=America/New_York:20260116T200000
DTEND;TZID=America/New_York:20260116T230000
DTSTAMP:20260419T171413
CREATED:20260109T010943Z
LAST-MODIFIED:20260109T011031Z
UID:10003877-1768593600-1768604400@things-to-lou.com
SUMMARY:"Dont Tell Comedy" Show - New Albany
DESCRIPTION:📍 Secret Locations. \nShhh…it’s a surprise. As you can see\, we only advertise the general area or neighborhood for each show. The precise location and other important show details will be sent to you at 8:00 AM the day of the show. If you don’t see it in your inbox you can find the info on show day right here. \n🤫 Secret Comedians. \nNo spoilers! All comedians remain unknown until the moment they take the stage. But don’t fret\, we carefully curate lineups of 4-7 different comics to create a hilarious and diverse show. The best part is—you never know who might show up! \nYou might discover your next favorite underground comedian or see a fan favorite. We specialize in introducing audiences to the best-emerging talent from cities around the world through a mix of the best local and nationally touring comedians. \n🌟 Unique Live Experience. \nHonestly\, we’re over the whole debt-inducing two-drink minimum thing. We’re dedicated to providing you with a unique and fun live comedy experience—one which doesn’t require you to take out a second mortgage. We thrive on good vibes and welcome you to be a part of the DTC community. \n\nABOUT THE NEW ALBANY EVENT:\n📍 Community Space. \nThis show will be at an indoor location. The precise address is emailed to ticket holders at 8:00 AM on the day of the event. You will also be able to pull the show address at that time using your email address on our website. \n🍻 BYOB. Bring your own drinks. \n🪑 This show will have chairs provided. \n♿︎ This show is wheelchair accessible. \n🎤 21+ show.
URL:https://things-to-lou.com/events/dont-tell-comedy-show-new-albany/
LOCATION:Secret Location
CATEGORIES:Comedy
END:VEVENT
BEGIN:VEVENT
DTSTART;TZID=America/New_York:20260116T213000
DTEND;TZID=America/New_York:20260116T233000
DTSTAMP:20260419T171413
CREATED:20260105T073430Z
LAST-MODIFIED:20260105T073453Z
UID:10003709-1768599000-1768606200@things-to-lou.com
SUMMARY:Bo Johnson | comedy show
DESCRIPTION:Bo Johnson is a comedian from Seattle\, Washington. He can be found headlining clubs\, breweries\, and appropriately sized theaters across the United States and Canada. His stand up has been featured on Netflix Is A Joke Radio\, Kevin Hart Presents: Hart of the City on Comedy Central\, Don’t Tell Comedy Secret Sets\, and LOL Live! at the prestigious Just For Laughs comedy festival in Montreal. \nHe was a finalist in the 39th annual Seattle International Comedy Competition and is a regular at festivals including Bumbershoot\, SF Sketchfest\, the Double Down Comedy Experience sponsored by Zappos\, Life is Beautiful in Las Vegas\, Rifflandia in Victoria BC\, Prizefest\, and Big Pine Comedy Festival in Phoenix. With a growing online audience Bo’s jokes have been viewed millions of times online. \nSeparate from stand up comedy one time Bo and his best friend from high school snuck into a movie theater as one person. That video was broadcast on TV shows like the now cancelled Caught on Camera with Nick Cannon on NBC and lowest rated daytime talk show at the time\, The Meredith Veira Show. Bo still gets messages each year from friends seeing the video go viral on different meme accounts. \nNumerous magazines and newspapers also wrote about the hijinks\, including an article in Cosmopolitan titled\, “Man Sneaks His BFF Into Movie Theater by Stuffing Him Into His Pants.” More recently Bo trained his roommates dog by walking her to Shania Twain’s “Man! I feel like a Woman!” in a viral stunt earning over 7 millions views on Tik Tok and press coverage in both major and incredibly minor publications. \n***description from website
URL:https://things-to-lou.com/events/bo-johnson-comedy-show-2/2026-01-16/2/
LOCATION:Planet Of The Tapes\, 640 Barret Ave\, Louisville\, KY\, 40204\, United States
CATEGORIES:Comedy
END:VEVENT
END:VCALENDAR