BEGIN:VCALENDAR
VERSION:2.0
PRODID:-//Things To Lou - ECPv6.15.20//NONSGML v1.0//EN
CALSCALE:GREGORIAN
METHOD:PUBLISH
X-WR-CALNAME:Things To Lou
X-ORIGINAL-URL:https://things-to-lou.com
X-WR-CALDESC:Events for Things To Lou
REFRESH-INTERVAL;VALUE=DURATION:PT1H
X-Robots-Tag:noindex
X-PUBLISHED-TTL:PT1H
BEGIN:VTIMEZONE
TZID:America/New_York
BEGIN:DAYLIGHT
TZOFFSETFROM:-0500
TZOFFSETTO:-0400
TZNAME:EDT
DTSTART:20250309T070000
END:DAYLIGHT
BEGIN:STANDARD
TZOFFSETFROM:-0400
TZOFFSETTO:-0500
TZNAME:EST
DTSTART:20251102T060000
END:STANDARD
BEGIN:DAYLIGHT
TZOFFSETFROM:-0500
TZOFFSETTO:-0400
TZNAME:EDT
DTSTART:20260308T070000
END:DAYLIGHT
BEGIN:STANDARD
TZOFFSETFROM:-0400
TZOFFSETTO:-0500
TZNAME:EST
DTSTART:20261101T060000
END:STANDARD
BEGIN:DAYLIGHT
TZOFFSETFROM:-0500
TZOFFSETTO:-0400
TZNAME:EDT
DTSTART:20270314T070000
END:DAYLIGHT
BEGIN:STANDARD
TZOFFSETFROM:-0400
TZOFFSETTO:-0500
TZNAME:EST
DTSTART:20271107T060000
END:STANDARD
END:VTIMEZONE
BEGIN:VEVENT
DTSTART;TZID=America/New_York:20260118T190000
DTEND;TZID=America/New_York:20260118T230000
DTSTAMP:20260419T152940
CREATED:20260109T211724Z
LAST-MODIFIED:20260109T211724Z
UID:10003881-1768762800-1768777200@things-to-lou.com
SUMMARY:Good Stand Up Comedy | Dog + Mouse House (7pm & 9pm)
DESCRIPTION:Good Stand Up Comedy for free Sunday 1/18 at Kaiju at 7pm & 9pm with local favorites Mandee Mckelvey\, Lucious Williams\, Dan Alten\, Coasta\, Uncle Randy\, Cory MIller\, and Katelyn Owens. Come have fun. \n#louisvilleky #louisville \n***from IG post
URL:https://things-to-lou.com/events/good-stand-up-comedy-dog-mouse-house-7pm-9pm/
LOCATION:Kaiju\, 1004 E Oak St\, Louisville\, KY\, 40204\, United States
CATEGORIES:Comedy
END:VEVENT
END:VCALENDAR