BEGIN:VCALENDAR
VERSION:2.0
PRODID:-//Things To Lou - ECPv6.15.20//NONSGML v1.0//EN
CALSCALE:GREGORIAN
METHOD:PUBLISH
X-ORIGINAL-URL:https://things-to-lou.com
X-WR-CALDESC:Events for Things To Lou
REFRESH-INTERVAL;VALUE=DURATION:PT1H
X-Robots-Tag:noindex
X-PUBLISHED-TTL:PT1H
BEGIN:VTIMEZONE
TZID:America/New_York
BEGIN:DAYLIGHT
TZOFFSETFROM:-0500
TZOFFSETTO:-0400
TZNAME:EDT
DTSTART:20250309T070000
END:DAYLIGHT
BEGIN:STANDARD
TZOFFSETFROM:-0400
TZOFFSETTO:-0500
TZNAME:EST
DTSTART:20251102T060000
END:STANDARD
BEGIN:DAYLIGHT
TZOFFSETFROM:-0500
TZOFFSETTO:-0400
TZNAME:EDT
DTSTART:20260308T070000
END:DAYLIGHT
BEGIN:STANDARD
TZOFFSETFROM:-0400
TZOFFSETTO:-0500
TZNAME:EST
DTSTART:20261101T060000
END:STANDARD
BEGIN:DAYLIGHT
TZOFFSETFROM:-0500
TZOFFSETTO:-0400
TZNAME:EDT
DTSTART:20270314T070000
END:DAYLIGHT
BEGIN:STANDARD
TZOFFSETFROM:-0400
TZOFFSETTO:-0500
TZNAME:EST
DTSTART:20271107T060000
END:STANDARD
END:VTIMEZONE
BEGIN:VEVENT
DTSTART;TZID=America/New_York:20260123T190000
DTEND;TZID=America/New_York:20260123T210000
DTSTAMP:20260425T093311
CREATED:20260122T033428Z
LAST-MODIFIED:20260122T033428Z
UID:10004070-1769194800-1769202000@things-to-lou.com
SUMMARY:Pauly Shore comedy show
DESCRIPTION:Get Tickets Here
URL:https://things-to-lou.com/events/pauly-shore-comedy-show/2026-01-23/1/
LOCATION:Louisville Comedy Club\, 110 W Main St\, Louisville\, KY\, 40202\, United States
CATEGORIES:Comedy
END:VEVENT
BEGIN:VEVENT
DTSTART;TZID=America/New_York:20260123T213000
DTEND;TZID=America/New_York:20260123T233000
DTSTAMP:20260425T093311
CREATED:20260122T033428Z
LAST-MODIFIED:20260122T033428Z
UID:10004071-1769203800-1769211000@things-to-lou.com
SUMMARY:Pauly Shore comedy show
DESCRIPTION:Get Tickets Here
URL:https://things-to-lou.com/events/pauly-shore-comedy-show/2026-01-23/2/
LOCATION:Louisville Comedy Club\, 110 W Main St\, Louisville\, KY\, 40202\, United States
CATEGORIES:Comedy
END:VEVENT
END:VCALENDAR