BEGIN:VCALENDAR
VERSION:2.0
PRODID:-//Things To Lou - ECPv6.15.20//NONSGML v1.0//EN
CALSCALE:GREGORIAN
METHOD:PUBLISH
X-WR-CALNAME:Things To Lou
X-ORIGINAL-URL:https://things-to-lou.com
X-WR-CALDESC:Events for Things To Lou
REFRESH-INTERVAL;VALUE=DURATION:PT1H
X-Robots-Tag:noindex
X-PUBLISHED-TTL:PT1H
BEGIN:VTIMEZONE
TZID:America/New_York
BEGIN:DAYLIGHT
TZOFFSETFROM:-0500
TZOFFSETTO:-0400
TZNAME:EDT
DTSTART:20250309T070000
END:DAYLIGHT
BEGIN:STANDARD
TZOFFSETFROM:-0400
TZOFFSETTO:-0500
TZNAME:EST
DTSTART:20251102T060000
END:STANDARD
BEGIN:DAYLIGHT
TZOFFSETFROM:-0500
TZOFFSETTO:-0400
TZNAME:EDT
DTSTART:20260308T070000
END:DAYLIGHT
BEGIN:STANDARD
TZOFFSETFROM:-0400
TZOFFSETTO:-0500
TZNAME:EST
DTSTART:20261101T060000
END:STANDARD
BEGIN:DAYLIGHT
TZOFFSETFROM:-0500
TZOFFSETTO:-0400
TZNAME:EDT
DTSTART:20270314T070000
END:DAYLIGHT
BEGIN:STANDARD
TZOFFSETFROM:-0400
TZOFFSETTO:-0500
TZNAME:EST
DTSTART:20271107T060000
END:STANDARD
END:VTIMEZONE
BEGIN:VEVENT
DTSTART;TZID=America/New_York:20260207T190000
DTEND;TZID=America/New_York:20260207T210000
DTSTAMP:20260423T105100
CREATED:20260122T035651Z
LAST-MODIFIED:20260122T035651Z
UID:10004095-1770490800-1770498000@things-to-lou.com
SUMMARY:Noel Miller comedy show
DESCRIPTION:Get Tickets Here \n\nNoel Miller is a beloved touring comedian\, musician\, director\, podcaster & digital megastar. Noel’s biting one-liners and topical social commentary have made him a force to be reckoned with in the comedy world with over 8 million supporters across social platforms in 2023\, Noel’s touring career reached new heights with his ‘Everything is F#&ked’ tour where he performed to sold out rooms of thousands in 76 cities worldwide and filmed his first comedy special Stop Crying\, available on YouTube. By popular demand\, Noel is hitting the road again in 2024 for his ‘Noel Miller Live’ set. \nBeyond comedy\, Noel is co-founder of TMG Studios\, which boasts over 200M+ views/listens across the network and six shows within their orbit\, and co-host of the award-winning podcast\, The Tiny Meat Gang Podcast\, which continuously ranks in Spotify’s Top 10 comedy podcasts. \nNoel’s creativity and brilliant mind is showcased in every facet of his career – including filmmaking\, directing and creative producing. His portfolio includes music videos with over 21 million views\, a dark comedy short film\, Suki\, plus set design and creative producing at TMG Studios. Noel Miller’s talent is unmatched and only just getting started.
URL:https://things-to-lou.com/events/noel-miller-comedy-show/2026-02-07/1/
LOCATION:Louisville Comedy Club\, 110 W Main St\, Louisville\, KY\, 40202\, United States
CATEGORIES:Comedy
END:VEVENT
BEGIN:VEVENT
DTSTART;TZID=America/New_York:20260207T193000
DTEND;TZID=America/New_York:20260207T213000
DTSTAMP:20260423T105100
CREATED:20260105T072832Z
LAST-MODIFIED:20260105T072832Z
UID:10003703-1770492600-1770499800@things-to-lou.com
SUMMARY:Brad Wenzel | comedy show
DESCRIPTION:Brad Wenzel’s offbeat one-liners\, dry delivery\, and unassuming presence are what set him apart from other comedians. Brad has made 3 stand-up appearances on CONAN and more recently performed on Netflix is a Joke Radio as well as Don’t Tell Comedy. \nHis debut comedy album Sweet Nothings was released on Jack White’s rock label\, Third Man Records and can be heard on SiriusXM. Paste Magazine described Brad’s 2023 special\, joke. joke. joke. as “Watching Wenzel feels like hanging out with your funniest\, weirdest friend; it’s relaxing and utterly enjoyable” Paste also listed joke. joke. joke. as one of the 20 best comedy specials of the year. \nSince the age of 17\, Brad has toured the country\, honing his unique non-sequitur style of joke telling\, all while maintaining an original\, comedic voice. Simply put\, he’s really funny. Other appearances include “New Faces” at the Montreal Just For Laughs Festival\, and Bob & Tom. \n***description from website
URL:https://things-to-lou.com/events/brad-wenzel-comedy-show/
LOCATION:Planet Of The Tapes\, 640 Barret Ave\, Louisville\, KY\, 40204\, United States
CATEGORIES:Comedy
END:VEVENT
BEGIN:VEVENT
DTSTART;TZID=America/New_York:20260207T213000
DTEND;TZID=America/New_York:20260207T233000
DTSTAMP:20260423T105100
CREATED:20260122T035651Z
LAST-MODIFIED:20260122T035651Z
UID:10004096-1770499800-1770507000@things-to-lou.com
SUMMARY:Noel Miller comedy show
DESCRIPTION:Get Tickets Here \n\nNoel Miller is a beloved touring comedian\, musician\, director\, podcaster & digital megastar. Noel’s biting one-liners and topical social commentary have made him a force to be reckoned with in the comedy world with over 8 million supporters across social platforms in 2023\, Noel’s touring career reached new heights with his ‘Everything is F#&ked’ tour where he performed to sold out rooms of thousands in 76 cities worldwide and filmed his first comedy special Stop Crying\, available on YouTube. By popular demand\, Noel is hitting the road again in 2024 for his ‘Noel Miller Live’ set. \nBeyond comedy\, Noel is co-founder of TMG Studios\, which boasts over 200M+ views/listens across the network and six shows within their orbit\, and co-host of the award-winning podcast\, The Tiny Meat Gang Podcast\, which continuously ranks in Spotify’s Top 10 comedy podcasts. \nNoel’s creativity and brilliant mind is showcased in every facet of his career – including filmmaking\, directing and creative producing. His portfolio includes music videos with over 21 million views\, a dark comedy short film\, Suki\, plus set design and creative producing at TMG Studios. Noel Miller’s talent is unmatched and only just getting started.
URL:https://things-to-lou.com/events/noel-miller-comedy-show/2026-02-07/2/
LOCATION:Louisville Comedy Club\, 110 W Main St\, Louisville\, KY\, 40202\, United States
CATEGORIES:Comedy
END:VEVENT
END:VCALENDAR