BEGIN:VCALENDAR
VERSION:2.0
PRODID:-//Things To Lou - ECPv6.15.20//NONSGML v1.0//EN
CALSCALE:GREGORIAN
METHOD:PUBLISH
X-WR-CALNAME:Things To Lou
X-ORIGINAL-URL:https://things-to-lou.com
X-WR-CALDESC:Events for Things To Lou
REFRESH-INTERVAL;VALUE=DURATION:PT1H
X-Robots-Tag:noindex
X-PUBLISHED-TTL:PT1H
BEGIN:VTIMEZONE
TZID:America/New_York
BEGIN:DAYLIGHT
TZOFFSETFROM:-0500
TZOFFSETTO:-0400
TZNAME:EDT
DTSTART:20250309T070000
END:DAYLIGHT
BEGIN:STANDARD
TZOFFSETFROM:-0400
TZOFFSETTO:-0500
TZNAME:EST
DTSTART:20251102T060000
END:STANDARD
BEGIN:DAYLIGHT
TZOFFSETFROM:-0500
TZOFFSETTO:-0400
TZNAME:EDT
DTSTART:20260308T070000
END:DAYLIGHT
BEGIN:STANDARD
TZOFFSETFROM:-0400
TZOFFSETTO:-0500
TZNAME:EST
DTSTART:20261101T060000
END:STANDARD
BEGIN:DAYLIGHT
TZOFFSETFROM:-0500
TZOFFSETTO:-0400
TZNAME:EDT
DTSTART:20270314T070000
END:DAYLIGHT
BEGIN:STANDARD
TZOFFSETFROM:-0400
TZOFFSETTO:-0500
TZNAME:EST
DTSTART:20271107T060000
END:STANDARD
END:VTIMEZONE
BEGIN:VEVENT
DTSTART;TZID=America/New_York:20260306T190000
DTEND;TZID=America/New_York:20260306T210000
DTSTAMP:20260423T162546
CREATED:20260122T035918Z
LAST-MODIFIED:20260122T035918Z
UID:10004098-1772823600-1772830800@things-to-lou.com
SUMMARY:Craig Robinson comedy show
DESCRIPTION:Get Tickets Here \n\nBeginning as a stand-up comedian\, Robinson first made his mark in the comedy circuit at the 1998 Montreal “Just For Laughs” Festival. \nNow headlining venues and festivals across the country\, he does both solo acts as well as full-band sets with his band “The Nasty Delicious.” Before deciding to pursue his comedy career full time\, Robinson was a K-8 teacher in the Chicago Public School System. \nHe earned his undergraduate degree from Illinois State University and his Masters of Education from St. Xavier University. It was while Craig was studying education in Chicago that he also discovered his love of acting and comedy when he joined the famed Second City Theatre. \nCraig is best known for his portrayal of Daryl Philban in NBC’s “The Office” but has also starred in such movies as KNOCKED UP\, THIS IS THE END\, HOT TUB TIME MACHINE\, HOT TUB TIME MACHINE 2\, MORRIS FROM AMERICA\, TRAGEDY GIRLS\, DOLEMITE IS MY NAME! with Eddie Murphy\, TIMMY FAILURE\, and MONA LISA AND THE BOOD MOON with Kate Hudson. \nCraig also starred in his very own sitcom\, MR. ROBINSON on NBC\, as well as GHOSTED on FOX.
URL:https://things-to-lou.com/events/craig-robinson-comedy-show/2026-03-06/1/
LOCATION:Louisville Comedy Club\, 110 W Main St\, Louisville\, KY\, 40202\, United States
CATEGORIES:Comedy
END:VEVENT
BEGIN:VEVENT
DTSTART;TZID=America/New_York:20260306T200000
DTEND;TZID=America/New_York:20260306T230000
DTSTAMP:20260423T162546
CREATED:20260109T011550Z
LAST-MODIFIED:20260109T012759Z
UID:10003880-1772827200-1772838000@things-to-lou.com
SUMMARY:"Dont Tell Comedy" Show - Shively
DESCRIPTION:📍 Secret Locations. \nShhh…it’s a surprise. As you can see\, we only advertise the general area or neighborhood for each show. The precise location and other important show details will be sent to you at 8:00 AM the day of the show. If you don’t see it in your inbox you can find the info on show day right here. \n🤫 Secret Comedians. \nNo spoilers! All comedians remain unknown until the moment they take the stage. But don’t fret\, we carefully curate lineups of 4-7 different comics to create a hilarious and diverse show. The best part is—you never know who might show up! \nYou might discover your next favorite underground comedian or see a fan favorite. We specialize in introducing audiences to the best-emerging talent from cities around the world through a mix of the best local and nationally touring comedians. \n🌟 Unique Live Experience. \nHonestly\, we’re over the whole debt-inducing two-drink minimum thing. We’re dedicated to providing you with a unique and fun live comedy experience—one which doesn’t require you to take out a second mortgage. We thrive on good vibes and welcome you to be a part of the DTC community. \n\nABOUT THE SHIVELY SHOW:\n📍 Local Business. This show will be at an indoor location. The precise address is emailed to ticket holders at 8:00 AM on the day of the event. You will also be able to pull the show address at that time using your email address on our website. \n🍻 Alcohol is not permitted and will not be for sale. Non-alcoholic drinks will be available. \n🪑 This show will have chairs provided. \n♿︎ This show is wheelchair accessible. \n🎤 21+ show.
URL:https://things-to-lou.com/events/dont-tell-comedy-show-shively/
LOCATION:Secret Location
CATEGORIES:Comedy
END:VEVENT
BEGIN:VEVENT
DTSTART;TZID=America/New_York:20260306T213000
DTEND;TZID=America/New_York:20260306T233000
DTSTAMP:20260423T162546
CREATED:20260122T035918Z
LAST-MODIFIED:20260122T035918Z
UID:10004099-1772832600-1772839800@things-to-lou.com
SUMMARY:Craig Robinson comedy show
DESCRIPTION:Get Tickets Here \n\nBeginning as a stand-up comedian\, Robinson first made his mark in the comedy circuit at the 1998 Montreal “Just For Laughs” Festival. \nNow headlining venues and festivals across the country\, he does both solo acts as well as full-band sets with his band “The Nasty Delicious.” Before deciding to pursue his comedy career full time\, Robinson was a K-8 teacher in the Chicago Public School System. \nHe earned his undergraduate degree from Illinois State University and his Masters of Education from St. Xavier University. It was while Craig was studying education in Chicago that he also discovered his love of acting and comedy when he joined the famed Second City Theatre. \nCraig is best known for his portrayal of Daryl Philban in NBC’s “The Office” but has also starred in such movies as KNOCKED UP\, THIS IS THE END\, HOT TUB TIME MACHINE\, HOT TUB TIME MACHINE 2\, MORRIS FROM AMERICA\, TRAGEDY GIRLS\, DOLEMITE IS MY NAME! with Eddie Murphy\, TIMMY FAILURE\, and MONA LISA AND THE BOOD MOON with Kate Hudson. \nCraig also starred in his very own sitcom\, MR. ROBINSON on NBC\, as well as GHOSTED on FOX.
URL:https://things-to-lou.com/events/craig-robinson-comedy-show/2026-03-06/2/
LOCATION:Louisville Comedy Club\, 110 W Main St\, Louisville\, KY\, 40202\, United States
CATEGORIES:Comedy
END:VEVENT
END:VCALENDAR