BEGIN:VCALENDAR
VERSION:2.0
PRODID:-//Things To Lou - ECPv6.15.20//NONSGML v1.0//EN
CALSCALE:GREGORIAN
METHOD:PUBLISH
X-ORIGINAL-URL:https://things-to-lou.com
X-WR-CALDESC:Events for Things To Lou
REFRESH-INTERVAL;VALUE=DURATION:PT1H
X-Robots-Tag:noindex
X-PUBLISHED-TTL:PT1H
BEGIN:VTIMEZONE
TZID:America/New_York
BEGIN:DAYLIGHT
TZOFFSETFROM:-0500
TZOFFSETTO:-0400
TZNAME:EDT
DTSTART:20250309T070000
END:DAYLIGHT
BEGIN:STANDARD
TZOFFSETFROM:-0400
TZOFFSETTO:-0500
TZNAME:EST
DTSTART:20251102T060000
END:STANDARD
BEGIN:DAYLIGHT
TZOFFSETFROM:-0500
TZOFFSETTO:-0400
TZNAME:EDT
DTSTART:20260308T070000
END:DAYLIGHT
BEGIN:STANDARD
TZOFFSETFROM:-0400
TZOFFSETTO:-0500
TZNAME:EST
DTSTART:20261101T060000
END:STANDARD
BEGIN:DAYLIGHT
TZOFFSETFROM:-0500
TZOFFSETTO:-0400
TZNAME:EDT
DTSTART:20270314T070000
END:DAYLIGHT
BEGIN:STANDARD
TZOFFSETFROM:-0400
TZOFFSETTO:-0500
TZNAME:EST
DTSTART:20271107T060000
END:STANDARD
END:VTIMEZONE
BEGIN:VEVENT
DTSTART;TZID=America/New_York:20260314T193000
DTEND;TZID=America/New_York:20260314T230000
DTSTAMP:20260419T115817
CREATED:20260311T061423Z
LAST-MODIFIED:20260311T062103Z
UID:10004745-1773516600-1773529200@things-to-lou.com
SUMMARY:Dan Alten comedy show (2 show times) | with Uncool Randy\, Aimee Jewell
DESCRIPTION:Dan Alten is an intelligent goofball from Kentucky who has been traveling the country for the past decade bringing his charming nonsense to everywhere from theaters to punk basements to art galleries to beloved comedy clubs. Doing over 200 shows a year bringing his tight night surreal fun to the people\, like if the Ramones were one guy with a mustache and good jokes. \nHe has opened for Kyle Kinane\, Bobcat\, Sam Tallent\, Rory Scovel\, Sarah Sherman from SNL\, Johnny Pemberton\, Hari Kondabolu\, rapper Open Mike Eagle\, DJ Doug Pound & David Leibe Hart from Tim & Eric\, various punk bands with silly names\, and a guy at an open mic who tried to throw his father’s ashes into the crowd. \nHe has recorded 2 albums\, written a zine\, and filmed a pilot for an Amazon Prime stand up show that was lost to history. But most importantly he’s funny. You will enjoy him. And if not you can mud wrestle him after the show. \n***Description from Planet of the Tapes website \n  \n\nGET TICKETS HERE \n\nFrom Instagram post: \nEverything is incredibly whack and folks are stressed and depressed. I’m no hero\, but I am here to offer you an evening of levity and light in these uncertain times. I promise to bring you a night of non political\, positively spirited laughs. No bullying crowd work. No “pushing buttons”. No “telling it like it is”. Just fun silly surreal clever charming well thought out nonsense delivered by someone trying to make you happy. Let’s all laugh together Louisville. I sincerely hope to see you soon. \n#louisvilleky #louisville
URL:https://things-to-lou.com/events/dan-alten-comedy-show-2-show-times/
LOCATION:Planet Of The Tapes\, 640 Barret Ave\, Louisville\, KY\, 40204\, United States
CATEGORIES:Comedy
ATTACH;FMTTYPE=image/jpeg:https://things-to-lou.com/wp-content/uploads/2026/03/8cbdcf02-2296-4b2b-ae57-b471c0b6a584-e1773209859398.jpg
END:VEVENT
END:VCALENDAR