BEGIN:VCALENDAR
VERSION:2.0
PRODID:-//Things To Lou - ECPv6.15.20//NONSGML v1.0//EN
CALSCALE:GREGORIAN
METHOD:PUBLISH
X-ORIGINAL-URL:https://things-to-lou.com
X-WR-CALDESC:Events for Things To Lou
REFRESH-INTERVAL;VALUE=DURATION:PT1H
X-Robots-Tag:noindex
X-PUBLISHED-TTL:PT1H
BEGIN:VTIMEZONE
TZID:America/New_York
BEGIN:DAYLIGHT
TZOFFSETFROM:-0500
TZOFFSETTO:-0400
TZNAME:EDT
DTSTART:20250309T070000
END:DAYLIGHT
BEGIN:STANDARD
TZOFFSETFROM:-0400
TZOFFSETTO:-0500
TZNAME:EST
DTSTART:20251102T060000
END:STANDARD
BEGIN:DAYLIGHT
TZOFFSETFROM:-0500
TZOFFSETTO:-0400
TZNAME:EDT
DTSTART:20260308T070000
END:DAYLIGHT
BEGIN:STANDARD
TZOFFSETFROM:-0400
TZOFFSETTO:-0500
TZNAME:EST
DTSTART:20261101T060000
END:STANDARD
BEGIN:DAYLIGHT
TZOFFSETFROM:-0500
TZOFFSETTO:-0400
TZNAME:EDT
DTSTART:20270314T070000
END:DAYLIGHT
BEGIN:STANDARD
TZOFFSETFROM:-0400
TZOFFSETTO:-0500
TZNAME:EST
DTSTART:20271107T060000
END:STANDARD
END:VTIMEZONE
BEGIN:VEVENT
DTSTART;TZID=America/New_York:20260502T190000
DTEND;TZID=America/New_York:20260502T210000
DTSTAMP:20260419T110237
CREATED:20260416T035713Z
LAST-MODIFIED:20260416T035713Z
UID:10005020-1777748400-1777755600@things-to-lou.com
SUMMARY:Grace O'Malley comedy show
DESCRIPTION:Grace O’Malley is a NYC-based comedian and podcast host. With nearly 1.5 million followers across social media\, her hilarious\, relatable\, and viral videos have turned her into a fan favorite. \nGrace wasted no time making her mark in stand-up\, touring alongside Whitney Cummings last fall. \nGrace is now headlining her first tour\, The Down For Anything Tour\, which quickly sold out the first month of shows. \nHer new podcast\, “DisGRACEful” for Alex Cooper’s Unwell network launched this year. \n***description from LCC website
URL:https://things-to-lou.com/events/grace-omalley-comedy-show/2026-05-02/1/
LOCATION:Louisville Comedy Club\, 110 W Main St\, Louisville\, KY\, 40202\, United States
CATEGORIES:Comedy
END:VEVENT
BEGIN:VEVENT
DTSTART;TZID=America/New_York:20260502T213000
DTEND;TZID=America/New_York:20260502T233000
DTSTAMP:20260419T110237
CREATED:20260416T035713Z
LAST-MODIFIED:20260416T035713Z
UID:10005021-1777757400-1777764600@things-to-lou.com
SUMMARY:Grace O'Malley comedy show
DESCRIPTION:Grace O’Malley is a NYC-based comedian and podcast host. With nearly 1.5 million followers across social media\, her hilarious\, relatable\, and viral videos have turned her into a fan favorite. \nGrace wasted no time making her mark in stand-up\, touring alongside Whitney Cummings last fall. \nGrace is now headlining her first tour\, The Down For Anything Tour\, which quickly sold out the first month of shows. \nHer new podcast\, “DisGRACEful” for Alex Cooper’s Unwell network launched this year. \n***description from LCC website
URL:https://things-to-lou.com/events/grace-omalley-comedy-show/2026-05-02/2/
LOCATION:Louisville Comedy Club\, 110 W Main St\, Louisville\, KY\, 40202\, United States
CATEGORIES:Comedy
END:VEVENT
END:VCALENDAR