BEGIN:VCALENDAR
VERSION:2.0
PRODID:-//Things To Lou - ECPv6.15.20//NONSGML v1.0//EN
CALSCALE:GREGORIAN
METHOD:PUBLISH
X-ORIGINAL-URL:https://things-to-lou.com
X-WR-CALDESC:Events for Things To Lou
REFRESH-INTERVAL;VALUE=DURATION:PT1H
X-Robots-Tag:noindex
X-PUBLISHED-TTL:PT1H
BEGIN:VTIMEZONE
TZID:America/New_York
BEGIN:DAYLIGHT
TZOFFSETFROM:-0500
TZOFFSETTO:-0400
TZNAME:EDT
DTSTART:20250309T070000
END:DAYLIGHT
BEGIN:STANDARD
TZOFFSETFROM:-0400
TZOFFSETTO:-0500
TZNAME:EST
DTSTART:20251102T060000
END:STANDARD
BEGIN:DAYLIGHT
TZOFFSETFROM:-0500
TZOFFSETTO:-0400
TZNAME:EDT
DTSTART:20260308T070000
END:DAYLIGHT
BEGIN:STANDARD
TZOFFSETFROM:-0400
TZOFFSETTO:-0500
TZNAME:EST
DTSTART:20261101T060000
END:STANDARD
BEGIN:DAYLIGHT
TZOFFSETFROM:-0500
TZOFFSETTO:-0400
TZNAME:EDT
DTSTART:20270314T070000
END:DAYLIGHT
BEGIN:STANDARD
TZOFFSETFROM:-0400
TZOFFSETTO:-0500
TZNAME:EST
DTSTART:20271107T060000
END:STANDARD
END:VTIMEZONE
BEGIN:VEVENT
DTSTART;TZID=America/New_York:20260123T180000
DTEND;TZID=America/New_York:20260123T203000
DTSTAMP:20260423T115802
CREATED:20260102T063939Z
LAST-MODIFIED:20260102T064000Z
UID:10003589-1769191200-1769200200@things-to-lou.com
SUMMARY:4 Course Live Dining Experience & Magic Show with Chef Serge Katz of Flavaville and Magician Richard Darshwood
DESCRIPTION:First Course: 🥗Arugula Salad |raspberry vinaigrette | cucumbers | tomatoes | raspberries | almonds | crispy tortillas \nSecond Course: 🥔Loaded Potato Soup | bacon | chives | cheddar cheese \nThird Course: 🐖Pork Cutlet | lemon capers sauce | asparagus | rice pilaf \nFourth Course: 🍰Banana Foster Cheesecake | banana caramel flambe sauce | nuts | maldon salt \n\n  \nPLEASE NOTE: The last six (6) tickets to sell may be seated at a high-top table\, behind counter seating. \nATTENTION GUESTS: The doors will open for this event at 6:00 pm \nDIETARY CONCERNS: Please notate when you purchase any concerns or accommodations needed or email mesachefs@gmail.com. \nSEATING ACCOMMODATIONS: Please let us know if parties booking separately would like to be seated together. We will try to accommodate when possible \n\nDate & Time \nFri\, Jan 23\n6:00 PM – 8:30 PM EST \nLocation \nMesa\, A Live Dining Show \n216 Pearl Street \nNew Albany\, IN 47150 \nDescription \n🍸 Cocktail Hour: 6:00 pm – 7:00 pm \n🍽️ Dinner: 7:00 pm – 8:30 pm \n 
URL:https://things-to-lou.com/events/4-course-live-dining-experience-magic-show-with-chef-serge-katz-of-flavaville-and-magician-richard-darshwood/
LOCATION:MESA\, A Live Dining Show\, 216 Pearl Street\, New Albany\, IN\, 47150\, United States
CATEGORIES:Culinary Event,Food & Drink,Workshop
ORGANIZER;CN="MESA%2C A Live Dining Show":MAILTO:mesainfo@proton.me
END:VEVENT
END:VCALENDAR