BEGIN:VCALENDAR
VERSION:2.0
PRODID:-//Things To Lou - ECPv6.15.20//NONSGML v1.0//EN
CALSCALE:GREGORIAN
METHOD:PUBLISH
X-ORIGINAL-URL:https://things-to-lou.com
X-WR-CALDESC:Events for Things To Lou
REFRESH-INTERVAL;VALUE=DURATION:PT1H
X-Robots-Tag:noindex
X-PUBLISHED-TTL:PT1H
BEGIN:VTIMEZONE
TZID:America/New_York
BEGIN:DAYLIGHT
TZOFFSETFROM:-0500
TZOFFSETTO:-0400
TZNAME:EDT
DTSTART:20240310T070000
END:DAYLIGHT
BEGIN:STANDARD
TZOFFSETFROM:-0400
TZOFFSETTO:-0500
TZNAME:EST
DTSTART:20241103T060000
END:STANDARD
BEGIN:DAYLIGHT
TZOFFSETFROM:-0500
TZOFFSETTO:-0400
TZNAME:EDT
DTSTART:20250309T070000
END:DAYLIGHT
BEGIN:STANDARD
TZOFFSETFROM:-0400
TZOFFSETTO:-0500
TZNAME:EST
DTSTART:20251102T060000
END:STANDARD
BEGIN:DAYLIGHT
TZOFFSETFROM:-0500
TZOFFSETTO:-0400
TZNAME:EDT
DTSTART:20260308T070000
END:DAYLIGHT
BEGIN:STANDARD
TZOFFSETFROM:-0400
TZOFFSETTO:-0500
TZNAME:EST
DTSTART:20261101T060000
END:STANDARD
END:VTIMEZONE
BEGIN:VEVENT
DTSTART;TZID=America/New_York:20251204T000000
DTEND;TZID=America/New_York:20251207T235959
DTSTAMP:20260425T191547
CREATED:20251114T035134Z
LAST-MODIFIED:20251114T035134Z
UID:10003221-1764806400-1765151999@things-to-lou.com
SUMMARY:Keen Dance Theatre Presents 'The Brown Sugar Dream': A Reimagined Nutcracker with an Urban Twist (multiple shows)
DESCRIPTION:Event Name:\nThe Brown Sugar Dream: A Reimagined Nutcracker with an Urban Twist \nEvent Date:\nDec 4 – 7\, 2025 \nWebsite / Ticket Link:\nhttps://www.eventbrite.com/e/keen-dance-theater-presents-the-brown-sugar-dream-tickets-1965632599017?aff=oddtdtcreator \nLocation:\nRussell Theater \nEvent Host:\nKeen Dance Theater \nEvent Description / Other Info:\nKeen Dance Theatre Presents ‘The Brown Sugar Dream’: A Reimagined Nutcracker with an Urban Twist \nLOUISVILLE\, KY – Keen Dance Theatre is proud to announce its new production\, “The Brown Sugar Dream\,” a creative and urban re-imagining of the classic holiday ballet\, The Nutcracker. \nThis exciting new show is set to debut at The Russell Theater at New Directions this December. \n“The Brown Sugar Dream” takes the timeless story of The Nutcracker and infuses it with a modern\, urban aesthetic\, offering a fresh perspective on the beloved tale. \nThe production promises to be a vibrant and engaging experience for audiences of all ages\, blending traditional dance with contemporary styles. \nPerformance Dates and Times: \n\nWednesday\, December 4th: 7:30 PM\nThursday\, December 5th: 7:30 PM\nFriday\, December 6th: 2:00 PM and 7:30 PM\nSaturday\, December 7th: 4:00 PM\n\nThe show will be held at The Russell Theater at New Directions\, located at 516 S 17th St\, Louisville\, KY 40203 \nTicket information will be announced soon. The show is sponsored by Faith WORKS Performing Arts. \n\nAbout Keen Dance Theatre:\nKeen Dance Theatre\, based in Louisville\, KY\, is known for its storytelling through dance\, blending modern dance with ballet and African influences. \nThe company focuses on creating productions that are more than just movement\, but are narratives drawn from personal experience
URL:https://things-to-lou.com/events/keen-dance-theatre-presents-the-brown-sugar-dream-a-reimagined-nutcracker-with-an-urban-twist-multiple-shows/
LOCATION:The Russell Theater at New Directions\, 516 S 17th St\, Louisville\, KY\, 40203\, United States
CATEGORIES:Dance,Holiday Season,Theatre
ATTACH;FMTTYPE=image/jpeg:https://things-to-lou.com/wp-content/uploads/2025/11/387a8000-27cc-4e8f-9764-18ab96a797b9-e1763092327688.jpeg
END:VEVENT
END:VCALENDAR