BEGIN:VCALENDAR
VERSION:2.0
PRODID:-//Things To Lou - ECPv6.15.20//NONSGML v1.0//EN
CALSCALE:GREGORIAN
METHOD:PUBLISH
X-ORIGINAL-URL:https://things-to-lou.com
X-WR-CALDESC:Events for Things To Lou
REFRESH-INTERVAL;VALUE=DURATION:PT1H
X-Robots-Tag:noindex
X-PUBLISHED-TTL:PT1H
BEGIN:VTIMEZONE
TZID:America/New_York
BEGIN:DAYLIGHT
TZOFFSETFROM:-0500
TZOFFSETTO:-0400
TZNAME:EDT
DTSTART:20240310T070000
END:DAYLIGHT
BEGIN:STANDARD
TZOFFSETFROM:-0400
TZOFFSETTO:-0500
TZNAME:EST
DTSTART:20241103T060000
END:STANDARD
BEGIN:DAYLIGHT
TZOFFSETFROM:-0500
TZOFFSETTO:-0400
TZNAME:EDT
DTSTART:20250309T070000
END:DAYLIGHT
BEGIN:STANDARD
TZOFFSETFROM:-0400
TZOFFSETTO:-0500
TZNAME:EST
DTSTART:20251102T060000
END:STANDARD
BEGIN:DAYLIGHT
TZOFFSETFROM:-0500
TZOFFSETTO:-0400
TZNAME:EDT
DTSTART:20260308T070000
END:DAYLIGHT
BEGIN:STANDARD
TZOFFSETFROM:-0400
TZOFFSETTO:-0500
TZNAME:EST
DTSTART:20261101T060000
END:STANDARD
END:VTIMEZONE
BEGIN:VEVENT
DTSTART;TZID=America/New_York:20251205T200000
DTEND;TZID=America/New_York:20251206T030000
DTSTAMP:20260419T094019
CREATED:20251202T071258Z
LAST-MODIFIED:20251202T071258Z
UID:10003266-1764964800-1764990000@things-to-lou.com
SUMMARY:Nymphia Wind from RuPaul's Drag Race
DESCRIPTION:FRI DEC 5: Drag Race Queen Nymphia Wind ready to PLAY! \nPlay Mates shows @ 9\, 11 & 1. Nymphia performs in the 9 & 11 shows w/ meet & greet in between. \n**Tickets available at the door the night of the event** \n*NOTE* Only those with meet & greet tickets will be granted meet & greet access. \nTickets are General Admission–Standing Room Only. For booth inquiries\, please visit http://www.playdancebarboothrental.com \n**ALL SALES FINAL. No Refunds will be given for this event** \nIt’s PLAY time!\n1101 E. Washington St. Louisville\, KY \nGet tickets \nFacebook Event
URL:https://things-to-lou.com/events/nymphia-wind-from-rupauls-drag-race/
LOCATION:Play Louisville\, 1101 E Washington St\, Louisville\, KY\, 40206\, United States
CATEGORIES:Drag Show / Drag Brunch,Nightlife
END:VEVENT
BEGIN:VEVENT
DTSTART;TZID=America/New_York:20251227T100000
DTEND;TZID=America/New_York:20251227T140000
DTSTAMP:20260419T094019
CREATED:20251212T073335Z
LAST-MODIFIED:20251212T073335Z
UID:10003297-1766829600-1766844000@things-to-lou.com
SUMMARY:Drag the Halls | Holiday Drag Brunch
DESCRIPTION:Event Name:\nDrag the Halls Holiday Drag Brunch \nEvent Date:\n2025-12-27 \nWebsite / Ticket Link:\nhttps://www.opentable.com/booking/experiences-availability?rid=1361749&restref=1361749&experienceId=571370&utm_source=external&utm_medium=referral&utm_campaign=shared \nLocation:\n710 E Jefferson St\, Louisville\, KY 40202 \nEvent Host:\nHigh Stakes Rooftop Grill \nEvent Description / Other Info:\n🎄✨ Drag the Halls: Holiday Drag Brunch at High Stakes Rooftop! ✨🎄 \nSaturday\, December 27th\, 2025 | brunch at 10am | performances start at 11am \nPresented in fabulous partnership with Bread & Butter Wines \nGet ready to sleigh the season at our annual Drag the Halls Holiday Drag Brunch — an over-the-top rooftop celebration filled with glitter\, laughter\, and holiday cheer! Join our dazzling queens as they deck the halls (and the rooftop) with jaw-dropping performances\, festive fun\, and plenty of sparkle. \n🍷 Sip & Savor \n\nSignature House-Made Sangria crafted with Bread & Butter Wines\nBottomless Fresh-Baked Pastries to start your morning right\nClassic American Breakfast featuring fluffy pancakes\, scrambled eggs\, crispy bacon or savory sausage\, breakfast potatoes\, and toast\nIncludes coffee\, tea\, and soda\n\n🍹 Holiday Spirits \n\nKeep the celebration going with our signature Red Bull + Tito’s cocktails and other festive drink specials!\n\n🎁 Good Vibes. Great Views. Gorgeous Queens. \n\nBundle up and brunch in style on the High Stakes rooftop — the perfect setting to toast the holidays with friends\, drag\, and a little extra sparkle.
URL:https://things-to-lou.com/events/drag-the-halls-holiday-drag-brunch/
LOCATION:High Stakes Rooftop Grill\, 710 E Jefferson St\, Louisville\, KY\, 40202\, United States
CATEGORIES:Drag Show / Drag Brunch,Food & Drink,Holiday Season
ATTACH;FMTTYPE=image/png:https://things-to-lou.com/wp-content/uploads/2025/12/screenshot-2025-10-10-at-11.37.01-am-e1765524787993.png
END:VEVENT
END:VCALENDAR