BEGIN:VCALENDAR
VERSION:2.0
PRODID:-//Things To Lou - ECPv6.15.20//NONSGML v1.0//EN
CALSCALE:GREGORIAN
METHOD:PUBLISH
X-WR-CALNAME:Things To Lou
X-ORIGINAL-URL:https://things-to-lou.com
X-WR-CALDESC:Events for Things To Lou
REFRESH-INTERVAL;VALUE=DURATION:PT1H
X-Robots-Tag:noindex
X-PUBLISHED-TTL:PT1H
BEGIN:VTIMEZONE
TZID:America/New_York
BEGIN:DAYLIGHT
TZOFFSETFROM:-0500
TZOFFSETTO:-0400
TZNAME:EDT
DTSTART:20240310T070000
END:DAYLIGHT
BEGIN:STANDARD
TZOFFSETFROM:-0400
TZOFFSETTO:-0500
TZNAME:EST
DTSTART:20241103T060000
END:STANDARD
BEGIN:DAYLIGHT
TZOFFSETFROM:-0500
TZOFFSETTO:-0400
TZNAME:EDT
DTSTART:20250309T070000
END:DAYLIGHT
BEGIN:STANDARD
TZOFFSETFROM:-0400
TZOFFSETTO:-0500
TZNAME:EST
DTSTART:20251102T060000
END:STANDARD
BEGIN:DAYLIGHT
TZOFFSETFROM:-0500
TZOFFSETTO:-0400
TZNAME:EDT
DTSTART:20260308T070000
END:DAYLIGHT
BEGIN:STANDARD
TZOFFSETFROM:-0400
TZOFFSETTO:-0500
TZNAME:EST
DTSTART:20261101T060000
END:STANDARD
END:VTIMEZONE
BEGIN:VEVENT
DTSTART;TZID=America/New_York:20250912T200000
DTEND;TZID=America/New_York:20250913T030000
DTSTAMP:20260419T142036
CREATED:20250910T052320Z
LAST-MODIFIED:20250910T052320Z
UID:10002974-1757707200-1757732400@things-to-lou.com
SUMMARY:Drag Race All Stars - Raven
DESCRIPTION:FRI SEPT 12: The iconic Raven is ready to PLAY in the 9 & 11 shows w/ meet & greet between! \nTix: https://bit.ly/4oBcNbO \n18+ \n  \nFACEBOOK EVENT \nGET TICKETS
URL:https://things-to-lou.com/events/drag-race-all-stars-raven/
LOCATION:Play Louisville\, 1101 E Washington St\, Louisville\, KY\, 40206\, United States
CATEGORIES:Drag Show / Drag Brunch,Nightlife
END:VEVENT
END:VCALENDAR