BEGIN:VCALENDAR
VERSION:2.0
PRODID:-//Things To Lou - ECPv6.15.20//NONSGML v1.0//EN
CALSCALE:GREGORIAN
METHOD:PUBLISH
X-ORIGINAL-URL:https://things-to-lou.com
X-WR-CALDESC:Events for Things To Lou
REFRESH-INTERVAL;VALUE=DURATION:PT1H
X-Robots-Tag:noindex
X-PUBLISHED-TTL:PT1H
BEGIN:VTIMEZONE
TZID:America/New_York
BEGIN:DAYLIGHT
TZOFFSETFROM:-0500
TZOFFSETTO:-0400
TZNAME:EDT
DTSTART:20230312T070000
END:DAYLIGHT
BEGIN:STANDARD
TZOFFSETFROM:-0400
TZOFFSETTO:-0500
TZNAME:EST
DTSTART:20231105T060000
END:STANDARD
BEGIN:DAYLIGHT
TZOFFSETFROM:-0500
TZOFFSETTO:-0400
TZNAME:EDT
DTSTART:20240310T070000
END:DAYLIGHT
BEGIN:STANDARD
TZOFFSETFROM:-0400
TZOFFSETTO:-0500
TZNAME:EST
DTSTART:20241103T060000
END:STANDARD
BEGIN:DAYLIGHT
TZOFFSETFROM:-0500
TZOFFSETTO:-0400
TZNAME:EDT
DTSTART:20250309T070000
END:DAYLIGHT
BEGIN:STANDARD
TZOFFSETFROM:-0400
TZOFFSETTO:-0500
TZNAME:EST
DTSTART:20251102T060000
END:STANDARD
END:VTIMEZONE
BEGIN:VEVENT
DTSTART;TZID=America/New_York:20240615T103000
DTEND;TZID=America/New_York:20240615T143000
DTSTAMP:20260419T194616
CREATED:20240601T025433Z
LAST-MODIFIED:20240601T030316Z
UID:10000256-1718447400-1718461800@things-to-lou.com
SUMMARY:Chappell Roan & Pop Divas Drag Brunch @ Le Moo (10:45 AM & 1:30 PM)
DESCRIPTION:Description from website: \n\nX-Men Drag Brunch\nSaturday\, June 15 – our queens pay tribute to the music of Chappell Roan and more pop divas! \nHosted by Umi Naughty\, more performances from Stevie Dicks\, Sydni Hampton & Zsa Zsa. \n10:45 AM & 1:30 PM Seatings Available. \nMeet & greet with the queens after the show. \nCost per person is $43 plus tax and gratuity (includes brunch buffet & entertainment) \nNote: all parties in each group will be on one check\, plan accordingly!
URL:https://things-to-lou.com/events/chappell-roan-pop-divas-drag-brunch-le-moo-1045-am-130-pm/
LOCATION:Le Moo\, 2300 Lexington Rd\, Louisville\, KY\, 40206\, United States
CATEGORIES:Drag Show / Drag Brunch
ORGANIZER;CN="Le Moo Drag Brunch":MAILTO:anna.schnatter@bellenoble.com
END:VEVENT
BEGIN:VEVENT
DTSTART;TZID=America/New_York:20240609T103000
DTEND;TZID=America/New_York:20240609T143000
DTSTAMP:20260419T194616
CREATED:20240601T024851Z
LAST-MODIFIED:20240601T025439Z
UID:10000254-1717929000-1717943400@things-to-lou.com
SUMMARY:Drag Brunch @ Le Moo (RuPaul's Drag Race All Star Ongina returns!) (10:45 AM & 1:30 PM)
DESCRIPTION:Description from website: \n\nDrag Brunch at Le Moo\nfeaturing: Ongina\, Dusty Ray Bottoms\, Jessica Marie Jones\, Nala Jones\, and Starlette \n10:45 AM & 1:30 PM Seatings Available. \nMeet & greet with the queens after the show. \nCost per person is $43 plus tax and gratuity (includes brunch buffet & entertainment) \nNote: all parties in each group will be on one check\, plan accordingly!
URL:https://things-to-lou.com/events/drag-brunch-le-moo-2/
LOCATION:Le Moo\, 2300 Lexington Rd\, Louisville\, KY\, 40206\, United States
CATEGORIES:Drag Show / Drag Brunch
ORGANIZER;CN="Le Moo Drag Brunch":MAILTO:anna.schnatter@bellenoble.com
END:VEVENT
BEGIN:VEVENT
DTSTART;TZID=America/New_York:20240608T160000
DTEND;TZID=America/New_York:20240608T220000
DTSTAMP:20260419T194616
CREATED:20240607T195543Z
LAST-MODIFIED:20240607T195543Z
UID:10000299-1717862400-1717884000@things-to-lou.com
SUMMARY:Pride Festival & "Dorothy's Riot" beer release w/ Queer Kentucky
DESCRIPTION:Description from Facebook event: \n\nWe’re beyond excited to celebrate our 4th Annual Pride month kick-off party with Queer KY! If you’ve never been\, make plans to be here so you don’t miss out on the party of the year! Here’s a sneak peek of what you can expect: \nNoon – Dorothy’s Riot release (Raspberry Limoncello Sour)\n4:00 – Event begins\n4:30 – Drag Queen Storytime\n5:00 – Live DJ\n7:00 – Drag Show\n9:00 – Louisville Silent Disco
URL:https://things-to-lou.com/events/pride-festival-dorothys-riot-beer-release-w-queer-kentucky/
LOCATION:Mile Wide Beer Co.\, 636 Barret Ave\, Louisville\, KY\, 40204\, United States
CATEGORIES:Beer / Brewery,Drag Show / Drag Brunch
END:VEVENT
BEGIN:VEVENT
DTSTART;TZID=America/New_York:20240608T103000
DTEND;TZID=America/New_York:20240608T143000
DTSTAMP:20260419T194616
CREATED:20240601T025216Z
LAST-MODIFIED:20240601T030326Z
UID:10000255-1717842600-1717857000@things-to-lou.com
SUMMARY:X-Men Drag Brunch @ Le Moo (10:45 AM & 1:30 PM)
DESCRIPTION:Description from website: \n\nX-Men Drag Brunch\n💥 Calling all mutants! \nSaturday\, June 8th – don’t miss our X-Men tribute show! \nHosted by Umi Naughty\, performances by Champagne\, Jade H Callisto\, Stevie Dicks\, Vic Leon & DJ Zsa Zsa! 💥 \n10:45 AM & 1:30 PM Seatings Available. \nMeet & greet with the queens after the show. \nCost per person is $43 plus tax and gratuity (includes brunch buffet & entertainment) \nNote: all parties in each group will be on one check\, plan accordingly!
URL:https://things-to-lou.com/events/x-men-drag-brunch-le-moo-1045-am-130-pm/
LOCATION:Le Moo\, 2300 Lexington Rd\, Louisville\, KY\, 40206\, United States
CATEGORIES:Drag Show / Drag Brunch
ORGANIZER;CN="Le Moo Drag Brunch":MAILTO:anna.schnatter@bellenoble.com
END:VEVENT
BEGIN:VEVENT
DTSTART;TZID=America/New_York:20240602T103000
DTEND;TZID=America/New_York:20240602T143000
DTSTAMP:20260419T194616
CREATED:20240601T024646Z
LAST-MODIFIED:20240601T030307Z
UID:10000253-1717324200-1717338600@things-to-lou.com
SUMMARY:Drag Brunch @ Le Moo (10:45 AM & 1:30 PM)
DESCRIPTION:Description from website: \n\n“Penny Tration Hosts!” Drag Brunch at Le Moo\nfeaturing: Ana Cruisis\, Jayda Mack\, Penny Tration\, and Kora Sline \n10:45 AM & 1:30 PM Seatings Available. \nMeet & greet with the queens after the show. \nCost per person is $43 plus tax and gratuity (includes brunch buffet & entertainment) \nNote: all parties in each group will be on one check\, plan accordingly!
URL:https://things-to-lou.com/events/drag-brunch-le-moo/
LOCATION:Le Moo\, 2300 Lexington Rd\, Louisville\, KY\, 40206\, United States
CATEGORIES:Drag Show / Drag Brunch
ORGANIZER;CN="Le Moo Drag Brunch":MAILTO:anna.schnatter@bellenoble.com
END:VEVENT
BEGIN:VEVENT
DTSTART;TZID=America/New_York:20240601T103000
DTEND;TZID=America/New_York:20240601T143000
DTSTAMP:20260419T194616
CREATED:20240601T024045Z
LAST-MODIFIED:20240601T024045Z
UID:10000252-1717237800-1717252200@things-to-lou.com
SUMMARY:"90's Diva Drag Brunch" @ Le Moo (10:45 AM & 1:30 PM)
DESCRIPTION:Description from website: \n\nDrag Brunch at Le Moo – Madonna\, Mariah & 90s Divas\nMadonna\, Mariah & 90s Divas Drag Brunch at Le Moo\nfeaturing: Anya Androvna\, Jayda Mack\, Champagne\, Umi Naughty\, and Dusty Ray Bottoms \n1045 AM & 1:30 PM Seatings Available. \nMeet & greet with the queens after the show. \nCost per person is $43 plus tax and gratuity (includes brunch buffet & entertainment) \nNote: all parties in each group will be on one check\, plan accordingly!
URL:https://things-to-lou.com/events/90s-diva-drag-brunch-le-moo-1045-am-130-pm/
LOCATION:Le Moo\, 2300 Lexington Rd\, Louisville\, KY\, 40206\, United States
CATEGORIES:Drag Show / Drag Brunch
ORGANIZER;CN="Le Moo Drag Brunch":MAILTO:anna.schnatter@bellenoble.com
END:VEVENT
END:VCALENDAR