BEGIN:VCALENDAR
VERSION:2.0
PRODID:-//Things To Lou - ECPv6.15.20//NONSGML v1.0//EN
CALSCALE:GREGORIAN
METHOD:PUBLISH
X-ORIGINAL-URL:https://things-to-lou.com
X-WR-CALDESC:Events for Things To Lou
REFRESH-INTERVAL;VALUE=DURATION:PT1H
X-Robots-Tag:noindex
X-PUBLISHED-TTL:PT1H
BEGIN:VTIMEZONE
TZID:America/New_York
BEGIN:DAYLIGHT
TZOFFSETFROM:-0500
TZOFFSETTO:-0400
TZNAME:EDT
DTSTART:20250309T070000
END:DAYLIGHT
BEGIN:STANDARD
TZOFFSETFROM:-0400
TZOFFSETTO:-0500
TZNAME:EST
DTSTART:20251102T060000
END:STANDARD
BEGIN:DAYLIGHT
TZOFFSETFROM:-0500
TZOFFSETTO:-0400
TZNAME:EDT
DTSTART:20260308T070000
END:DAYLIGHT
BEGIN:STANDARD
TZOFFSETFROM:-0400
TZOFFSETTO:-0500
TZNAME:EST
DTSTART:20261101T060000
END:STANDARD
BEGIN:DAYLIGHT
TZOFFSETFROM:-0500
TZOFFSETTO:-0400
TZNAME:EDT
DTSTART:20270314T070000
END:DAYLIGHT
BEGIN:STANDARD
TZOFFSETFROM:-0400
TZOFFSETTO:-0500
TZNAME:EST
DTSTART:20271107T060000
END:STANDARD
END:VTIMEZONE
BEGIN:VEVENT
DTSTART;TZID=America/New_York:20260425T113000
DTEND;TZID=America/New_York:20260425T190000
DTSTAMP:20260423T135424
CREATED:20260416T041739Z
LAST-MODIFIED:20260416T041739Z
UID:10005028-1777116600-1777143600@things-to-lou.com
SUMMARY:OPENING DAY | Churchill Downs
DESCRIPTION:Opening Day centers around family-friendly fun for the entire community. \n\nSaturday\, April 25\, 2026 | Gates Open: 11:30 a.m. | First Race: 12:45 p.m. \nKentucky Derby Week begins here. Celebrate the 152nd Kentucky Derby and Kentucky Oaks post-position draws at Churchill Downs Opening Day\, a day to honor old traditions and spark new ones. \nOpening Day kicks things off with exciting racing and family-friendly fun\, live entertainment\, and plenty of room to soak in the springtime buzz. It’s a warm\, spirited\, and inviting start to Derby Week for the whole family to enjoy!
URL:https://things-to-lou.com/events/opening-day-churchill-downs/
LOCATION:Churchill Downs\, 700 Central Ave\, Louisville\, KY\, 40208\, United States
CATEGORIES:Derby,Equestrian,Family & Children,Gambling / Casino
END:VEVENT
BEGIN:VEVENT
DTSTART;TZID=America/New_York:20260429T113000
DTEND;TZID=America/New_York:20260429T180000
DTSTAMP:20260423T135424
CREATED:20260416T041526Z
LAST-MODIFIED:20260416T041526Z
UID:10005027-1777462200-1777485600@things-to-lou.com
SUMMARY:WINSDAY | Great Thrills for the Greater Good
DESCRIPTION:In partnership with the Community Foundation of Louisville\, local nonprofit organizations will be invited to fundraise and highlight the work they do to make Louisville a more vibrant place to live\, work and play. By purchasing Winsday tickets through a registered nonprofit\, guests will directly contribute to these vital agencies\, with a portion of each ticket sale benefiting their incredible work. \nBe a part of something bigger\, support the community\, and enjoy a day at the races! \nBUY WINSDAY TICKETS TO SUPPORT YOUR FAVORITE NONPROFIT\nDirectly connect with your favorite nonprofit to purchase tickets that benefit them or view a list of registered organizations by visiting the Community Foundation of Louisville Winsday Page. For every ticket purchased\, $5 will be donated to your chosen nonprofit. Get involved and make a difference with your purchase! \n\nWINSDAY: Great Thrills for the Greater Good \nPresented by Resolute Racing \nIn Partnership with the Community Foundation of Louisville \nWednesday\, April 29th\, 2026 | Gates Open 11:30 a.m. | First Race 12:45 p.m.
URL:https://things-to-lou.com/events/winsday-great-thrills-for-the-greater-good/
LOCATION:Churchill Downs\, 700 Central Ave\, Louisville\, KY\, 40208\, United States
CATEGORIES:Derby,Equestrian,Gambling / Casino
END:VEVENT
BEGIN:VEVENT
DTSTART;TZID=America/New_York:20260430T103000
DTEND;TZID=America/New_York:20260430T190000
DTSTAMP:20260423T135424
CREATED:20260416T041254Z
LAST-MODIFIED:20260416T041254Z
UID:10005026-1777545000-1777575600@things-to-lou.com
SUMMARY:THURBY | Presented by Old Forester
DESCRIPTION:In partnership with the Frazier Kentucky History Museum\, Churchill Downs will transform into a vibrant display of the state’s rich heritage. Delve into Kentucky’s storied past and lively present with engaging photo ops and experiences that capture the essence of our rich culture. \nA must-attend for history buffs\, music lovers\, and racing enthusiasts alike\, this event encapsulates Kentucky’s spirited music\, deep-rooted traditions\, and vibrant atmosphere. \nJoin us for a day immersed in the true spirit of the Bluegrass State! \nExperience the essence of Kentucky at Thurby’s ‘Cool Kentucky’\, a vibrant celebration of bourbon\, music\, and thoroughbred racing. \n\nThurby x Frazier Kentucky History Museum: Celebrating Cool Kentucky \nThursday\, April 30th\, 2026 | Gates Open: 10:30 a.m. | First Race 12:45 p.m.
URL:https://things-to-lou.com/events/thurby-presented-by-old-forester/
LOCATION:Churchill Downs\, 700 Central Ave\, Louisville\, KY\, 40208\, United States
CATEGORIES:Equestrian,Gambling / Casino
END:VEVENT
BEGIN:VEVENT
DTSTART;TZID=America/New_York:20260501T110000
DTEND;TZID=America/New_York:20260501T210000
DTSTAMP:20260423T135424
CREATED:20260416T041050Z
LAST-MODIFIED:20260416T041050Z
UID:10005025-1777633200-1777669200@things-to-lou.com
SUMMARY:Kentucky Oaks
DESCRIPTION:The Longines Kentucky Oaks\, now celebrating its 152nd running\, is America’s premier race for 3-year-old fillies. Held each year the day before the Kentucky Derby\, the Oaks offers a $1.5 million purse and awards the winner the iconic ‘Lilies for the Fillies’ garland. \nAs one of the longest-running sporting events in U.S. history\, the Oaks is steeped in tradition and meaning. Oaks Day is also a celebration of breast cancer awareness\, with fans embracing the ‘Pink Out’ tradition by wearing shades of pink to honor this meaningful cause. \n\nKENTUCKY OAKS | FRIDAY\, May 1 \nGates Open: 11:00 a.m. ET | First Race: 12:30 p.m. ET
URL:https://things-to-lou.com/events/kentucky-oaks/
LOCATION:Churchill Downs\, 700 Central Ave\, Louisville\, KY\, 40208\, United States
CATEGORIES:Equestrian,Gambling / Casino
END:VEVENT
BEGIN:VEVENT
DTSTART;TZID=America/New_York:20260502T090000
DTEND;TZID=America/New_York:20260502T210000
DTSTAMP:20260423T135424
CREATED:20260416T040852Z
LAST-MODIFIED:20260416T040852Z
UID:10005024-1777712400-1777755600@things-to-lou.com
SUMMARY:Kentucky Derby | The Most Exciting Two Minutes in Sports®
DESCRIPTION:KENTUCKY DERBY: RUN FOR THE ROSES® \nPRESENTED BY WOODFORD RESERVE \n\nSaturday\, May 2\, 2026 | Gates Open: 9 a.m. ET | First Race: 11:00 a.m. ET \n\nNo other entertainment event is as alluring\, captivating\, and thrilling as the Kentucky Derby. Call it what you will—the Run for the Roses®\, the Most Exciting Two Minutes in Sports®\, or America’s Race. This year marks the 152nd running of the Kentucky Derby\, presented by Woodford Reserve\, the first leg of the Triple Crown. \nMore than just a horse race\, it’s a tradition steeped in history and held in the heart of America. It’s a way of life\, representing the hopes and dreams of millions across the globe. \n\nKENTUCKY DERBY | SATURDAY\, MAY 2 \nGates Open: 9 a.m. ET | First Post: 11:00 a.m. ET
URL:https://things-to-lou.com/events/kentucky-derby-the-most-exciting-two-minutes-in-sports/
LOCATION:Churchill Downs\, 700 Central Ave\, Louisville\, KY\, 40208\, United States
CATEGORIES:Equestrian,Gambling / Casino
END:VEVENT
END:VCALENDAR