BEGIN:VCALENDAR
VERSION:2.0
PRODID:-//Things To Lou - ECPv6.15.20//NONSGML v1.0//EN
CALSCALE:GREGORIAN
METHOD:PUBLISH
X-ORIGINAL-URL:https://things-to-lou.com
X-WR-CALDESC:Events for Things To Lou
REFRESH-INTERVAL;VALUE=DURATION:PT1H
X-Robots-Tag:noindex
X-PUBLISHED-TTL:PT1H
BEGIN:VTIMEZONE
TZID:America/New_York
BEGIN:DAYLIGHT
TZOFFSETFROM:-0500
TZOFFSETTO:-0400
TZNAME:EDT
DTSTART:20250309T070000
END:DAYLIGHT
BEGIN:STANDARD
TZOFFSETFROM:-0400
TZOFFSETTO:-0500
TZNAME:EST
DTSTART:20251102T060000
END:STANDARD
BEGIN:DAYLIGHT
TZOFFSETFROM:-0500
TZOFFSETTO:-0400
TZNAME:EDT
DTSTART:20260308T070000
END:DAYLIGHT
BEGIN:STANDARD
TZOFFSETFROM:-0400
TZOFFSETTO:-0500
TZNAME:EST
DTSTART:20261101T060000
END:STANDARD
BEGIN:DAYLIGHT
TZOFFSETFROM:-0500
TZOFFSETTO:-0400
TZNAME:EDT
DTSTART:20270314T070000
END:DAYLIGHT
BEGIN:STANDARD
TZOFFSETFROM:-0400
TZOFFSETTO:-0500
TZNAME:EST
DTSTART:20271107T060000
END:STANDARD
END:VTIMEZONE
BEGIN:VEVENT
DTSTART;TZID=America/New_York:20260123T000000
DTEND;TZID=America/New_York:20260208T235959
DTSTAMP:20260423T165037
CREATED:20260122T033100Z
LAST-MODIFIED:20260206T154351Z
UID:10004069-1769126400-1770595199@things-to-lou.com
SUMMARY:Downtown Hometown Tourist Celebration
DESCRIPTION:Residents of Greater Louisville and Southern Indiana are invited to celebrate their city and visit local tourist spots in their Downtown. \nThe Downtown Hometown Tourist Celebration offers half-off admission at participating Downtown attractions to individuals with a valid Kentucky or Indiana ID\, local college ID\, or military ID. Other venues are offering other discounts during this promotional period. \nWhether it’s visiting a favorite museum\, stopping by one of our local bourbon experiences\, or celebrating what makes our community unique\, our Downtown is packed with experiences that benefit both residents and visitors alike. \n\nCheck out all of the attractions here!
URL:https://things-to-lou.com/events/downtown-hometown-tourist-celebration/
LOCATION:Downtown Louisville
CATEGORIES:Block Party / Community Festival,Bourbon,Entertainment,Experiences,Family & Children,Food & Drink
END:VEVENT
BEGIN:VEVENT
DTSTART;TZID=America/New_York:20260201T140000
DTEND;TZID=America/New_York:20260201T160000
DTSTAMP:20260423T165037
CREATED:20260109T225106Z
LAST-MODIFIED:20260109T225106Z
UID:10003937-1769954400-1769961600@things-to-lou.com
SUMMARY:"The Lightning Thief" The Percy Jackson Musical
DESCRIPTION:When 16-year-old Percy Jackson discovers that he is the half-blood son of the Greek God\, Poseidon\, his life takes a dramatic turn as he is plunged into a world much bigger than he could possibly have imagined. \nAdapted from the best-selling book The Lightning Thief by Rick Riordan and featuring a thrilling original rock score\, The Lightning Thief: The Percy Jackson Musical is an action-packed mythical adventure “worthy of the gods” (Time Out New York). \nStageOne Family Theatre: “The Lightning Thief” The Percy Jackson Musical \nAges: All ages \nRunning Time: Approximately 1 hour \n\nSaturday\, Jan 24\, 2026 2:00 PM\nSaturday\, Jan 24\, 2026 7:30 PM\nSunday\, Jan 25\, 2026 2:00 PM\nSaturday\, Jan 31\, 2026 2:00 PM – Sensory Friendly Performance\nSaturday\, Jan 31\, 2026 7:30 PM\nSunday\, Feb 1\, 2026 2:00 PM\nSaturday\, Feb 7\, 2026 2:00 PM\nSaturday\, Feb 7\, 2026 7:30 PM\nSunday\, Feb 8\, 2026 2:00 PM
URL:https://things-to-lou.com/events/the-lightning-thief-the-percy-jackson-musical/2026-02-01/
LOCATION:Kentucky Performing Arts\, 501 W Main St\, Louisville\, KY\, 40202\, United States
CATEGORIES:Family & Children,Theatre
END:VEVENT
BEGIN:VEVENT
DTSTART;TZID=America/New_York:20260207T140000
DTEND;TZID=America/New_York:20260207T160000
DTSTAMP:20260423T165037
CREATED:20260109T225106Z
LAST-MODIFIED:20260109T225106Z
UID:10003938-1770472800-1770480000@things-to-lou.com
SUMMARY:"The Lightning Thief" The Percy Jackson Musical
DESCRIPTION:When 16-year-old Percy Jackson discovers that he is the half-blood son of the Greek God\, Poseidon\, his life takes a dramatic turn as he is plunged into a world much bigger than he could possibly have imagined. \nAdapted from the best-selling book The Lightning Thief by Rick Riordan and featuring a thrilling original rock score\, The Lightning Thief: The Percy Jackson Musical is an action-packed mythical adventure “worthy of the gods” (Time Out New York). \nStageOne Family Theatre: “The Lightning Thief” The Percy Jackson Musical \nAges: All ages \nRunning Time: Approximately 1 hour \n\nSaturday\, Jan 24\, 2026 2:00 PM\nSaturday\, Jan 24\, 2026 7:30 PM\nSunday\, Jan 25\, 2026 2:00 PM\nSaturday\, Jan 31\, 2026 2:00 PM – Sensory Friendly Performance\nSaturday\, Jan 31\, 2026 7:30 PM\nSunday\, Feb 1\, 2026 2:00 PM\nSaturday\, Feb 7\, 2026 2:00 PM\nSaturday\, Feb 7\, 2026 7:30 PM\nSunday\, Feb 8\, 2026 2:00 PM
URL:https://things-to-lou.com/events/the-lightning-thief-the-percy-jackson-musical/2026-02-07/1/
LOCATION:Kentucky Performing Arts\, 501 W Main St\, Louisville\, KY\, 40202\, United States
CATEGORIES:Family & Children,Theatre
END:VEVENT
BEGIN:VEVENT
DTSTART;TZID=America/New_York:20260207T193000
DTEND;TZID=America/New_York:20260207T213000
DTSTAMP:20260423T165037
CREATED:20260109T225106Z
LAST-MODIFIED:20260109T225106Z
UID:10003939-1770492600-1770499800@things-to-lou.com
SUMMARY:"The Lightning Thief" The Percy Jackson Musical
DESCRIPTION:When 16-year-old Percy Jackson discovers that he is the half-blood son of the Greek God\, Poseidon\, his life takes a dramatic turn as he is plunged into a world much bigger than he could possibly have imagined. \nAdapted from the best-selling book The Lightning Thief by Rick Riordan and featuring a thrilling original rock score\, The Lightning Thief: The Percy Jackson Musical is an action-packed mythical adventure “worthy of the gods” (Time Out New York). \nStageOne Family Theatre: “The Lightning Thief” The Percy Jackson Musical \nAges: All ages \nRunning Time: Approximately 1 hour \n\nSaturday\, Jan 24\, 2026 2:00 PM\nSaturday\, Jan 24\, 2026 7:30 PM\nSunday\, Jan 25\, 2026 2:00 PM\nSaturday\, Jan 31\, 2026 2:00 PM – Sensory Friendly Performance\nSaturday\, Jan 31\, 2026 7:30 PM\nSunday\, Feb 1\, 2026 2:00 PM\nSaturday\, Feb 7\, 2026 2:00 PM\nSaturday\, Feb 7\, 2026 7:30 PM\nSunday\, Feb 8\, 2026 2:00 PM
URL:https://things-to-lou.com/events/the-lightning-thief-the-percy-jackson-musical/2026-02-07/2/
LOCATION:Kentucky Performing Arts\, 501 W Main St\, Louisville\, KY\, 40202\, United States
CATEGORIES:Family & Children,Theatre
END:VEVENT
BEGIN:VEVENT
DTSTART;TZID=America/New_York:20260208T120000
DTEND;TZID=America/New_York:20260208T170000
DTSTAMP:20260423T165037
CREATED:20260108T072417Z
LAST-MODIFIED:20260108T072417Z
UID:10003801-1770552000-1770570000@things-to-lou.com
SUMMARY:Louisville Water Tower | WaterWorks Museum Open Day
DESCRIPTION:Mark your calendars! 📅 \nThe Louisville Water Tower is open the second Sunday of every month for tours throughout 2026\, starting Sunday\, Jan. 11! \nWhether you’re a history enthusiast\, architecture lover\, or looking for a unique educational experience for the family\, we’d love to welcome you to explore Louisville’s iconic landmark. \n#LouisvilleWaterTower #LouisvillePureTap #LouisvilleHistory \n**description from IG post
URL:https://things-to-lou.com/events/louisville-water-tower-waterworks-museum-open-day-7/2026-02-08/
LOCATION:Louisville Water Tower\, 3005 River Rd\, Louisville\, KY\, 40207\, United States
CATEGORIES:Educational,Entertainment,Family & Children,Museum
ATTACH;FMTTYPE=image/jpeg:https://things-to-lou.com/wp-content/uploads/2026/01/IMG_0867-1-e1767857030939.jpg
END:VEVENT
BEGIN:VEVENT
DTSTART;TZID=America/New_York:20260208T140000
DTEND;TZID=America/New_York:20260208T160000
DTSTAMP:20260423T165037
CREATED:20260109T225106Z
LAST-MODIFIED:20260109T225106Z
UID:10003940-1770559200-1770566400@things-to-lou.com
SUMMARY:"The Lightning Thief" The Percy Jackson Musical
DESCRIPTION:When 16-year-old Percy Jackson discovers that he is the half-blood son of the Greek God\, Poseidon\, his life takes a dramatic turn as he is plunged into a world much bigger than he could possibly have imagined. \nAdapted from the best-selling book The Lightning Thief by Rick Riordan and featuring a thrilling original rock score\, The Lightning Thief: The Percy Jackson Musical is an action-packed mythical adventure “worthy of the gods” (Time Out New York). \nStageOne Family Theatre: “The Lightning Thief” The Percy Jackson Musical \nAges: All ages \nRunning Time: Approximately 1 hour \n\nSaturday\, Jan 24\, 2026 2:00 PM\nSaturday\, Jan 24\, 2026 7:30 PM\nSunday\, Jan 25\, 2026 2:00 PM\nSaturday\, Jan 31\, 2026 2:00 PM – Sensory Friendly Performance\nSaturday\, Jan 31\, 2026 7:30 PM\nSunday\, Feb 1\, 2026 2:00 PM\nSaturday\, Feb 7\, 2026 2:00 PM\nSaturday\, Feb 7\, 2026 7:30 PM\nSunday\, Feb 8\, 2026 2:00 PM
URL:https://things-to-lou.com/events/the-lightning-thief-the-percy-jackson-musical/2026-02-08/
LOCATION:Kentucky Performing Arts\, 501 W Main St\, Louisville\, KY\, 40202\, United States
CATEGORIES:Family & Children,Theatre
END:VEVENT
BEGIN:VEVENT
DTSTART;TZID=America/New_York:20260214T100000
DTEND;TZID=America/New_York:20260214T150000
DTSTAMP:20260423T165037
CREATED:20260108T163223Z
LAST-MODIFIED:20260108T164027Z
UID:10003835-1771063200-1771081200@things-to-lou.com
SUMMARY:MakerPlace Workshop: Metal Stamping
DESCRIPTION:Make your mark with the timeless art of metal stamping in this workshop! Using specialized tools\, you’ll engrave personalized designs\, names\, or meaningful symbols onto metal surfaces to create custom jewelry\, keychains\, and keepsakes. \nWhether you’re a beginner or an experienced crafter\, this hands-on workshop lets you transform simple metal into unique\, lasting treasures. Let’s stamp\, create\, and craft something unforgettable! \n\nSaturday\, February 14\, 10AM-12PM\nSaturday\, February 14\, 1-3PM\nSaturday\, February 28\, 10AM-12PM\nSaturday\, February 28\, 1-3PM\n\n$20 members/$35 non-member \nMakerPlace Workshops include general admission to Kentucky Science Center. \nOpen to ages 8+. \nPlease note that one adult is required to attend the workshop for every two children. \n 
URL:https://things-to-lou.com/events/makerplace-workshop-metal-stamping/2026-02-14/
LOCATION:Kentucky Science Center\, 727 W Main Street\, Louisville\, KY\, 40202\, United States
CATEGORIES:Family & Children,Workshop
END:VEVENT
BEGIN:VEVENT
DTSTART;TZID=America/New_York:20260215T123000
DTEND;TZID=America/New_York:20260215T150000
DTSTAMP:20260423T165037
CREATED:20260121T035230Z
LAST-MODIFIED:20260121T035230Z
UID:10004050-1771158600-1771167600@things-to-lou.com
SUMMARY:Lunar New Year | hosted by KBop Cafe
DESCRIPTION:🐉🎉 Ring in the Lunar New Year with us at Logan Street Market! \nJoin us for a day of culture\, community\, food\, and festivities as we welcome the new year together. With lion dance performances by @riverlotusliondance. \nAll are welcome—come celebrate! 🧨🏮 \n#louisvillekpop #LoganStreetMarket #CommunityCelebration #502 #louisville
URL:https://things-to-lou.com/events/lunar-new-year-hosted-by-kbop-cafe/
LOCATION:Logan Street Market\, 1001 Logan Street\, Louisivlle\, KY\, 40204\, United States
CATEGORIES:Art,Dance,Entertainment,Family & Children
END:VEVENT
BEGIN:VEVENT
DTSTART;TZID=America/New_York:20260218T000000
DTEND;TZID=America/New_York:20260218T235959
DTSTAMP:20260423T165037
CREATED:20260204T205309Z
LAST-MODIFIED:20260204T205309Z
UID:10004583-1771372800-1771459199@things-to-lou.com
SUMMARY:CeLOUbrate Print 2026: Community Printmaking Festival
DESCRIPTION:Join us at Louisville’s own Portland Museum for our annual celebration of local printmaking\, featuring hands-on activities\, art exhibitions\, and local art booths. \nAll are welcome at this free\, family-friendly event! \nDuring this event\, we will also print large wooden stamps called “woodcuts\,” by inking them up and driving over them with a steamroller to press them into paper. \nB.Y.O. woodcut to participate in the steamroller printing or visit one of our free pop-up wood-carving workshops leading up to the event to make your own! \nFor details and updates\, visit our website or follow us on Instagram: @CeLOUbratePrint \n\nEvent Date\n2026-04-18 \nWebsite / Ticket Link\nCeLOUbrate Print 2026 \n \nLocation\n2308 Portland Avenue\, Louisville\, KY 40212 \nEvent Host\nPortland Museum
URL:https://things-to-lou.com/events/celoubrate-print-2026-community-printmaking-festival/
LOCATION:Portland Museum\, 2308 Portland Ave\, Louisville\, KY\, 40212\, United States
CATEGORIES:Art,Family & Children,Workshop
ATTACH;FMTTYPE=image/png:https://things-to-lou.com/wp-content/uploads/2026/02/instagram_pinned_3_festival_celoubrateprint2026-e1770234329682.png
END:VEVENT
BEGIN:VEVENT
DTSTART;TZID=America/New_York:20260221T110000
DTEND;TZID=America/New_York:20260221T130000
DTSTAMP:20260423T165037
CREATED:20260105T081955Z
LAST-MODIFIED:20260105T081955Z
UID:10003791-1771671600-1771678800@things-to-lou.com
SUMMARY:"Stuntboy\, In the Meantime" show
DESCRIPTION:Stuntboy\, In the Meantime follows the middle-schooler\, Portico Reeves whose superpower is making sure his parents and best friend\, Zola stays safe. \nHe lives in the biggest apartment building on the block\, a building with fifty doors\, all of which would be swell except for the secret that Portico’s parents are about to divorce. \nAll this stress gives Portico “the frets”\, which his mom calls anxiety. Plus\, like all superheroes\, Portico has an arch-nemesis\, Herbert determined to prove that there is nothing super about Portico at all. Stuntboy\, In the Meantime is based on Jason Reynolds and Raúl the Third’s award-winning graphic novel of the same name. \n***description from website
URL:https://things-to-lou.com/events/stuntboy-in-the-meantime-show/
LOCATION:Kentucky Performing Arts\, 501 W Main St\, Louisville\, KY\, 40202\, United States
CATEGORIES:Family & Children,Theatre
END:VEVENT
BEGIN:VEVENT
DTSTART;TZID=America/New_York:20260221T140000
DTEND;TZID=America/New_York:20260221T160000
DTSTAMP:20260423T165037
CREATED:20260109T231608Z
LAST-MODIFIED:20260112T150013Z
UID:10003953-1771682400-1771689600@things-to-lou.com
SUMMARY:Louisville Men's Basketball vs. Georgia Tech (Senior Day theme & Kids Day theme)
DESCRIPTION:Join us for the University of Louisville Men’s Basketball team as they take on Georgia Tech on February 21st at 2:15 PM! \nSenior Day Red Out | Support the Louisville Men’s Basketball seniors and wear red to commemorate their time in The Ville. \nKids Day | The KFC Yum! Center has been taken over by kids! The youngest members of Card Nation will participate in exclusive activations and experiences. Members of the Junior Louie’s Kids Club have first access to activity registration. Are you a member of the Kids Club? New memberships can be purchased here. \n 
URL:https://things-to-lou.com/events/louisville-mens-basketball-vs-georgia-tech-senior-day-theme-kids-day-theme/
LOCATION:KFC Yum! Center\, 1 Arena Plaza\, Louisville\, KY\, 40202\, United States
CATEGORIES:Family & Children,Sports
END:VEVENT
BEGIN:VEVENT
DTSTART;TZID=America/New_York:20260228T100000
DTEND;TZID=America/New_York:20260228T150000
DTSTAMP:20260423T165037
CREATED:20260108T163223Z
LAST-MODIFIED:20260108T164027Z
UID:10003836-1772272800-1772290800@things-to-lou.com
SUMMARY:MakerPlace Workshop: Metal Stamping
DESCRIPTION:Make your mark with the timeless art of metal stamping in this workshop! Using specialized tools\, you’ll engrave personalized designs\, names\, or meaningful symbols onto metal surfaces to create custom jewelry\, keychains\, and keepsakes. \nWhether you’re a beginner or an experienced crafter\, this hands-on workshop lets you transform simple metal into unique\, lasting treasures. Let’s stamp\, create\, and craft something unforgettable! \n\nSaturday\, February 14\, 10AM-12PM\nSaturday\, February 14\, 1-3PM\nSaturday\, February 28\, 10AM-12PM\nSaturday\, February 28\, 1-3PM\n\n$20 members/$35 non-member \nMakerPlace Workshops include general admission to Kentucky Science Center. \nOpen to ages 8+. \nPlease note that one adult is required to attend the workshop for every two children. \n 
URL:https://things-to-lou.com/events/makerplace-workshop-metal-stamping/2026-02-28/
LOCATION:Kentucky Science Center\, 727 W Main Street\, Louisville\, KY\, 40202\, United States
CATEGORIES:Family & Children,Workshop
END:VEVENT
END:VCALENDAR