BEGIN:VCALENDAR
VERSION:2.0
PRODID:-//Things To Lou - ECPv6.15.20//NONSGML v1.0//EN
CALSCALE:GREGORIAN
METHOD:PUBLISH
X-WR-CALNAME:Things To Lou
X-ORIGINAL-URL:https://things-to-lou.com
X-WR-CALDESC:Events for Things To Lou
REFRESH-INTERVAL;VALUE=DURATION:PT1H
X-Robots-Tag:noindex
X-PUBLISHED-TTL:PT1H
BEGIN:VTIMEZONE
TZID:America/New_York
BEGIN:DAYLIGHT
TZOFFSETFROM:-0500
TZOFFSETTO:-0400
TZNAME:EDT
DTSTART:20240310T070000
END:DAYLIGHT
BEGIN:STANDARD
TZOFFSETFROM:-0400
TZOFFSETTO:-0500
TZNAME:EST
DTSTART:20241103T060000
END:STANDARD
BEGIN:DAYLIGHT
TZOFFSETFROM:-0500
TZOFFSETTO:-0400
TZNAME:EDT
DTSTART:20250309T070000
END:DAYLIGHT
BEGIN:STANDARD
TZOFFSETFROM:-0400
TZOFFSETTO:-0500
TZNAME:EST
DTSTART:20251102T060000
END:STANDARD
BEGIN:DAYLIGHT
TZOFFSETFROM:-0500
TZOFFSETTO:-0400
TZNAME:EDT
DTSTART:20260308T070000
END:DAYLIGHT
BEGIN:STANDARD
TZOFFSETFROM:-0400
TZOFFSETTO:-0500
TZNAME:EST
DTSTART:20261101T060000
END:STANDARD
END:VTIMEZONE
BEGIN:VEVENT
DTSTART;TZID=America/New_York:20250927T000000
DTEND;TZID=America/New_York:20251030T235959
DTSTAMP:20260420T080740
CREATED:20251014T165706Z
LAST-MODIFIED:20251014T165706Z
UID:10003102-1758931200-1761868799@things-to-lou.com
SUMMARY:Boo at the Zoo 2025 (multiple dates) (family-friendly)
DESCRIPTION:Join us for the sweetest party in town! \nBoo at the Zoo features trick-or-treating for kids 11-and-under\, rides\, and special attractions all for one great price. \nLouisville tradition for over 40 years\, this party experience is designed to give you all the merry you love with none of the scary. \nSept. 27–28 &\nOct. 2–5\, 9–12\, 16–19\, 23–26 & 30 \nNightly 5–9 p.m. Exit by 10 p.m.\n*** Allergy Friendly Night – Oct. 22 (details below) *** (limited tickets)\n*** Sensory Friendly Night – Oct. 29 (details below) *** (limited tickets) \n\n\nAllergy Friendly Night  – Wednesday\, Oct. 22\, 2025 (entry 5 – 7:30 p.m.\, exit by 8:30 p.m.)\n\nThis special night features peanut-free treat booths and added non-food treats like stickers\, tattoos\, pencils and more.\n\n\nSensory Friendly Night – Wednesday\, Oct. 29\, 2025 (entry 5 – 6:30 p.m.\, lasts until 8 p.m.)\n\nJoin us for a sensory-friendly trick-or-treating experience with fewer lights\, lower music and smaller crowds. Tickets are very limited\, be sure to purchase early to reserve your spot.\n\n\n\n\nTickets Required \nLouisville Zoo Members – $7.25\nNon-members – $13.75\nAge 2 and Under  -FREE\nMeijer Anytime Tickets- $11.75 AVAILABLE AT PARTICIPATING LOCATIONS \n  \n***description from website
URL:https://things-to-lou.com/events/boo-at-the-zoo-2025-multiple-dates-family-friendly/
LOCATION:Louisville Zoo\, 1100 Trevilian Way\, Louisville\, KY\, 40213\, United States
CATEGORIES:Family & Children
END:VEVENT
BEGIN:VEVENT
DTSTART;TZID=America/New_York:20250929T000000
DTEND;TZID=America/New_York:20251003T235959
DTSTAMP:20260420T080740
CREATED:20250910T033700Z
LAST-MODIFIED:20250910T033700Z
UID:10002957-1759104000-1759535999@things-to-lou.com
SUMMARY:2025 Fall Break Camp: All Tricks\, Some Treats! (multiple dates)
DESCRIPTION:Event Name:\n2025 Fall Break Camp: All Tricks\, Some Treats! \nEvent Date:\nSept 29 – Oct 3 \nWebsite / Ticket Link:\nhttps://www.fraziermuseum.org/calendar/all-tricks-some-treats \nLocation:\nFrazier History Museum\, 829 W. Main St. \nEvent Host:\nFrazier History Museum \nEvent Description / Other Info:\nGrab your top hat and magic wand and pop in a piece of your favorite candy this fall break at the Frazier\, where we’ll be getting into the Halloween spirit with some of our own tricks (and maybe a few) treats! \nDiscover the secrets behind some of the world’s most well-known magic tricks\, create your own illusions\, and learn about a famous clairvoyant born and raised right here in Kentucky. \nWe are so excited to see you! Sign up today for some mystic fun at the Frazier. \nFor any questions\, email education@fraziermuseum.org. \n  \nABOUT THE CAMP \n2025 Fall Break Camp: All Tricks\, Some Treats! \nMonday\, September 29–Friday\, October 3 Frazier History Museum \nDropoff: 8:45–9:30 a.m. \nPickup: 3:30–4 p.m. \nAges: Grades 1–5 Cost: $65/day ($55/day for Members)
URL:https://things-to-lou.com/events/2025-fall-break-camp-all-tricks-some-treats-multiple-dates/
LOCATION:Frazier History Museum\, 829 West Main Street\, Louisville\, 40202\, United States
CATEGORIES:Educational,Family & Children,Museum
END:VEVENT
BEGIN:VEVENT
DTSTART;TZID=America/New_York:20251002T000000
DTEND;TZID=America/New_York:20251102T235959
DTSTAMP:20260420T080740
CREATED:20250912T204521Z
LAST-MODIFIED:20250912T204521Z
UID:10003035-1759363200-1762127999@things-to-lou.com
SUMMARY:Jack O Lantern Spectacular
DESCRIPTION:The 2025 Louisville Jack O’Lantern Spectacular returns for its 13th season at Iroquois Park\, lighting up the night with thousands of intricately carved pumpkins. \nVisitors will journey along an illuminated path filled with themed displays all set to a captivating soundtrack. With family-friendly activities\, seasonal treats\, and plenty of photo opportunities\, it’s the perfect fall tradition for all ages. \nAs the Park Alliance of Louisville’s annual fundraising event\, the Spectacular helps support the city’s public parks and park projects. \nGET TICKETS
URL:https://things-to-lou.com/events/jack-o-lantern-spectacular/
LOCATION:Iroquois Park\, 1080 Amphitheater Rd\, Louisville\, KY\, 40214\, United States
CATEGORIES:Family & Children
END:VEVENT
BEGIN:VEVENT
DTSTART;TZID=America/New_York:20251003T000000
DTEND;TZID=America/New_York:20251005T235959
DTSTAMP:20260420T080740
CREATED:20250910T025255Z
LAST-MODIFIED:20250930T063903Z
UID:10002948-1759449600-1759708799@things-to-lou.com
SUMMARY:Field n’ Folk Weekend
DESCRIPTION:TICKETS ARE LIVE!  🎟️  Field n’ Folk Weekend is happening October 3-5. \nThree completely different days\, one amazing farm weekend: \n🌾 Friday:\n\n\n\n\n\nFoxhollow Forum (5-8pm) – Learn about biodynamic farming while enjoying good food and conversation — event info here\nPanel discussion about Biodynamic Farming with area experts.\nPicnic baskets by Bluegrass Supper Club & a kids craft by Waterfront Botanical Gardens.\n\n\n\n\n\n🍁 Saturday:\n\n\n\n\n\nHarvest Festival (2-8:30pm) – Live music\, local vendors\, and all the farm activities your family can handle — event info here\nConcerts by Frankie Leo\, Queen City Silver Stars\, JJ Band & Chloe Kimes\nFood by Noam Bilitzer\, POCO\, Farm to Fork\, cash bar & more\nShop handmade goods\, enjoy hayrides\, a pumpkin patch & kids crafts by Speed Art Museum.\n\n\n\n\n\n💃 Sunday:\n\n\n\n\n\nSoft Clubbing (10am-noon) – Start your Sunday with morning movement and meadow dancing led by Lindsey — event info here\nEcstatic Dance\nBrunch by FOKO\n\n\n\n\n\nGrab tickets for one day or every day of the weekend. Link in bio. Can’t wait to see you here! \nHuge thanks to our sponsors: Kentucky Fertility Institute\, Dentons\, Baldwin Wealth Partners\, Rogers Group\, Republic Bank\, and MPC for making this weekend possible! \n#LouisvilleEvents \n  \n***description from Instagram post
URL:https://things-to-lou.com/events/field-n-folk-weekend/
LOCATION:Foxhollow Farm\, 8905 Hwy 329\, Crestwood\, KY\, 40014\, United States
CATEGORIES:Exercise,Family & Children,Food & Drink,Shopping,Wellness
ATTACH;FMTTYPE=image/jpeg:https://things-to-lou.com/wp-content/uploads/2025/09/d6a3c957-f3e3-49d1-a716-7dab461e216f-e1759214057521.jpg
END:VEVENT
BEGIN:VEVENT
DTSTART;TZID=America/New_York:20251003T200000
DTEND;TZID=America/New_York:20251003T230000
DTSTAMP:20260420T080740
CREATED:20250515T035352Z
LAST-MODIFIED:20250515T035352Z
UID:10002244-1759521600-1759532400@things-to-lou.com
SUMMARY:"Mean Girls" | Downtown Drive-in Movie Night @ Waterfront Park
DESCRIPTION:Downtown Drive-in at Waterfront Park\n**This event is produced by the Louisville Downtown Partnership** \nLocation: Brown-Forman Amphitheater (1301 River Road) \nWhen: Various Friday nights throughout the summer and fall \nTime: Venue opens at 8 pm and movie begins at sunset \nDescription:\nIn collaboration with Waterfront Park\, Louisville Downtown Partnership is excited to for the return of the outdoor movie night series\, Downtown Drive-Ins\, will transform Waterfront Park’s Brown-Forman Amphitheater into an outdoor theater experience\, offering locals and visitors alike the chance to enjoy free movie screenings in the heart of the city. \nThe series will take place on select Friday nights through October\, with the amphitheater open to the public one hour before sundown when the movies will start. Downtown Drive-Ins will include snacks and beer for purchase from local brewer Ten20 Craft Brewery. Movie-goers are also welcome to bring blankets and lawn chairs to the viewing. \nNo tickets are required for the outdoor film screenings\, but guests are encouraged to arrive early to save their seats. The Downtown Drive-in events are weather dependent. Dogs are allowed. \nFor more information about renting the Downtown CineBus\, please visit louisvilledowntown.org/downtown-cinebus. \nDowntown Drive-in movies:\nMay 16 Perfect Pitch (PG-13)\nJune 6 Happy Gilmore (PG-13)\nJune 20 Fast and Furious (PG-13)\nJuly 11 Pretty in Pink (PG-13)\nAugust 1 Honey\, I Shrunk the Kids (PG)\nAugust 22 Men in Black (PG-13)\nSeptember 19 Moana (PG)\nSeptember 26 Jaws (PG)\nOctober 3 Mean Girls (PG-13)\nOctober 10 Ghostbusters (PG) \n  \n***description from website
URL:https://things-to-lou.com/events/mean-girls-downtown-drive-in-movie-night-waterfront-park/
LOCATION:Waterfront Park\, 129 River Rd\, Louisville\, KY\, 40202\, United States
CATEGORIES:Family & Children,Film / Movies
END:VEVENT
END:VCALENDAR