BEGIN:VCALENDAR
VERSION:2.0
PRODID:-//Things To Lou - ECPv6.15.20//NONSGML v1.0//EN
CALSCALE:GREGORIAN
METHOD:PUBLISH
X-ORIGINAL-URL:https://things-to-lou.com
X-WR-CALDESC:Events for Things To Lou
REFRESH-INTERVAL;VALUE=DURATION:PT1H
X-Robots-Tag:noindex
X-PUBLISHED-TTL:PT1H
BEGIN:VTIMEZONE
TZID:America/New_York
BEGIN:DAYLIGHT
TZOFFSETFROM:-0500
TZOFFSETTO:-0400
TZNAME:EDT
DTSTART:20240310T070000
END:DAYLIGHT
BEGIN:STANDARD
TZOFFSETFROM:-0400
TZOFFSETTO:-0500
TZNAME:EST
DTSTART:20241103T060000
END:STANDARD
BEGIN:DAYLIGHT
TZOFFSETFROM:-0500
TZOFFSETTO:-0400
TZNAME:EDT
DTSTART:20250309T070000
END:DAYLIGHT
BEGIN:STANDARD
TZOFFSETFROM:-0400
TZOFFSETTO:-0500
TZNAME:EST
DTSTART:20251102T060000
END:STANDARD
BEGIN:DAYLIGHT
TZOFFSETFROM:-0500
TZOFFSETTO:-0400
TZNAME:EDT
DTSTART:20260308T070000
END:DAYLIGHT
BEGIN:STANDARD
TZOFFSETFROM:-0400
TZOFFSETTO:-0500
TZNAME:EST
DTSTART:20261101T060000
END:STANDARD
END:VTIMEZONE
BEGIN:VEVENT
DTSTART;TZID=America/New_York:20251002T000000
DTEND;TZID=America/New_York:20251102T235959
DTSTAMP:20260424T113246
CREATED:20250912T204521Z
LAST-MODIFIED:20250912T204521Z
UID:10003035-1759363200-1762127999@things-to-lou.com
SUMMARY:Jack O Lantern Spectacular
DESCRIPTION:The 2025 Louisville Jack O’Lantern Spectacular returns for its 13th season at Iroquois Park\, lighting up the night with thousands of intricately carved pumpkins. \nVisitors will journey along an illuminated path filled with themed displays all set to a captivating soundtrack. With family-friendly activities\, seasonal treats\, and plenty of photo opportunities\, it’s the perfect fall tradition for all ages. \nAs the Park Alliance of Louisville’s annual fundraising event\, the Spectacular helps support the city’s public parks and park projects. \nGET TICKETS
URL:https://things-to-lou.com/events/jack-o-lantern-spectacular/
LOCATION:Iroquois Park\, 1080 Amphitheater Rd\, Louisville\, KY\, 40214\, United States
CATEGORIES:Family & Children
END:VEVENT
BEGIN:VEVENT
DTSTART;TZID=America/New_York:20251101T000000
DTEND;TZID=America/New_York:20251101T235959
DTSTAMP:20260424T113246
CREATED:20251009T030056Z
LAST-MODIFIED:20251009T030056Z
UID:10003070-1761955200-1762041599@things-to-lou.com
SUMMARY:Hop Atomica Fall Festival
DESCRIPTION:Event Name:\nHop Atomica Fall Festival \nEvent Date:\n2025-11-01 \nLocation:\n1318 McHenry St\, Louisville\, KY 40217 \nEvent Host:\nHop Atomica \nEvent Description / Other Info:\nFall fun is brewing at Hop Atomica! 🎃 \nJoin us for our 1st Annual Hop Atomica Fall Festival on Saturday\, November 1st! 🍂 \nWe’re going all out for this one: \n– Petting zoo\n– Dog costume contest (yes\, prizes for the best dressed pups!)\n– Pie eating contest\n– S’mores + caramel apples\n– Arts & crafts + face painting\n– Cornhole tournament\n– Barrel-aged pumpkin ale + fall drink specials\n– Delicious food + local vendors \nIt’s family friendly\, free to attend\, and packed with fall fun! Come celebrate the season Hop Atomica style! 🍺
URL:https://things-to-lou.com/events/hop-atomica-fall-festival/
LOCATION:Hop Atomica\, 1318 McHenry St\, Louisville\, KY\, 40217\, United States
CATEGORIES:Beer / Brewery,Block Party / Community Festival,Family & Children,Food & Drink
ATTACH;FMTTYPE=image/png:https://things-to-lou.com/wp-content/uploads/2025/10/1-e1759978878122.png
END:VEVENT
BEGIN:VEVENT
DTSTART;TZID=America/New_York:20251101T150000
DTEND;TZID=America/New_York:20251101T200000
DTSTAMP:20260424T113246
CREATED:20251018T014859Z
LAST-MODIFIED:20251018T014859Z
UID:10003114-1762009200-1762027200@things-to-lou.com
SUMMARY:Annual Día de los Muertos Festival
DESCRIPTION:The Oldham County History Center will present its festive Annual Día de los Muertos Festival on Saturday\, November 1\, 2025\, from 3:00 p.m. to 8:00 p.m. at the History Center campus\, 106 North 2nd Avenue\, La Grange. \nThis colorful\, family-friendly event is free and open to all. \n\nNovember 1 @ 3:00 pm – 8:00 pm \nOldham County History Center Hosts Annual Día de los Muertos Festival\n  \nDay of the Dead is a time-honored Mexican holiday that celebrates the lives of loved ones who have passed away\, blending remembrance with festive community traditions. The History Center’s event will feature beautiful altars (ofrendas)\, traditional music and dance\, face painting\, a parade\, vendors\, and authentic food offerings. \n  \nGuests are invited to join in a joyful celebration of remembrance\, culture\, music\, and community. \nFestivities include:\n\n3:00pm – Face painting\, live mariachi music\, vendors\, food trucks\, altar displays (ofrendas)\n4:00pm – Community Parade through historic downtown LaGrange\, everyone is welcome to walk and celebrate together. More info below.\n5:30pm – Cultural dance performances and additional music\n6:30pm – La Catrina Contest. (More info below.)\n\n\nDay of the Dead Community Parade at 4:00pm\n  \nThe parade will begin at the Oldham County History Center campus in downtown LaGrange\, at the corner of Main Street and Second Avenue. The parade route will go west down Main Street\, turn right onto 5th Avenue\, right onto West Jefferson Street\, right onto South Walnut Avenue\, right onto Main Street and back to the History Center campus. \nEveryone is welcome to participate and walk in the parade. Respectful Day-of-the-Dead cultural dress and props are encouraged but not required. Vehicles\, horses\, and bikes are not permitted. Strollers are permitted. Registration is not required to walk in the parade. \n\nDay of the Dead La Catrina Contest at 6:30pm\n  \nOne of the most iconic symbols of Día de los Muertos is La Catrina\, a tall\, elegant skeleton figure wearing a long\, elaborate dress and wide-brimmed hat. First popularized by Mexican artist José Guadalupe Posada in the early 1900s\, La Catrina serves as a reminder that death is the great equalizer—regardless of status or wealth\, everyone is a skeleton in the end. Over the years\, La Catrina has become a beloved emblem of the holiday\, blending beauty\, artistry\, and cultural tradition. \nThe Oldham County History Center’s La Catrina Contest invites participants of all ages to embrace this tradition by dressing in creative costumes inspired by La Catrina. Contestants are judged on creativity\, authenticity\, craftsmanship\, and presentation. Prizes will be awarded for first\, second\, and third place in three age categories: Children (under 13)\, Teens (13–18)\, and Adults (19 and up). \nRegistration is required to participate in the contest – sign up here: https://www.eventbrite.com/e/day-of-the-dead-festival-catrina-contest-tickets-1635643215889?aff=oddtdtcreator \n  \n***description from website
URL:https://things-to-lou.com/events/annual-dia-de-los-muertos-festival/
LOCATION:Oldham County History Center\, 106 N 2nd Ave\, La Grange\, KY\, 40031\, United States
CATEGORIES:Block Party / Community Festival,Family & Children,Parades
END:VEVENT
END:VCALENDAR