BEGIN:VCALENDAR
VERSION:2.0
PRODID:-//Things To Lou - ECPv6.15.20//NONSGML v1.0//EN
CALSCALE:GREGORIAN
METHOD:PUBLISH
X-ORIGINAL-URL:https://things-to-lou.com
X-WR-CALDESC:Events for Things To Lou
REFRESH-INTERVAL;VALUE=DURATION:PT1H
X-Robots-Tag:noindex
X-PUBLISHED-TTL:PT1H
BEGIN:VTIMEZONE
TZID:America/New_York
BEGIN:DAYLIGHT
TZOFFSETFROM:-0500
TZOFFSETTO:-0400
TZNAME:EDT
DTSTART:20240310T070000
END:DAYLIGHT
BEGIN:STANDARD
TZOFFSETFROM:-0400
TZOFFSETTO:-0500
TZNAME:EST
DTSTART:20241103T060000
END:STANDARD
BEGIN:DAYLIGHT
TZOFFSETFROM:-0500
TZOFFSETTO:-0400
TZNAME:EDT
DTSTART:20250309T070000
END:DAYLIGHT
BEGIN:STANDARD
TZOFFSETFROM:-0400
TZOFFSETTO:-0500
TZNAME:EST
DTSTART:20251102T060000
END:STANDARD
BEGIN:DAYLIGHT
TZOFFSETFROM:-0500
TZOFFSETTO:-0400
TZNAME:EDT
DTSTART:20260308T070000
END:DAYLIGHT
BEGIN:STANDARD
TZOFFSETFROM:-0400
TZOFFSETTO:-0500
TZNAME:EST
DTSTART:20261101T060000
END:STANDARD
END:VTIMEZONE
BEGIN:VEVENT
DTSTART;TZID=America/New_York:20251108T110000
DTEND;TZID=America/New_York:20251108T150000
DTSTAMP:20260424T113301
CREATED:20251107T015054Z
LAST-MODIFIED:20251107T015054Z
UID:10003155-1762599600-1762614000@things-to-lou.com
SUMMARY:Kentucky Veterans Parade & Celebration
DESCRIPTION:Event Name:\nKentucky Veterans Parade & Celebration \nEvent Date:\n2025-11-08 \nWebsite / Ticket Link:\nhttps://www.kyvetparade.com \nLocation:\n600 – 900 E. Market Street\, Louisville\, KY 40206 \nEvent Host:\nKY Veterans Parade & Celebration \nEvent Description / Other Info:\nThe 2025 Kentucky Veterans Parade and Celebration brings exciting changes and historic milestones as it moves to NuLu on Saturday\, November 8\, from 11 a.m. to 3 p.m. \nThe 15th Anniversary parade celebrate veterans and feature military vehicles that served as early as WWII. Following the parade\, families are invited to Touch a Tank\, a hands-on experience with military vehicles including Jeeps and a tank. \nIt’s a family-friendly event designed to connect generations and celebrate service.
URL:https://things-to-lou.com/events/kentucky-veterans-parade-celebration/
LOCATION:NULU\, 701 E Market St.\, Louisville\, KY\, 40202\, United States
CATEGORIES:Family & Children,Veterans / Military
ATTACH;FMTTYPE=image/jpeg:https://things-to-lou.com/wp-content/uploads/2025/11/486166491_1082421410593258_6522634099533017034_n-e1762484020121.jpg
ORGANIZER;CN="Kentucky Veterans Parade":MAILTO:kyvetparade@gmail.com
END:VEVENT
END:VCALENDAR