BEGIN:VCALENDAR
VERSION:2.0
PRODID:-//Things To Lou - ECPv6.15.20//NONSGML v1.0//EN
CALSCALE:GREGORIAN
METHOD:PUBLISH
X-ORIGINAL-URL:https://things-to-lou.com
X-WR-CALDESC:Events for Things To Lou
REFRESH-INTERVAL;VALUE=DURATION:PT1H
X-Robots-Tag:noindex
X-PUBLISHED-TTL:PT1H
BEGIN:VTIMEZONE
TZID:America/New_York
BEGIN:DAYLIGHT
TZOFFSETFROM:-0500
TZOFFSETTO:-0400
TZNAME:EDT
DTSTART:20240310T070000
END:DAYLIGHT
BEGIN:STANDARD
TZOFFSETFROM:-0400
TZOFFSETTO:-0500
TZNAME:EST
DTSTART:20241103T060000
END:STANDARD
BEGIN:DAYLIGHT
TZOFFSETFROM:-0500
TZOFFSETTO:-0400
TZNAME:EDT
DTSTART:20250309T070000
END:DAYLIGHT
BEGIN:STANDARD
TZOFFSETFROM:-0400
TZOFFSETTO:-0500
TZNAME:EST
DTSTART:20251102T060000
END:STANDARD
BEGIN:DAYLIGHT
TZOFFSETFROM:-0500
TZOFFSETTO:-0400
TZNAME:EDT
DTSTART:20260308T070000
END:DAYLIGHT
BEGIN:STANDARD
TZOFFSETFROM:-0400
TZOFFSETTO:-0500
TZNAME:EST
DTSTART:20261101T060000
END:STANDARD
END:VTIMEZONE
BEGIN:VEVENT
DTSTART;TZID=America/New_York:20251109T120000
DTEND;TZID=America/New_York:20251109T170000
DTSTAMP:20260420T031352
CREATED:20250622T012041Z
LAST-MODIFIED:20250709T055434Z
UID:10002695-1762689600-1762707600@things-to-lou.com
SUMMARY:Louisville Water Tower - WaterWorks Museum Open Day
DESCRIPTION:We are big fans of the Louisville Water Tower — check out our recent video here! \n\nLouisville Water Tower – WaterWorks Museum Open Day \nDiscover the rich history of Louisville’s water system through interactive exhibits\, engaging displays\, and informative tours. \nLearn about the innovative technologies that have shaped our city’s water supply and see how it all works behind the scenes. \n  \nPlease be aware that reserving a free ticket on Eventbrite secures your spot\, but payment is due upon arrival at the museum. \nTicket costs are as follows:\n\nAdults (17+): $5\nSeniors (60+): $4\nYouth (5 -17): $3\nStudent: $3\nMilitary: $3\nChildren (4 -): $0\nPlease note that we only accept credit cards on site.\n\nYour ticket includes the following activities:\n\nWaterWorks Museum (30 minutes – 45 minutes)\n\nLocated in Pumping Station No. 1\, the museum highlights Louisville Water’s considerable archive of historic photographs (some dating back to 1860)\, films and memorabilia.\nThe museum appeals to visitors of all ages\, including children\, with tower-building activities\, a station to dress up like water company employees\, scavenger hunts and much more.\nVisitors will also discover Louisville Water’s groundbreaking research in water science and engineering contributing to safe drinking water methods used throughout the world.\n\n\nGuided Tour (45 minutes – 1 hour)\n\nLearn about the iconic Water Tower and participate in a tour of the grounds on the banks of the Ohio River.\nAlso included in the guided tour is time inside Pumping Station No. 3\, to see a 100-foot-tall restored steam pump\nGuided tours at 1:00pm\, 2:00pm\, 3:00pm and 4:00pm\n\n\n\nLEARN MORE ABOUT THE 2025 CULTURAL PASS
URL:https://things-to-lou.com/events/louisville-water-tower-waterworks-museum-open-day-3/
LOCATION:Louisville Water Tower\, 3005 River Rd\, Louisville\, KY\, 40207\, United States
CATEGORIES:Family & Children,Museum
END:VEVENT
BEGIN:VEVENT
DTSTART;TZID=America/New_York:20251109T120000
DTEND;TZID=America/New_York:20251109T170000
DTSTAMP:20260420T031352
CREATED:20251028T221133Z
LAST-MODIFIED:20251028T221133Z
UID:10003150-1762689600-1762707600@things-to-lou.com
SUMMARY:Middletown Peddlers Mall Holiday Open House
DESCRIPTION:Event Name:\nMiddletown Peddlers Mall Holiday Open House \nEvent Date:\n2025-11-09 \nWebsite / Ticket Link:\nhttps://www.facebook.com/share/16Ce5UpjH2/ \nLocation:\n12405 Shelbyville Rd\, Middletown\, KY\, United States\, Kentucky 40243 \nEvent Host:\nMiddletown Peddlers Mall \nEvent Description / Other Info:\nJoin us for our annual Holiday Open House at the Middletown Peddlers Mall! \n\nJust Piggin’ Out Food Truck\nFoggy Bottom Petting Zoo\nCountry Boy Brewery\nEthan Almighty!\nOutside Vintage Vendors\nPhotos with Santa and Mrs. Claus from 1pm-3pm\nScavenger Hunt\nPrizes\nRefreshments
URL:https://things-to-lou.com/events/middletown-peddlers-mall-holiday-open-house/
LOCATION:Middletown Peddlers Mall\, 12405 Shelbyville Rd\, Louisville\, KY\, 40243\, United States
CATEGORIES:Family & Children,Food & Drink
ATTACH;FMTTYPE=image/png:https://things-to-lou.com/wp-content/uploads/2025/10/mtown-event-e1761689284351.png
END:VEVENT
END:VCALENDAR