BEGIN:VCALENDAR
VERSION:2.0
PRODID:-//Things To Lou - ECPv6.15.20//NONSGML v1.0//EN
CALSCALE:GREGORIAN
METHOD:PUBLISH
X-WR-CALNAME:Things To Lou
X-ORIGINAL-URL:https://things-to-lou.com
X-WR-CALDESC:Events for Things To Lou
REFRESH-INTERVAL;VALUE=DURATION:PT1H
X-Robots-Tag:noindex
X-PUBLISHED-TTL:PT1H
BEGIN:VTIMEZONE
TZID:America/New_York
BEGIN:DAYLIGHT
TZOFFSETFROM:-0500
TZOFFSETTO:-0400
TZNAME:EDT
DTSTART:20240310T070000
END:DAYLIGHT
BEGIN:STANDARD
TZOFFSETFROM:-0400
TZOFFSETTO:-0500
TZNAME:EST
DTSTART:20241103T060000
END:STANDARD
BEGIN:DAYLIGHT
TZOFFSETFROM:-0500
TZOFFSETTO:-0400
TZNAME:EDT
DTSTART:20250309T070000
END:DAYLIGHT
BEGIN:STANDARD
TZOFFSETFROM:-0400
TZOFFSETTO:-0500
TZNAME:EST
DTSTART:20251102T060000
END:STANDARD
BEGIN:DAYLIGHT
TZOFFSETFROM:-0500
TZOFFSETTO:-0400
TZNAME:EDT
DTSTART:20260308T070000
END:DAYLIGHT
BEGIN:STANDARD
TZOFFSETFROM:-0400
TZOFFSETTO:-0500
TZNAME:EST
DTSTART:20261101T060000
END:STANDARD
BEGIN:DAYLIGHT
TZOFFSETFROM:-0500
TZOFFSETTO:-0400
TZNAME:EDT
DTSTART:20270314T070000
END:DAYLIGHT
BEGIN:STANDARD
TZOFFSETFROM:-0400
TZOFFSETTO:-0500
TZNAME:EST
DTSTART:20271107T060000
END:STANDARD
END:VTIMEZONE
BEGIN:VEVENT
DTSTART;TZID=America/New_York:20251122T000000
DTEND;TZID=America/New_York:20260103T235959
DTSTAMP:20260420T030418
CREATED:20251201T111710Z
LAST-MODIFIED:20251207T070845Z
UID:10003241-1763769600-1767484799@things-to-lou.com
SUMMARY:Christmas at Kentucky Kingdom | promo code! | use code THINGTOLOU30 to get discounted tickets
DESCRIPTION:The Largest Christmas Event of Its Kind in Kentucky \nSelect Days: Through January 3 \n\n use code THINGTOLOU30 to get discounted tickets – only $29.99!\nGET TICKETS HERE \n\nCheck out the video of our recent visit to Christmas at Kentucky Kingdom! \n\nWe’re dreaming of a white\, bright and glowing Christmas this season at Kentucky Kingdom\, Louisville’s Family Theme & Water Park! \nGet ready to immerse yourself in the magic of the season among dazzling displays of over 1.5 MILLION lights\, over 300 Christmas trees and holiday décor as far as the eye can see. \n \nTake your experience to new heights on the LARGEST snow tubing hill in Kentucky\, racing down a 175-foot-long hill covered in real snow. Create family memories\, including meeting the Most Famous Reindeer of all and SO much more! \n \nFrom rides and entertainment to larger than life snowy and bright delights\, plan your can’t-miss family holiday tradition during our longest\, brightest\, and jolliest part of the season! This celebration is included with your Daily Admission or Season Pass admission. \nWater rides and select other attractions will not be available during Christmas at Kentucky Kingdom. \n\n\nFour Unique And Immersive Christmas Zones\nOver ONE MILLION Bright Lights\nAn Iconic Christmas Tree With A Dazzling Light Show\nThe LARGEST Snow Tubing Hill in Kentucky\nInteractive Santa Meet & Greet\nUnique Photo Ops Throughout The Park\n\n\n 
URL:https://things-to-lou.com/events/christmas-at-kentucky-kingdom-promo-code/
LOCATION:Kentucky Kingdom and Hurricane Bay\, 937 Phillips Lane\, Louisville\, KY\, 40209\, United States
CATEGORIES:Family & Children,Holiday Season,PROMO CODE
ATTACH;FMTTYPE=image/jpeg:https://things-to-lou.com/wp-content/uploads/2025/12/img_4267-e1764586705414.jpg
END:VEVENT
BEGIN:VEVENT
DTSTART;TZID=America/New_York:20251128T000000
DTEND;TZID=America/New_York:20260104T235959
DTSTAMP:20260420T030418
CREATED:20251201T161019Z
LAST-MODIFIED:20251201T161803Z
UID:10003242-1764288000-1767571199@things-to-lou.com
SUMMARY:Fête de Noël (multiple dates) (“Festival of Christmas”)
DESCRIPTION:Experience the magic of the season at Paristown’s 7th annual Fête De Noël (“Festival of Christmas”) Winter Holiday Festival. \nFÊTE DE NOËL WINTER HOLIDAY FESTIVAL\nPresented by Stock Yards Bank & Trust \nOver six festive weeks\, enjoy Louisville’s only authentic outdoor ice skating rink\, photos with Santa\, the Brent Street Holiday Market\, trackless train rides\, and more. \nEmbrace the spirit of tradition as you skate\, shop\, and celebrate in the heart of Paristown. \n\nCheck out this preview of the festival! \n\nCRYSTAL ICE SKATING RINK​\nThis stunning 100’x50′ outdoor ice skating rink is an authentic sheet of ice featuring festive holiday music\, skate rentals for all ages and concession stand. \nGeneral admission tickets include 60 minutes of ice time and complimentary skate rental. \nPublic skating hours subject to change depending on weather and ice rink conditions. Follow @paristownky on Instagram for up-to-date info and announcements. \nBRENT STREET HOLIDAY MARKET\nNov. 28-30 | Dec. 5-7\nDec. 12-14 | Dec. 19-24 \nFree and open to the public! Returning to Brent Street in Paristown for the holiday season. \nShop dozens of specialty gift ideas from local and regional makers across 20 outdoor pop-up shops lining Brent Street. \nPHOTOS WITH SANTA​​\nGet creative during your own personal photoshoot with Santa himself at his all-new Louisville workshop located on Brent Street. $10 tickets include admission for groups of up to six people. \nKROGER FRESH EXPRESS TRACKLESS TRAIN RIDES\nTake a magical ride around the Paristown Arts District in this fully custom trackless train. \nFOOD & BEVERAGE\nEnjoy festive cocktails and refreshments from the 4 bars\, 5 restaurants\, and Jeff’s Donuts newest Louisville location inside The Village Market Food Hall. \nGrab breakfast\, brunch\, lunch or dinner before or after you hit the ice\, and stroll the Brent Street Holiday Market with hot cocoa or hot cider. \n  \n***description from website \n***more info and schedules on website
URL:https://things-to-lou.com/events/fete-de-noel-multiple-dates-festival-of-christmas/
LOCATION:Paristown Arts District\, 731 Brent Street\, Louisville\, KY\, 40204\, United States
CATEGORIES:Family & Children,Market
ATTACH;FMTTYPE=image/png:https://things-to-lou.com/wp-content/uploads/2025/12/img_4545-e1764605827106.png
END:VEVENT
BEGIN:VEVENT
DTSTART;TZID=America/New_York:20251212T000000
DTEND;TZID=America/New_York:20251214T235959
DTSTAMP:20260420T030418
CREATED:20251107T020140Z
LAST-MODIFIED:20251107T020140Z
UID:10003157-1765497600-1765756799@things-to-lou.com
SUMMARY:The Graham Cracker: A Nutcracker Parody (multiple show times)
DESCRIPTION:Event Name:\nThe Graham Cracker: A Nutcracker Parody \nEvent Date:\nDec 12 – 14\, 2025 \nWebsite / Ticket Link:\nhttps://www.ambodancetheatre.org/event-details/the-graham-cracker-a-nutcracker-parody-1-1 \nLocation:\nUniversity of Louisville Thrust Theatre \nEvent Host:\nAmbo Dance Theatre \nEvent Description / Other Info:\nAmbo Dance Theatre is proud to premiere its FIFTH full-scale run of the The Graham Cracker: A Nutcracker Parody! \nThis comical origin story of the beloved campfire treat\, the s’more\, is family-friendly\, full of ridiculousness and spectacle\, and follows the same story structure of The Nutcracker that you know and love! \nSHOW DATES/TIMES:\nThere will be four showings of The Graham Cracker: \n\nFriday\, December 12th @ 7pm\nSaturday\, December 13th @ 2pm\nSaturday\, December 13th @ 7pm\nSunday\, December 14th @ 2pm\n\nLobby doors open 1 hour before the start of the show. Theatre doors open 30 minutes before the start of the show. All seating is General Admission unless you are a Season Subscriber!
URL:https://things-to-lou.com/events/the-graham-cracker-a-nutcracker-parody-multiple-show-times/
LOCATION:University of Louisville Thrust Theatre\, 2314 S Floyd St\, Louisville\, KY\, 40208\, United States
CATEGORIES:Art,Dance,Family & Children
ATTACH;FMTTYPE=image/png:https://things-to-lou.com/wp-content/uploads/2025/11/graham-cracker-2025-landscape-poster-24-x-18-in-e1762484004105.png
END:VEVENT
BEGIN:VEVENT
DTSTART;TZID=America/New_York:20251214T093000
DTEND;TZID=America/New_York:20251214T140000
DTSTAMP:20260420T030418
CREATED:20251119T183750Z
LAST-MODIFIED:20251119T191849Z
UID:10003226-1765704600-1765720800@things-to-lou.com
SUMMARY:2025 Lights on Main | Free Family Day
DESCRIPTION:Event Name:\n2025 Lights on Main Free Family Day Sponsored by Passport by Molina Healthcare \nEvent Date:\n2025-12-14 \nWebsite / Ticket Link:\nhttps://www.fraziermuseum.org/calendar/lights-on-main-free-family-day-2025 \nLocation:\nFrazier History Museum\, 829 W. Main St. \nEvent Host:\nFrazier History Museum \nEvent Description / Other Info:\nStep into the holiday season at the Frazier History Museum for Lights on Main! \nFrom November 25 to January 4\, the Frazier in partnership with the nonprofit I Would Rather Be Reading is transformed into a winter wonderland with three floors of trees beautifully decorated by local businesses. \nLearn more at fraziermuseum.org/exhibitions/lights-on-main. \n\nABOUT THE PROGRAM\n2025 Lights on Main Free Family Day Sponsored by Passport by Molina Healthcare\nSunday\, December 14\n9:30 a.m.–2 p.m.\nFrazier History Museum \nAdmission: FREE\, thanks to sponsorship by Passport by Molina Healthcare! \n· Note: Please Bring a Non-Perishable Food Item for Community Partners\n∙ Santa Appearance\, 10–11:30 a.m.\n∙ Grinch Appearance\, 12–1:30 p.m.\n· Pose 502 Photobooth\n· Equus Flight Academy Leads Aviation-Themed Crafts\n· Balloon Stylist Tenesha Marshall Creations Sells Books (Balloon Animal Free with Purchase of Book!)\n· Cupcake Decorating with Reach for the Stars Enrichment\n· Hanukkah Activity\n· Kwanzaa Activity with Lessons About Elder Cup & Kinara\, Lamb Tasting\, and Maraca Making\n· Reindeer Plate Craft Activity\n· Christmas Tree Craft\n· Christmas Pickle Craft\n· Lights on Main Christmas Tree Scavenger Hunt
URL:https://things-to-lou.com/events/2025-lights-on-main-free-family-day/
LOCATION:Frazier History Museum\, 829 West Main Street\, Louisville\, 40202\, United States
CATEGORIES:Educational,Family & Children,Food & Drink,Holiday Season
ATTACH;FMTTYPE=image/jpeg:https://things-to-lou.com/wp-content/uploads/2025/11/lights-on-main-2025_-12-14-website-square-e1763576771938.jpg
END:VEVENT
BEGIN:VEVENT
DTSTART;TZID=America/New_York:20251214T113000
DTEND;TZID=America/New_York:20251214T130000
DTSTAMP:20260420T030418
CREATED:20251208T145843Z
LAST-MODIFIED:20251208T180336Z
UID:10003289-1765711800-1765717200@things-to-lou.com
SUMMARY:Holiday Storytime: "Santa Storytime" | family event at Nook & Nowhere
DESCRIPTION:Dearest Community – on this snowy December day\, opportunities for joy and gathering simply abound. \nWhile the smaller humans known as children are always welcome in our space\, we at Nook&Nowhere are pleased and excited to announce our first ever family programming: \n\nStories with Santa this coming Sunday December 14\,\nand a reading of Herschel and the Hannukah Goblins the following Sunday December 21 with Rabbi Freed.\n\nAll folks\, families and children are welcome at both events\, and there is no purchase necessary. These are community celebrations and Mister Santa (sp?) and the Rabbi are eager to be joined by all book lovers. \nShould anyone in our midst see this and think that they\, too\, have traditions or celebrations they would like to share in the coming weeks\, we would be very glad to hear from you and encourage you to send us a message or an email. (I do not fully comprehend this process\, but I was told letters are no longer the done thing and ravens are untamed in this land\, and your messages will find us electronically. \nI was also told\, somewhat ominously\, that there is no escape.) All of this to say\, there are many celebrations this time of year across many faiths\, traditions\, and communities\, but at their heart each and every one is a celebration of light when there is darkness. \nEach stems from a faith that hope can always return. Across time and space\, we are with you in that hope\, and we thank you for sharing your celebrations this season. \nQuite sincerely\,\nMs. Agatha Nestor\nProprietress \n  \n***description from Instagram post \n 
URL:https://things-to-lou.com/events/holiday-storytime-santa-storytime-family-event-at-nook-nowhere/
LOCATION:Nook & Nowhere\, 1149 S SHELBY ST\, Louisville\, KY\, 40203\, United States
CATEGORIES:Family & Children,Literary Event / Book-Signing
ATTACH;FMTTYPE=image/jpeg:https://things-to-lou.com/wp-content/uploads/2025/12/f6cddc3d-8151-4618-86c5-a3e5f971670f-e1765205662879.jpg
END:VEVENT
BEGIN:VEVENT
DTSTART;TZID=America/New_York:20251214T120000
DTEND;TZID=America/New_York:20251214T170000
DTSTAMP:20260420T030418
CREATED:20250622T012034Z
LAST-MODIFIED:20250709T055444Z
UID:10002694-1765713600-1765731600@things-to-lou.com
SUMMARY:Louisville Water Tower - WaterWorks Museum Open Day
DESCRIPTION:We are big fans of the Louisville Water Tower — check out our recent video here! \n\nLouisville Water Tower – WaterWorks Museum Open Day \nDiscover the rich history of Louisville’s water system through interactive exhibits\, engaging displays\, and informative tours. \nLearn about the innovative technologies that have shaped our city’s water supply and see how it all works behind the scenes. \n  \nPlease be aware that reserving a free ticket on Eventbrite secures your spot\, but payment is due upon arrival at the museum. \nTicket costs are as follows:\n\nAdults (17+): $5\nSeniors (60+): $4\nYouth (5 -17): $3\nStudent: $3\nMilitary: $3\nChildren (4 -): $0\nPlease note that we only accept credit cards on site.\n\nYour ticket includes the following activities:\n\nWaterWorks Museum (30 minutes – 45 minutes)\n\nLocated in Pumping Station No. 1\, the museum highlights Louisville Water’s considerable archive of historic photographs (some dating back to 1860)\, films and memorabilia.\nThe museum appeals to visitors of all ages\, including children\, with tower-building activities\, a station to dress up like water company employees\, scavenger hunts and much more.\nVisitors will also discover Louisville Water’s groundbreaking research in water science and engineering contributing to safe drinking water methods used throughout the world.\n\n\nGuided Tour (45 minutes – 1 hour)\n\nLearn about the iconic Water Tower and participate in a tour of the grounds on the banks of the Ohio River.\nAlso included in the guided tour is time inside Pumping Station No. 3\, to see a 100-foot-tall restored steam pump\nGuided tours at 1:00pm\, 2:00pm\, 3:00pm and 4:00pm\n\n\n\nLEARN MORE ABOUT THE 2025 CULTURAL PASS
URL:https://things-to-lou.com/events/louisville-water-tower-waterworks-museum-open-day-2/
LOCATION:Louisville Water Tower\, 3005 River Rd\, Louisville\, KY\, 40207\, United States
CATEGORIES:Family & Children,Museum
END:VEVENT
BEGIN:VEVENT
DTSTART;TZID=America/New_York:20251214T130000
DTEND;TZID=America/New_York:20251214T160000
DTSTAMP:20260420T030418
CREATED:20251212T071303Z
LAST-MODIFIED:20251212T071303Z
UID:10003294-1765717200-1765728000@things-to-lou.com
SUMMARY:The Arrow Fund's HOWLiday Party
DESCRIPTION:Event Name:\nThe Arrow Fund’s HOWLiday Party \nEvent Date:\n2025-12-14 \nWebsite / Ticket Link:\nhttps://www.facebook.com/events/1358959239105214/?rdid=k6oatmVev3sInLYQ&share_url=httpswww.facebook.comshare1G97Wg17xX# \nLocation:\n1000 Envoy Circle\, Louisville\, KY 40299 \nEvent Host:\nThe Arrow Fund \nEvent Description / Other Info:\nCapture your pet’s holiday-themed portrait with Santa\, the Grinch\, or Bumble at The Arrow Fund’s annual HOWLIDAY PARTY on Sunday\, Dec. 14th \nBring your favorite sociable\, healthy pet to capture adorable holiday photos of them with Bumble\, Santa\, or even the Grinch during The Arrow Fund’s annual HOWLIDAY PARTY\, held this year from 1-4 p.m. on Sunday\, December 14th at The Arrow Fund’s offices\, 1100 Envoy Cir. (just off Bunsen Pkwy. and Hurstbourne Parkway). \nHowliday Party highlights will include:\n• Pet portraits with Bumble\, Santa\, and the Grinch\n• “Best Sweet” contest with prizes! Please bring your favorite cookies or hand-held desserts to enter the competition!\n• Locally-made\, fresh dog treats\n• The Arrow Fund t-shirts and stocking-stuffer swag \nAdmission to the Howliday Party is FREE; any-sized donations are appreciated for pet portraits that will be shared via a TAF Facebook album\, and all monies raised through donations and the purchase of pet-themed swag and treats will go to The Arrow Fund and to help support innocent animal victims of abuse and extreme neglect. \nFor more information about the event\, please e-mail events@TheArrowFund.org.
URL:https://things-to-lou.com/events/the-arrow-funds-howliday-party/
LOCATION:The Arrow Fund\, 1000 Envoy Circle\, Louisville\, KY\, 40299\, United States
CATEGORIES:Family & Children,Holiday Season,Pets
ATTACH;FMTTYPE=image/jpeg:https://things-to-lou.com/wp-content/uploads/2025/12/taf-howliday-pawty-december-e1765523597329.jpg
ORGANIZER;CN="The Arrow Fund":MAILTO:info@thearrowfund.org
END:VEVENT
END:VCALENDAR